{"text_format":"1","workbook":"xlsx","n_sheets":6,"sheets":["COVER","LV 1","LV 2","LV 3","LV 4","SINTESI L-V 1234"],"not_rendered":{"charts":17,"images":0,"macros":1,"external_links":0,"defined_names":0,"comments":0,"pivot_tables":0},"unopened":[],"bounds":{"document_bytes":16777216,"sheet_cells":100000,"rows_first":2000,"rows_last":500,"rows_between":2000,"halvings":0,"cell_chars":16384,"cell_head_chars":4096},"cells_cut":0,"cells_raw":0,"read":"whole","date_system":"1900"}

{"sheet":"COVER","index":0,"n_rows":24,"n_cols":8,"rows_kept":24,"cut":false,"hidden":false,"merged":[]}
[]
[]
[]
[]
[]
[]
[]
[null,null,"COMPETIZIONE PREDATORE-PREDA "]
[null,null,"Autore: Hume"]
[]
[]
[]
[]
[]
[null,null,"EQUAZIONI DI LOTKA-VOLTERRA ORIGINALI "]
[]
[]
[]
[]
[]
[]
[]
[]
[null,null,null,null,null,null,null,"Tutti i coefficienti sono > 0"]

{"sheet":"LV 1","index":1,"n_rows":1100,"n_cols":15,"rows_kept":1100,"cut":false,"hidden":false,"merged":[]}
[]
[" ","MODELLO PREDATORE-PREDA DI LOTKA VOLTERRA"]
["neq","to","tf","y0(1)","y0(2)","costa","costb","costc","costd","costk","nstep","imod"]
[2,0,120,20,3.5,0.3,0.09,7.0000000000000001E-3,0.09,null,500,1]
[" "," ",100," "," ",0.2,null,2.0000000000000002E-5,2.5000000000000001E-2,null,100]
[null,null,null,null,null,null,null,null,null,null,null," "]
[null,null,"y2fin","y1fin",null,"xeq","yeq",null,0.43864908449286033]
[null,null,{"$f":"C511","v":16.937846035567517},{"$f":"D511","v":4.0967811560752612},null,{"$f":"I4/H4","v":12.857142857142856},{"$f":"F4/G4","v":3.3333333333333335}]
[]
["n","t","x","y"," ","x = numero prede ( migliaia)",null,null,null," "]
[1,0,20,3.5," ","y = numero predatori ( migliaia)",null,null,null," "]
[2,0.24,19.919088371536358,3.5420210867311819," "," ",null,null,null," "]
[3,0.48,19.820509215484783,3.5840061408403607," "," ",null,null,null," "]
[4,0.72,19.704569099144045,3.6258352606457471," "," "," "," "," "," "]
[5,0.96,19.571670595720533,3.667385686005459," "," "," "," "," "," "]
[6,1.2,19.42230962052901,3.7085325895526173," "," "," "," "," "," "]
[7,1.44,19.257071567844566,3.7491499251929352," "," "," "," "," "," "]
[8,1.68,19.076626297569568,3.7891113223339312," "," "," "," "," "," "]
[9,1.92,18.881722048285727,3.8282910128018286," "," "," "," "," "," "]
[10,2.16,18.673178378947451,3.866564776201483," "," "," "," "," "," "]
[11,2.4,18.451878264455697,3.9038108886429477," "," "," "," "," "," "]
[12,2.6399999999999997,18.218759489749772,3.9399110593379985," "," "," "," "," "," "]
[13,2.88,17.974805502137382,3.9747513395865375," "," "," "," "," "," "]
[14,3.12,17.721035891810825,4.0082229891329275," "," "," "," "," "," "]
[15,3.36,17.458496675551025,4.0402232857631128," "," "," "," "," "," "]
[16,3.5999999999999996,17.188250558417508,4.0706562653030272," "," "," "," "," "," "]
[17,3.84,16.911367342913707,4.099433380818204," "," "," "," "," "," "]
[18,4.08,16.628914645076158,4.1264740717401578," "," "," "," "," "," "]
[19,4.32,16.341949062728734,4.1517062357825774," "," "," "," "," "," "]
[20,4.5599999999999996,16.051507923489336,4.1750665987786197," "," "," "," "," "," "]
[21,4.8,15.758601719844055,4.1965009798862445," "," "," "," "," "," "]
[22,5.04,15.4642073165995,4.2159644518902759," "," "," "," "," "," "]
[23,5.2799999999999994,15.16926199318295,4.2334213985025499," "," "," "," "," "," "]
[24,5.52,14.874658360440389,4.2488454725590525," "," "," "," "," "," "]
[25,5.76,14.581240169565872,4.2622194607814645," "," "," "," "," "," "]
[26,6,14.289799010255132,4.2735350622694135," "," "," "," "," "," "]
[27,6.24,14.001071876656072,4.2827925890926748," "," "," "," "," "," "]
[28,6.4799999999999995,13.715739563591075,4.2900005982473548," "," "," "," "," "," ",null,null," "," "," "]
[29,6.72,13.434425842110334,4.2951754648275475," "," "," "," "," "," ",null,null," "," "," "]
[30,6.96,13.157697352823227,4.298340906556577," "," "," "," "," "," ",null,null," "," "," "]
[31,7.1999999999999993,12.886064147643335,4.2995274698418475," "," "," "," "," "," ",null,null," "," "," "]
[32,7.4399999999999995,12.619980805462001,4.2987719872940708," "," "," "," "," "," ",null,null," "," "," "]
[33,7.68,12.359848044639044,4.2961170162199203," "," "," "," "," "," ",null,null," "," "," "]
[34,7.92,12.106014754806521,4.2916102669946588," "," "," "," "," "," ",null,null," "," "," "]
[35,8.16,11.85878037201862,4.2853040294865234," "," "," "," "," "," ",null,null," "," "," "]
[36,8.4,11.618397524421338,4.2772546048754165," "," "," "," "," "," ",null,null," "," "," "]
[37,8.64,11.385074880028212,4.2675217493201503," "," "," "," "," "," ",null,null," "," "," "]
[38,8.879999999999999,11.158980133550941,4.2561681350134126," "," "," "," "," "," ",null,null," "," "," "]
[39,9.1199999999999992,10.940243075245974,4.243258833249735," "," "," "," "," "," ",null,null," "," "," "]
[40,9.36,10.728958691128494,4.2288608232428473," "," "," "," "," "," ",null,null," "," "," "]
[41,9.6,10.525190250437751,4.2130425295838609," "," "," "," "," "," ",null,null," "," "," "]
[42,9.84,10.328972342713156,4.1958733904453851," "," "," "," "," "," ",null,null," "," "," "]
[43,10.08,10.140313833098006,4.1774234579192653," "," "," "," "," "," ",null,null," "," "," "]
[44,10.32,9.9592007104026106,4.1577630312336753," "," "," "," "," "," ",null,null," "," "," "]
[45,10.559999999999999,9.7855988079400511,4.1369623230320292," "," "," "," "," "," ",null,null," "," "," "]
[46,10.799999999999999,9.6194563821355228,4.1150911584119525," "," "," "," "," "," ",null,null," "," "," "]
[47,11.04,9.4607065383699371,4.0922187060154744," "," "," "," "," "," ",null,null," "," "," "]
[48,11.28,9.3092694974380059,4.0684132401280042," "," "," "," "," "," ",null,null," "," "," "]
[49,11.52,9.1650546993861912,4.0437419324785102," "," "," "," "," "," ",null,null," "," "," "]
[50,11.76,9.0279627443661656,4.0182706722307753," "," "," "," "," "," ",null,null," "," "," "]
[51,12,8.8978871725246904,3.9920639125092299," "," "," "," "," "," ",null,null," "," "," "]
[52,12.24,8.7747160868880822,3.9651845417060478," "," "," "," "," "," ",null,null," "," "," "]
[53,12.48,8.6583336247300338,3.9376937777622847," "," "," "," "," "," ",null,null," "," "," "]
[54,12.719999999999999,8.5486212840791218,3.9096510835984915," "," "," "," "," "," ",null,null," "," "," "]
[55,12.959999999999999,8.4454591128706173,3.8811141018833566," "," "," "," "," "," ",null,null," "," "," "]
[56,13.2,8.3487267688192457,3.8521386073669466," "," "," "," "," "," ",null,null," "," "," "]
[57,13.44,8.2583044584260268,3.8227784750629286," "," "," "," "," "," ",null,null," "," "," "]
[58,13.68,8.1740737636712257,3.7930856626372345," "," "," "," "," "," ",null,null," "," "," "]
[59,13.92,8.0959183649216797,3.7631102054449488," "," "," "," "," "," ",null,null," "," "," "]
[60,14.16,8.0237246684254639,3.7329002227493389," "," "," "," "," "," ",null,null," "," "," "]
[61,14.399999999999999,7.957382346507865,3.7025019337539176," "," "," "," "," "," ",null,null," "," "," "]
[62,14.639999999999999,7.8967847982441013,3.6719596821777851," "," "," "," "," "," ",null,null," "," "," "]
[63,14.879999999999999,7.8418295379870866,3.6413159682041916," "," "," "," "," "," ",null,null," "," "," "]
[64,15.12,7.7924185186904928,3.6106114867306363," "," "," "," "," "," ",null,null," "," "," "]
[65,15.36,7.7484583965032989,3.5798851709446096," "," "," "," "," "," ",null,null," "," "," "]
[66,15.6,7.7098607426341568,3.5491742403412498," "," "," "," "," "," ",null,null," "," "," "]
[67,15.84,7.6765422080022088,3.5185142523870319," "," "," "," "," "," ",null,null," "," "," "]
[68,16.079999999999998,7.648424645713348,3.4879391571165859," "," "," "," "," "," ",null,null," "," "," "]
[69,16.32,7.6254351959334548,3.4574813540275646," "," "," "," "," "," ",null,null," "," "," "]
[70,16.559999999999999,7.6075063372774894,3.4271717507109241," "," "," "," "," "," ",null,null," "," "," "]
[71,16.8,7.5945759083988174,3.3970398227210428," "," "," "," "," "," ",null,null," "," "," "]
[72,17.04,7.5865871030490588,3.3671136742518044," "," "," "," "," "," ",null,null," "," "," "]
[73,17.28,7.5834884414864749,3.3374200992412284," "," "," "," "," "," ",null,null," "," "," "]
[74,17.52,7.5852337207411153,3.3079846425786643," "," "," "," "," "," ",null,null," "," "," "]
[75,17.759999999999998,7.591781945897754,3.2788316611351531," "," "," "," "," "," ",null,null," "," "," "]
[76,18,7.6030972442327061,3.2499843843795917," "," "," "," "," "," ",null,null," "," "," "]
[77,18.239999999999998,7.6191487637372539,3.2214649743810666," "," "," "," "," "," ",null,null," "," "," "]
[78,18.48,7.6399105572777266,3.1932945850314298," "," "," "," "," "," ",null,null," "," "," "]
[79,18.72,7.6653614533791279,3.1654934203521687," "," "," "," "," "," ",null,null," "," "," "]
[80,18.96,7.6954849143744575,3.1380807917761304," "," "," "," "," "," ",null,null," "," "," "]
[81,19.2,7.7302688824341974,3.1110751743179939," "," "," "," "," "," ",null,null," "," "," "]
[82,19.439999999999998,7.7697056137786209,3.0844942615677646," "," "," "," "," "," ",null,null," "," "," "]
[83,19.68,7.8137915011783576,3.058355019459273," "," "," "," "," "," ",null,null," "," "," "]
[84,19.919999999999998,7.8625268846648071,3.0326737387808893," "," "," "," "," "," ",null,null," "," "," "]
[85,20.16,7.9159158502004701,3.0074660864086531," "," "," "," "," "," ",null,null," "," "," "]
[86,20.399999999999999,7.9739660158989762,2.9827471552529286," "," "," "," "," "," ",null,null," "," "," "]
[87,20.64,8.0366883052346623,2.9585315129187362," "," "," "," "," "," ",null,null," "," "," "]
[88,20.88,8.104096706541208,2.9348332490871973," "," "," "," "," "," ",null,null," "," "," "]
[89,21.119999999999997,8.176208017967415,2.9116660216312393," "," "," "," "," "," ",null,null," "," "," "]
[90,21.36,8.2530415769351979,2.8890431014829332," "," "," "," "," "," ",null,null," "," "," "]
[91,21.599999999999998,8.3346189730299898,2.8669774162726891," "," "," "," "," "," ",null,null," "," "," "]
[92,21.84,8.4209637431467641,2.8454815927621078," "," "," "," "," "," ",null,null," "," "," "]
[93,22.08,8.5121010476158432,2.824567998092637," "," "," "," "," "," ",null,null," "," "," "]
[94,22.32,8.6080573259417914,2.8042487798713842," "," "," "," "," "," ",null,null," "," "," "]
[95,22.56,8.7088599307063195,2.7845359051134984," "," "," "," "," "," ",null,null," "," "," "]
[96,22.8,8.8145367381129773,2.7654411980575273," "," "," "," "," "," ",null,null," "," "," "]
[97,23.04,8.9251157335882318,2.746976376866038," "," "," "," "," "," ",null,null," "," "," "]
[98,23.279999999999998,9.0406245708014605,2.7291530892186038," "," "," "," "," "," ",null,null," "," "," "]
[99,23.52,9.1610901024268081,2.7119829467979675," "," "," "," "," "," ",null,null," "," "," "]
[100,23.759999999999998,9.2865378809442749,2.6954775586627644," "," "," "," "," "," ",null,null," "," "," "]
[101,24,9.4169916277678354,2.6796485634915999," "," "," "," "," "," ",null,null," "," "," "]
[102,24.24,9.5524726689970088,2.6645076606734692," "," "," "," "," "," ",null,null," "," "," "]
[103,24.48,9.6929993361175839,2.6500666402084097," "," "," "," "," "," ",null,null," "," "," "]
[104,24.72,9.8385863300301324,2.6363374113698383," "," "," "," "," "," ",null,null," "," "," "]
[105,24.96,9.9892440468646182,2.6233320300661553," "," "," "," "," "," ",null,null," "," "," "]
[106,25.2,10.144977864149514,2.6110627248237996," "," "," "," "," "," ",null,null," "," "," "]
[107,25.439999999999998,10.305787386048245,2.5995419212969426," "," "," "," "," "," ",null,null," "," "," "]
[108,25.68,10.471665646558861,2.5887822651903054," "," "," "," "," "," ",null,null," "," "," "]
[109,25.919999999999998,10.642598269799295,2.5787966434610587," "," "," "," "," "," ",null,null," "," "," "]
[110,26.16,10.8185625867754,2.5695982036433676," "," "," "," "," "," ",null,null," "," "," "]
[111,26.4,10.999526708357658,2.5612003711147238," "," "," "," "," "," ",null,null," "," "," "]
[112,26.64,11.185448554580596,2.5536168640967367," "," "," "," "," "," ",null,null," "," "," "]
[113,26.88,11.376274840832588,2.546861706154429," "," "," "," "," "," ",null,null," "," "," "]
[114,27.119999999999997,11.571940022028922,2.5409492359272745," "," "," "," "," "," ",null,null," "," "," "]
[115,27.36,11.772365196463989,2.535894113792204," "," "," "," "," "," ",null,null," "," "," "]
[116,27.599999999999998,11.97745697172542,2.5317113251236014," "," "," "," "," "," ",null,null," "," "," "]
[117,27.84,12.187106295829929,2.5284161797780023," "," "," "," "," "," ",null,null," "," "," "]
[118,28.08,12.401187257613083,2.5260243073918915," "," "," "," "," "," ",null,null," "," "," "]
[119,28.32,12.619555861378338,2.5245516480399135," "," "," "," "," "," ",null,null," "," "," "]
[120,28.56,12.842048781888458,2.5240144377582001," "," "," "," "," "," ",null,null," "," "," "]
[121,28.799999999999997,13.068482106967904,2.5244291883938303," "," "," "," "," "," ",null,null," "," "," "]
[122,29.04,13.29865007627915,2.5258126611971599," "," "," "," "," "," ",null,null," "," "," "]
[123,29.279999999999998,13.532323826238622,2.5281818335295543," "," "," "," "," "," ",null,null," "," "," "]
[124,29.52,13.769250152545675,2.5315538580158132," "," "," "," "," "," ",null,null," "," "," "]
[125,29.759999999999998,14.009150303404521,2.5359460134292484," "," "," "," "," "," ",null,null," "," "," "]
[126,30,14.251718818214247,2.5413756465592963," "," "," "," "," "," ",null,null," "," "," "]
[127,30.24,14.496622428271632,2.5478601042781444," "," "," "," "," "," ",null,null," "," "," "]
[128,30.48,14.743499037855948,2.5554166549959141," "," "," "," "," "," ",null,null," "," "," "]
[129,30.72,14.991956805919052,2.5640623986755084," "," "," "," "," "," ",null,null," "," "," "]
[130,30.959999999999997,15.241573350456042,2.573814164570646," "," "," "," "," "," ",null,null," "," "," "]
[131,31.2,15.491895099442539,2.5846883958565128," "," "," "," "," "," ",null,null," "," "," "]
[132,31.439999999999998,15.742436813947499,2.5967010203448386," "," "," "," "," "," ",null,null," "," "," "]
[133,31.68,15.992681310609877,2.6098673065173115," "," "," "," "," "," ",null,null," "," "," "]
[134,31.919999999999998,16.242079412039903,2.6242017041765999," "," "," "," "," "," ",null,null," "," "," "]
[135,32.159999999999997,16.490050154798173,2.6397176691066186," "," "," "," "," "," ",null,null," "," "," "]
[136,32.4,16.73598128533725,2.6564274712569476," "," "," "," "," "," ",null,null," "," "," "]
[137,32.64,16.979230074571991,2.6743419861244235," "," "," "," "," "," ",null,null," "," "," "]
[138,32.879999999999995,17.219124481480758,2.6934704692017508," "," "," "," "," "," ",null,null," "," "," "]
[139,33.119999999999997,17.454964695229592,2.7138203136020809," "," "," "," "," "," ",null,null," "," "," "]
[140,33.36,17.686025083652851,2.7353967912530748," "," "," "," "," "," ",null,null," "," "," "]
[141,33.6,17.911556573414895,2.7582027783863454," "," "," "," "," "," ",null,null," "," "," "]
[142,33.839999999999996,18.130789483721816,2.7822384664298436," "," "," "," "," "," ",null,null," "," "," "]
[143,34.08,18.342936830963591,2.8075010598417722," "," "," "," "," "," ",null,null," "," "," "]
[144,34.32,18.547198116075215,2.8339844629034134," "," "," "," "," "," ",null,null," "," "," "]
[145,34.56,18.742763599662627,2.8616789580112192," "," "," "," "," "," ",null,null," "," "," "]
[146,34.799999999999997,18.928819062027628,2.8905708785696396," "," "," "," "," "," ",null,null," "," "," "]
[147,35.04,19.10455103616507,2.9206422801766854," "," "," "," "," "," ",null,null," "," "," "]
[148,35.28,19.26915249165932,2.951870614402361," "," "," "," "," "," ",null,null," "," "," "]
[149,35.519999999999996,19.421828936291075,2.9842284100708651," "," "," "," "," "," ",null,null," "," "," "]
[150,35.76,19.561804890253701,3.0176829675525085," "," "," "," "," "," ",null,null," "," "," "]
[151,36,19.688330675405147,3.0521960721290875," "," "," "," "," "," ",null,null," "," "," "]
[152,36.24,19.800689449246384,3.0877237329924623," "," "," "," "," "," ",null,null," "," "," "]
[153,36.479999999999997,19.898204400681237,3.1242159548433741," "," "," "," "," "," ",null,null," "," "," "]
[154,36.72,19.98024601249444,3.1616165493474178," "," "," "," "," "," ",null,null," "," "," "]
[155,36.96,20.046239284351397,3.1998629938483241," "," "," "," "," "," ",null,null," "," "," "]
[156,37.199999999999996,20.095670800476153,3.2388863447066671," "," "," "," "," "," ",null,null," "," "," "]
[157,37.44,20.12809551852034,3.278611212398431," "," "," "," "," "," ",null,null," "," "," "]
[158,37.68,20.143143151005393,3.3189558050501411," "," "," "," "," "," ",null,null," "," "," "]
[159,37.92,20.140524008579494,3.3598320463889153," "," "," "," "," "," ",null,null," "," "," "]
[160,38.159999999999997,20.120034175592448,3.4011457731379098," "," "," "," "," "," ",null,null," "," "," "]
[161,38.4,20.081559893476694,3.4427970156907373," "," "," "," "," "," ",null,null," "," "," "]
[162,38.64,20.025081036328562,3.4846803644638373," "," "," "," "," "," ",null,null," "," "," "]
[163,38.879999999999995,19.950673575961442,3.5266854226766586," "," "," "," "," "," ",null,null," "," "," "]
[164,39.119999999999997,19.858510950433963,3.5686973444812686," "," "," "," "," "," ",null,null," "," "," "]
[165,39.36,19.748864270343724,3.610597455403036," "," "," "," "," "," ",null,null," "," "," "]
[166,39.6,19.62210132054091,3.6522639500205045," "," "," "," "," "," ",null,null," "," "," "]
[167,39.839999999999996,19.478684340702397,3.6935726597727396," "," "," "," "," "," ",null,null," "," "," "]
[168,40.08,19.319166595609879,3.7343978818096426," "," "," "," "," "," ",null,null," "," "," "]
[169,40.32,19.144187774068524,3.7746132579713172," "," "," "," "," "," ",null,null," "," "," "]
[170,40.559999999999995,18.954468283181157,3.8140926913718438," "," "," "," "," "," ",null,null," "," "," "]
[171,40.799999999999997,18.750802531124258,3.8527112867409001," "," "," "," "," "," ",null,null," "," "," "]
[172,41.04,18.534051315650036,3.8903462997045657," "," "," "," "," "," ",null,null," "," "," "]
[173,41.28,18.30513345633889,3.9268780796123193," "," "," "," "," "," ",null,null," "," "," "]
[174,41.519999999999996,18.06501682535739,3.9621909903726302," "," "," "," "," "," ",null,null," "," "," "]
[175,41.76,17.814708943525329,3.9961742940582932," "," "," "," "," "," ",null,null," "," "," "]
[176,42,17.555247315459287,4.0287229827790147," "," "," "," "," "," ",null,null," "," "," "]
[177,42.239999999999995,17.287689679269683,4.0597385454676953," "," "," "," "," "," ",null,null," "," "," "]
[178,42.48,17.013104342810347,4.0891296577453105," "," "," "," "," "," ",null,null," "," "," "]
[179,42.72,16.732560770109451,4.1168127848586158," "," "," "," "," "," ",null,null," "," "," "]
[180,42.96,16.447120568847424,4.142712689754239," "," "," "," "," "," ",null,null," "," "," "]
[181,43.199999999999996,16.15782901326002,4.1667628405828641," "," "," "," "," "," ",null,null," "," "," "]
[182,43.44,15.865707217427115,4.1889057142351893," "," "," "," "," "," ",null,null," "," "," "]
[183,43.68,15.571745052431165,4.2090929948145863," "," "," "," "," "," ",null,null," "," "," "]
[184,43.92,15.276894878231225,4.2272856681720414," "," "," "," "," "," ",null,null," "," "," "]
[185,44.16,14.982066138175643,4.243454015697349," "," "," "," "," "," ",null,null," "," "," "]
[186,44.4,14.688120841682608,4.2575775124180497," "," "," "," "," "," ",null,null," "," "," "]
[187,44.64,14.395869939468412,4.2696446360586728," "," "," "," "," "," ",null,null," "," "," "]
[188,44.879999999999995,14.106070576391561,4.2796525950259277," "," "," "," "," "," ",null,null," "," "," "]
[189,45.12,13.819424189961607,4.2876069842932942," "," "," "," "," "," ",null,null," "," "," "]
[190,45.36,13.536575408146058,4.2935213788571813," "," "," "," "," "," ",null,null," "," "," "]
[191,45.6,13.258111688467624,4.2974168748349415," "," "," "," "," "," ",null,null," "," "," "]
[192,45.839999999999996,12.984563631558139,4.2993215883913676," "," "," "," "," "," ",null,null," "," "," "]
[193,46.08,12.716405896251619,4.2992701225419765," "," "," "," "," "," ",null,null," "," "," "]
[194,46.32,12.454058639789704,4.2973030115214792," "," "," "," "," "," ",null,null," "," "," "]
[195,46.559999999999995,12.197889405538364,4.2934661518611952," "," "," "," "," "," ",null,null," "," "," "]
[196,46.8,11.948215381484742,4.2878102286282136," "," "," "," "," "," ",null,null," "," "," "]
[197,47.04,11.705305955376994,4.2803901444800916," "," "," "," "," "," ",null,null," "," "," "]
[198,47.28,11.469385496356525,4.2712644583182025," "," "," "," "," "," ",null,null," "," "," "]
[199,47.519999999999996,11.240636297984082,4.2604948394140605," "," "," "," "," "," ",null,null," "," "," "]
[200,47.76,11.019201623369488,4.2481455419656475," "," "," "," "," "," ",null,null," "," "," "]
[201,48,10.805188799396454,4.2342829041402847," "," "," "," "," "," ",null,null," "," "," "]
[202,48.239999999999995,10.598672313539629,4.2189748747977118," "," "," "," "," "," ",null,null," "," "," "]
[203,48.48,10.399696873287947,4.2022905702778806," "," "," "," "," "," ",null,null," "," "," "]
[204,48.72,10.208280394541694,4.184299862894461," "," "," "," "," "," ",null,null," "," "," "]
[205,48.96,10.02441689140279,4.1650730021050331," "," "," "," "," "," ",null,null," "," "," "]
[206,49.199999999999996,9.8480792454259927,4.1446802687367734," "," "," "," "," "," ",null,null," "," "," "]
[207,49.44,9.679221837571804,4.1231916621334852," "," "," "," "," "," ",null,null," "," "," "]
[208,49.68,9.5177830307567888,4.1006766196549389," "," "," "," "," "," ",null,null," "," "," "]
[209,49.92,9.3636874950138118,4.0772037675996025," "," "," "," "," "," ",null,null," "," "," "]
[210,50.16,9.2168483708532989,4.0528407023323432," "," "," "," "," "," ",null,null," "," "," "]
[211,50.4,9.0771692694717387,4.0276538001740372," "," "," "," "," "," ",null,null," "," "," "]
[212,50.64,8.9445461110119258,4.0017080544439123," "," "," "," "," "," ",null,null," "," "," "]
[213,50.879999999999995,8.8188688041755832,3.9750669379313019," "," "," "," "," "," ",null,null," "," "," "]
[214,51.12,8.7000227721629884,3.9477922890047079," "," "," "," "," "," ",null,null," "," "," "]
[215,51.36,8.5878903312091879,3.919944219536089," "," "," "," "," "," ",null,null," "," "," "]
[216,51.6,8.4823519289461125,3.8915810428209738," "," "," "," "," "," ",null,null," "," "," "]
[217,51.839999999999996,8.3832872504878981,3.8627592197045395," "," "," "," "," "," ",null,null," "," "," "]
[218,52.08,8.2905762005545807,3.8335333211749556," "," "," "," "," "," ",null,null," "," "," "]
[219,52.32,8.2040997701561231,3.803956005753276," "," "," "," "," "," ",null,null," "," "," "]
[220,52.559999999999995,8.123740796390539,3.7740780100898217," "," "," "," "," "," ",null,null," "," "," "]
[221,52.8,8.0493846237991242,3.7439481512666442," "," "," "," "," "," ",null,null," "," "," "]
[222,53.04,7.9809196754977103,3.7136133394011761," "," "," "," "," "," ",null,null," "," "," "]
[223,53.28,7.9182379419907196,3.6831185992449278," "," "," "," "," "," ",null,null," "," "," "]
[224,53.519999999999996,7.8612353951968554,3.6525070995708599," "," "," "," "," "," ",null,null," "," "," "]
[225,53.76,7.8098123347902613,3.6218201892420936," "," "," "," "," "," ",null,null," "," "," "]
[226,54,7.7638736735048655,3.5910974389514827," "," "," "," "," "," ",null,null," "," "," "]
[227,54.239999999999995,7.7233291675755389,3.560376687715153," "," "," "," "," "," ",null,null," "," "," "]
[228,54.48,7.6880935980083764,3.529694093292616," "," "," "," "," "," ",null,null," "," "," "]
[229,54.72,7.6580869078924954,3.499084185790855," "," "," "," "," "," ",null,null," "," "," "]
[230,54.96,7.6332343004939585,3.4685799237895267," "," "," "," "," "," ",null,null," "," "," "]
[231,55.199999999999996,7.6134663024139231,3.4382127523988242," "," "," "," "," "," ",null,null," "," "," "]
[232,55.44,7.598718795651684,3.4080126627305911," "," "," "," "," "," ",null,null," "," "," "]
[233,55.68,7.5889330219915232,3.3780082523269006," "," "," "," "," "," ",null,null," "," "," "]
[234,55.919999999999995,7.5840555627319448,3.3482267861486865," "," "," "," "," "," ",null,null," "," "," "]
[235,56.16,7.5840382963978277,3.3186942577802401," "," "," "," "," "," ",null,null," "," "," "]
[236,56.4,7.5888383367206194,3.2894354505537233," "," "," "," "," "," ",null,null," "," "," "]
[237,56.64,7.5984179528386839,3.2604739983415061," "," "," "," "," "," ",null,null," "," "," "]
[238,56.879999999999995,7.6127444733587861,3.2318324458034087," "," "," "," "," "," ",null,null," "," "," "]
[239,57.12,7.6317901756295807,3.2035323079110687," "," "," "," "," "," ",null,null," "," "," "]
[240,57.36,7.6555321613078329,3.175594128602961," "," "," "," "," "," ",null,null," "," "," "]
[241,57.599999999999994,7.6839522190467768,3.1480375384513435," "," "," "," "," "," ",null,null," "," "," "]
[242,57.839999999999996,7.7170366749022552,3.1208813112468574," "," "," "," "," "," ",null,null," "," "," "]
[243,58.08,7.7547762308348425,3.094143419427946," "," "," "," "," "," ",null,null," "," "," "]
[244,58.32,7.797165791483728,3.0678410883009102," "," "," "," "," "," ",null,null," "," "," "]
[245,58.559999999999995,7.8442042791995652,3.0419908490125236," "," "," "," "," "," ",null,null," "," "," "]
[246,58.8,7.8958944371475823,3.0166085902509199," "," "," "," "," "," ",null,null," "," "," "]
[247,59.04,7.9522426201279783,2.9917096086621076," "," "," "," "," "," ",null,null," "," "," "]
[248,59.28,8.0132585726070236,2.967308657979169," "," "," "," "," "," ",null,null," "," "," "]
[249,59.519999999999996,8.0789551933085182,2.9434199968691206," "," "," "," "," "," ",null,null," "," "," "]
[250,59.76,8.1493482855806434,2.9200574355086695," "," "," "," "," "," ",null,null," "," "," "]
[251,60,8.2244562926272256,2.8972343809048611," "," "," "," "," "," ",null,null," "," "," "]
[252,60.239999999999995,8.3043000165745902,2.8749638809799585," "," "," "," "," "," ",null,null," "," "," "]
[253,60.48,8.3889023202353545,2.853258667441918," "," "," "," "," "," ",null,null," "," "," "]
[254,60.72,8.4782878103285206,2.8321311974626209," "," "," "," "," "," ",null,null," "," "," "]
[255,60.96,8.5724825008213745,2.8115936941856363," "," "," "," "," "," ",null,null," "," "," "]
[256,61.199999999999996,8.6715134549731498,2.7916581860837613," "," "," "," "," "," ",null,null," "," "," "]
[257,61.44,8.7754084045838034,2.7723365451839674," "," "," "," "," "," ",null,null," "," "," "]
[258,61.68,8.8841953448843451,2.7536405241736728," "," "," "," "," "," ",null,null," "," "," "]
[259,61.919999999999995,8.9979021034488724,2.7355817923974572," "," "," "," "," "," ",null,null," "," "," "]
[260,62.16,9.1165558814641798,2.7181719707474601," "," "," "," "," "," ",null,null," "," "," "]
[261,62.4,9.2401827656618813,2.7014226654436824," "," "," "," "," "," ",null,null," "," "," "]
[262,62.64,9.3688072092023713,2.6853455006922671," "," "," "," "," "," ",null,null," "," "," "]
[263,62.879999999999995,9.5024514798016284,2.6699521502004608," "," "," "," "," "," ",null,null," "," "," "]
[264,63.12,9.6411350734133112,2.6552543675163554," "," "," "," "," "," ",null,null," "," "," "]
[265,63.36,9.7848740918225303,2.6412640151495603," "," "," "," "," "," ",null,null," "," "," "]
[266,63.599999999999994,9.9336805825772174,2.6279930924156192," "," "," "," "," "," ",null,null," "," "," "]
[267,63.839999999999996,10.087561839781563,2.6154537619321552," "," "," "," "," "," ",null,null," "," "," "]
[268,64.08,10.246519664407382,2.6036583746783286," "," "," "," "," "," ",null,null," "," "," "]
[269,64.319999999999993,10.41054958294777,2.5926194935111195," "," "," "," "," "," ",null,null," "," "," "]
[270,64.56,10.579640023447402,2.5823499150120997," "," "," "," "," "," ",null,null," "," "," "]
[271,64.8,10.753771448200455,2.572862689516656," "," "," "," "," "," ",null,null," "," "," "]
[272,65.039999999999992,10.932915442715512,2.564171139153951," "," "," "," "," "," ",null,null," "," "," "]
[273,65.28,11.117033760912568,2.5562888737002045," "," "," "," "," "," ",null,null," "," "," "]
[274,65.52,11.306077326946339,2.5492298040200287," "," "," "," "," "," ",null,null," "," "," "]
[275,65.759999999999991,11.499985194548398,2.5430081528405615," "," "," "," "," "," ",null,null," "," "," "]
[276,66,11.698683465354568,2.5376384625709179," "," "," "," "," "," ",null,null," "," "," "]
[277,66.239999999999995,11.902084168339613,2.5331355998450822," "," "," "," "," "," ",null,null," "," "," "]
[278,66.48,12.11008410322467,2.5295147564298035," "," "," "," "," "," ",null,null," "," "," "]
[279,66.72,12.322563651559905,2.5267914461004595," "," "," "," "," "," ",null,null," "," "," "]
[280,66.959999999999994,12.539385560120669,2.5249814970473832," "," "," "," "," "," ",null,null," "," "," "]
[281,67.2,12.760393702294651,2.5241010393330567," "," "," "," "," "," ",null,null," "," "," "]
[282,67.44,12.985411824283441,2.5241664868772284," "," "," "," "," "," ",null,null," "," "," "]
[283,67.679999999999993,13.214242284196491,2.5251945134028739," "," "," "," "," "," ",null,null," "," "," "]
[284,67.92,13.446664793478929,2.5272020217316102," "," "," "," "," "," ",null,null," "," "," "]
[285,68.16,13.682435171584601,2.5302061057734564," "," "," "," "," "," ",null,null," "," "," "]
[286,68.399999999999991,13.921284126377147,2.5342240045136881," "," "," "," "," "," ",null,null," "," "," "]
[287,68.64,14.162916074406185,2.5392730472601008," "," "," "," "," "," ",null,null," "," "," "]
[288,68.88,14.40700801695008,2.5453705893786962," "," "," "," "," "," ",null,null," "," "," "]
[289,69.12,14.653208489523829,2.5525339377162974," "," "," "," "," "," ",null,null," "," "," "]
[290,69.36,14.901136604397227,2.5607802648867981," "," "," "," "," "," ",null,null," "," "," "]
[291,69.599999999999994,15.150381207525323,2.5701265115859191," "," "," "," "," "," "]
[292,69.84,15.400500173124058,2.5805892761000031," "," "," "," "," "," "]
[293,70.08,15.651019860884782,2.5921846901903804," "," "," "," "," "," "]
[294,70.319999999999993,15.901434762460109,2.6049282805693528," "," "," "," "," "," "]
[295,70.56,16.151207365309471,2.6188348152402847," "," "," "," "," "," "]
[296,70.8,16.399768263196293,2.6339181340563669," "," "," "," "," "," "]
[297,71.039999999999992,16.646516543501882,2.6501909629641407," "," "," "," "," "," "]
[298,71.28,16.890820481977563,2.6676647115428285," "," "," "," "," "," "]
[299,71.52,17.132018575503029,2.686349253632772," "," "," "," "," "," "]
[300,71.759999999999991,17.36942094275641,2.7062526910695679," "," "," "," "," "," "]
[301,72,17.602311121328043,2.7273811008081412," "," "," "," "," "," "]
[302,72.239999999999995,17.829948287622766,2.7497382660357044," "," "," "," "," "," "]
[303,72.48,18.051569922796123,2.7733253922361509," "," "," "," "," "," "]
[304,72.72,18.266394943867358,2.7981408095815277," "," "," "," "," "," "]
[305,72.959999999999994,18.473627313969605,2.8241796634878931," "," "," "," "," "," "]
[306,73.2,18.672460139378771,2.8514335956802936," "," "," "," "," "," "]
[307,73.44,18.862080253477359,2.8798904186596426," "," "," "," "," "," "]
[308,73.679999999999993,19.041673279163096,2.9095337870452807," "," "," "," "," "," "]
[309,73.92,19.210429151451351,2.9403428698702845," "," "," "," "," "," "]
[310,74.16,19.367548071241391,2.9722920285183263," "," "," "," "," "," "]
[311,74.399999999999991,19.512246849571117,3.0053505055940191," "," "," "," "," "," "]
[312,74.64,19.643765589385279,3.0394821305927455," "," "," "," "," "," "]
[313,74.88,19.761374639164075,3.074645048757549," "," "," "," "," "," "]
[314,75.11999999999999,19.864381740041193,3.1107914799535603," "," "," "," "," "," "]
[315,75.36,19.952139275681397,3.1478675147265491," "," "," "," "," "," "]
[316,75.599999999999994,20.024051522638533,3.1858129549123215," "," "," "," "," "," "]
[317,75.84,20.07958178866587,3.2245612061988096," "," "," "," "," "," "]
[318,76.08,20.118259318015998,3.2640392298854457," "," "," "," "," "," "]
[319,76.319999999999993,20.13968583666237,3.3041675607107077," "," "," "," "," "," "]
[320,76.56,20.143541607090892,3.3448603970096529," "," "," "," "," "," "]
[321,76.8,20.129590862287539,3.3860257686068964," "," "," "," "," "," "]
[322,77.039999999999992,20.097686492144277,3.4275657867437577," "," "," "," "," "," "]
[323,77.28,20.047773862966611,3.4693769789883797," "," "," "," "," "," "]
[324,77.52,19.979893662198869,3.5113507105033386," "," "," "," "," "," "]
[325,77.759999999999991,19.894183675833155,3.5533736912775025," "," "," "," "," "," "]
[326,78,19.790879425004032,3.5953285670107888," "," "," "," "," "," "]
[327,78.239999999999995,19.670313610578962,3.6370945893264195," "," "," "," "," "," "]
[328,78.48,19.532914339542835,3.6785483589395001," "," "," "," "," "," "]
[329,78.72,19.379202133889795,3.7195646334047159," "," "," "," "," "," "]
[330,78.959999999999994,19.209785750689939,3.7600171891753571," "," "," "," "," "," "]
[331,79.2,19.025356870011141,3.7997797260068586," "," "," "," "," "," "]
[332,79.44,18.826683734418236,3.838726800303101," "," "," "," "," "," "]
[333,79.679999999999993,18.614603848821208,3.876734772897656," "," "," "," "," "," "]
[334,79.92,18.39001587153987,3.9136827560380714," "," "," "," "," "," "]
[335,80.16,18.153870845749569,3.949453544037298," "," "," "," "," "," "]
[336,80.399999999999991,17.907162934287776,3.9839345121929646," "," "," "," "," "," "]
[337,80.64,17.650919829652867,4.0170184691537703," "," "," "," "," "," "]
[338,80.88,17.386193014657962,4.0486044489147437," "," "," "," "," "," "]
[339,81.11999999999999,17.114048047595098,4.0785984300127573," "," "," "," "," "," "]
[340,81.36,16.835555039132291,4.1069139712172369," "," "," "," "," "," "]
[341,81.599999999999994,16.551779476936453,4.1334727550015788," "," "," "," "," "," "]
[342,81.84,16.263773538800177,4.1582050322617734," "," "," "," "," "," "]
[343,82.08,15.972568016604109,4.181049964037979," "," "," "," "," "," "]
[344,82.32,15.679164952617668,4.2019558583091214," "," "," "," "," "," "]
[345,82.56,15.384531067322911,4.2208803021899675," "," "," "," "," "," "]
[346,82.8,15.089592035029094,4.23779019199148," "," "," "," "," "," "]
[347,83.039999999999992,14.795227640869802,4.252661665545749," "," "," "," "," "," "]
[348,83.28,14.502267831095416,4.2654799428958379," "," "," "," "," "," "]
[349,83.52,14.211489648531217,4.2762390828718022," "," "," "," "," "," "]
[350,83.759999999999991,13.923615027172008,4.2849416641944789," "," "," "," "," "," "]
[351,84,13.639309404491435,4.2915984005597672," "," "," "," "," "," "]
[352,84.24,13.359181097379441,4.296227699662265," "," "," "," "," "," "]
[353,84.47999999999999,13.083781377770986,4.2988551763335208," "," "," "," "," "," "]
[354,84.72,12.813605176959554,4.2995131299212037," "," "," "," "," "," "]
[355,84.96,12.549092343164714,4.2982399957523247," "," "," "," "," "," "]
[356,85.2,12.290629374928114,4.2950797800420011," "," "," "," "," "," "]
[357,85.44,12.038551553072221,4.2900814869672148," "," "," "," "," "," "]
[358,85.679999999999993,11.793145395959252,4.2832985458610811," "," "," "," "," "," "]
[359,85.92,11.554651366304537,4.2747882456345678," "," "," "," "," "," "]
[360,86.16,11.323266762498823,4.2646111826340638," "," "," "," "," "," "]
[361,86.399999999999991,11.099148732960742,4.2528307272258381," "," "," "," "," "," "]
[362,86.64,10.88241735818033,4.2395125134891618," "," "," "," "," "," "]
[363,86.88,10.673158751565115,4.2247239555211555," "," "," "," "," "," "]
[364,87.11999999999999,10.471428136735343,4.2085337930260511," "," "," "," "," "," "]
[365,87.36,10.277252865345833,4.191011668093009," "," "," "," "," "," "]
[366,87.6,10.090635345687653,4.1722277343690815," "," "," "," "," "," "]
[367,87.84,9.9115558581282013,4.1522522992130613," "," "," "," "," "," "]
[368,88.08,9.73997523880114,4.1311554988740777," "," "," "," "," "," "]
[369,88.32,9.5758374178050492,4.1090070062757205," "," "," "," "," "," "]
[370,88.56,9.4190718024838027,4.0858757705996576," "," "," "," "," "," "]
[371,88.8,9.269595500135658,4.0618297875481533," "," "," "," "," "," "]
[372,89.039999999999992,9.1273153777416294,4.0369358989172648," "," "," "," "," "," "]
[373,89.28,8.9921299590396533,4.0112596199257853," "," "," "," "," "," "]
[374,89.52,8.8639311615313972,3.9848649926126614," "," "," "," "," "," "]
[375,89.759999999999991,8.7426058778317284,3.9578144635310513," "," "," "," "," "," "]
[376,90,8.6280374071990575,3.9301687839237687," "," "," "," "," "," "]
[377,90.24,8.520106744161712,3.9019869305563306," "," "," "," "," "," "]
[378,90.47999999999999,8.4186937319250355,3.8733260454042009," "," "," "," "," "," "]
[379,90.72,8.3236780887483519,3.8442413924346681," "," "," "," "," "," "]
[380,90.96,8.2349403157604115,3.8147863297861613," "," "," "," "," "," "]
[381,91.2,8.1523624947736,3.7850122957242824," "," "," "," "," "," "]
[382,91.44,8.0758289845949687,3.7549688068406066," "," "," "," "," "," "]
[383,91.679999999999993,8.0052270241462118,3.7247034670539949," "," "," "," "," "," "]
[384,91.92,7.9404472504220083,3.6942619860720169," "," "," "," "," "," "]
[385,92.16,7.8813841389598283,3.6636882060697111," "," "," "," "," "," "]
[386,92.399999999999991,7.8279363740845316,3.6330241354423864," "," "," "," "," "," "]
[387,92.64,7.780007155744622,3.6023099885869763," "," "," "," "," "," "]
[388,92.88,7.7375044492881297,3.5715842307613372," "," "," "," "," "," "]
[389,93.11999999999999,7.7003411840463318,3.5408836271619539," "," "," "," "," "," "]
[390,93.36,7.6684354061121853,3.5102432954470828," "," "," "," "," "," "]
[391,93.6,7.6417103902249561,3.4796967610139835," "," "," "," "," "," "]
[392,93.84,7.6200947152086336,3.4492760144152572," "," "," "," "," "," "]
[393,94.08,7.6035223069637228,3.4190115703703126," "," "," "," "," "," "]
[394,94.32,7.5919324525828191,3.3889325278935769," "," "," "," "," "," "]
[395,94.56,7.5852697887520666,3.3590666311213431," "," "," "," "," "," "]
[396,94.8,7.583484267214379,3.3294403304742217," "," "," "," "," "," "]
[397,95.039999999999992,7.58653109970661,3.3000788438422664," "," "," "," "," "," "]
[398,95.28,7.5943706844417322,3.2710062175251728," "," "," "," "," "," "]
[399,95.52,7.6069685158880613,3.2422453867007945," "," "," "," "," "," "]
[400,95.759999999999991,7.6242950792998796,3.2138182352318325," "," "," "," "," "," "]
[401,96,7.6463257311765167,3.1857456546532279," "," "," "," "," "," "]
[402,96.24,7.6730405665688997,3.1580476022118038," "," "," "," "," "," "]
[403,96.47999999999999,7.7044242739125623,3.1307431578553238," "," "," "," "," "," "]
[404,96.72,7.7404659778428542,3.1038505800906444," "," "," "," "," "," "]
[405,96.96,7.7811590702403173,3.0773873606502784," "," "," "," "," "," "]
[406,97.2,7.8265010295607302,3.0513702779236991," "," "," "," "," "," "]
[407,97.44,7.8764932283238966,3.0258154491243192," "," "," "," "," "," "]
[408,97.679999999999993,7.931140728466862,3.0007383811754877," "," "," "," "," "," "]
[409,97.92,7.990452064109852,2.9761540203092403," "," "," "," "," "," "]
[410,98.16,8.0544390111359476,2.9520768003800812," "," "," "," "," "," "]
[411,98.399999999999991,8.1231163428476325,2.9285206899029363," "," "," "," "," "," "]
[412,98.64,8.1965015708342541,2.9054992378296989," "," "," "," "," "," "]
[413,98.88,8.2746146700636451,2.8830256180826481," "," "," "," "," "," "]
[414,99.11999999999999,8.3574777870984018,2.8611126728655116," "," "," "," "," "," "]
[415,99.36,8.4451149302324939,2.8397729547741832," "," "," "," "," "," "]
[416,99.6,8.5375516402470009,2.8190187677291427," "," "," "," "," "," "]
[417,99.84,8.6348146403951489,2.7988622067505093," "," "," "," "," "," "]
[418,100.08,8.7369314641468776,2.7793151965944451," "," "," "," "," "," "]
[419,100.32,8.8439300591526138,2.7603895292663001," "," "," "," "," "," "]
[420,100.56,8.9558383658256364,2.7420969004214997," "," "," "," "," "," "]
[421,100.8,9.0726838688935807,2.7244489446596836," "," "," "," "," "," "]
[422,101.03999999999999,9.194493120233652,2.7074572697110124," "," "," "," "," "," "]
[423,101.28,9.3212912312846701,2.6911334895058237," "," "," "," "," "," "]
[424,101.52,9.4531013333241916,2.6754892561099037," "," "," "," "," "," "]
[425,101.75999999999999,9.5899440039128674,2.6605362904974927," "," "," "," "," "," "]
[426,102,9.7318366578436102,2.6462864121226897," "," "," "," "," "," "]
[427,102.24,9.8787929009929289,2.6327515672371096," "," "," "," "," "," "]
[428,102.47999999999999,10.030821845559343,2.6199438558873611," "," "," "," "," "," "]
[429,102.72,10.187927385292745,2.6078755575101056," "," "," "," "," "," "]
[430,102.96,10.350107429473002,2.5965591550250022," "," "," "," "," "," "]
[431,103.2,10.517353094590385,2.5860073573066575," "," "," "," "," "," "]
[432,103.44,10.689647852919483,2.5762331198956816," "," "," "," "," "," "]
[433,103.67999999999999,10.866966637467042,2.5672496637860145," "," "," "," "," "," "]
[434,103.92,11.049274903118393,2.5590704921007195," "," "," "," "," "," "]
[435,104.16,11.236527644212371,2.5517094044413935," "," "," "," "," "," "]
[436,104.39999999999999,11.428668369247001,2.5451805086671362," "," "," "," "," "," "]
[437,104.64,11.625628033963805,2.5394982298276099," "," "," "," "," "," "]
[438,104.88,11.827323934683685,2.534677315941118," "," "," "," "," "," "]
[439,105.11999999999999,12.033658564478007,2.5307328402728504," "," "," "," "," "," "]
[440,105.36,12.244518435560741,2.5276801997305727," "," "," "," "," "," "]
[441,105.6,12.459772872186688,2.5255351089552209," "," "," "," "," "," "]
[442,105.83999999999999,12.679272779341892,2.5243135896423379," "," "," "," "," "," "]
[443,106.08,12.902849393618936,2.5240319545873384," "," "," "," "," "," "]
[444,106.32,13.130313023884701,2.5247067859036907," "," "," "," "," "," "]
[445,106.56,13.361451790671957,2.526354906818761," "," "," "," "," "," "]
[446,106.8,13.596030374657715,2.528993346408047," "," "," "," "," "," "]
[447,107.03999999999999,13.833788786126416,2.5326392965856748," "," "," "," "," "," "]
[448,107.28,14.074441168947686,2.5373100606284633," "," "," "," "," "," "]
[449,107.52,14.31767465431531,2.5430229924738761," "," "," "," "," "," "]
[450,107.75999999999999,14.563148281280611,2.5497954260003461," "," "," "," "," "," "]
[451,108,14.810492002948701,2.5576445934736074," "," "," "," "," "," "]
[452,108.24,15.059305799062962,2.5665875323269125," "," "," "," "," "," "]
[453,108.47999999999999,15.309158917548217,2.5766409794388103," "," "," "," "," "," "]
[454,108.72,15.559589269374932,2.5878212520822035," "," "," "," "," "," "]
[455,108.96,15.810103002796767,2.600144114745782," "," "," "," "," "," "]
[456,109.2,16.060174284543919,2.6136246310769611," "," "," "," "," "," "]
[457,109.44,16.309245316859009,2.6282770002677243," "," "," "," "," "," "]
[458,109.67999999999999,16.556726620265543,2.6441143773051046," "," "," "," "," "," "]
[459,109.92,16.801997612577953,2.6611486766403347," "," "," "," "," "," "]
[460,110.16,17.044407514806004,2.6793903589988948," "," "," "," "," "," "]
[461,110.39999999999999,17.283276614177755,2.6988482012615966," "," "," "," "," "," "]
[462,110.64,17.517897913403168,2.7195290495979472," "," "," "," "," "," "]
[463,110.88,17.747539193421897,2.7414375563303151," "," "," "," "," "," "]
[464,111.11999999999999,17.971445514123378,2.7645759013530351," "," "," "," "," "," "]
[465,111.36,18.188842173800516,2.7889434993256366," "," "," "," "," "," "]
[466,111.6,18.398938143317707,2.8145366943035541," "," "," "," "," "," "]
[467,111.83999999999999,18.600929985074721,2.8413484439608521," "," "," "," "," "," "]
[468,112.08,18.794006259789736,2.8693679960934824," "," "," "," "," "," "]
[469,112.32,18.977352415899055,2.898580560661641," "," "," "," "," "," "]
[470,112.56,19.150156147008477,2.9289669812263588," "," "," "," "," "," "]
[471,112.8,19.311613192409279,2.9605034102459431," "," "," "," "," "," "]
[472,113.03999999999999,19.460933544321225,2.9931609933063306," "," "," "," "," "," "]
[473,113.28,19.597348013435571,3.026905567946665," "," "," "," "," "," "]
[474,113.52,19.720115091755034,3.0616973832850278," "," "," "," "," "," "]
[475,113.75999999999999,19.82852803898124,3.097490847124047," "," "," "," "," "," "]
[476,114,19.921922106160483,3.1342343075945274," "," "," "," "," "," "]
[477,114.24,19.999681798398921,3.1718698766484064," "," "," "," "," "," "]
[478,114.47999999999999,20.061248067676161,3.2103333028109633," "," "," "," "," "," "]
[479,114.72,20.106125317629285,3.2495539005181637," "," "," "," "," "," "]
[480,114.96,20.133888095165343,3.2894545430727979," "," "," "," "," "," "]
[481,115.19999999999999,20.144187339392804,3.3299517257316773," "," "," "," "," "," "]
[482,115.44,20.136756057103547,3.370955704670898," "," "," "," "," "," "]
[483,115.67999999999999,20.11141429627774,3.412370716560535," "," "," "," "," "," "]
[484,115.92,20.068073295114594,3.454095282217414," "," "," "," "," "," "]
[485,116.16,20.006738694072691,3.4960225963092486," "," "," "," "," "," "]
[486,116.39999999999999,19.927512712341468,3.5380410033819198," "," "," "," "," "," "]
[487,116.64,19.83059520789465,3.5800345586126809," "," "," "," "," "," "]
[488,116.88,19.716283561449906,3.6218836697060715," "," "," "," "," "," "]
[489,117.11999999999999,19.584971348748642,3.663465814307159," "," "," "," "," "," "]
[490,117.36,19.437145791878038,3.7046563252775768," "," "," "," "," "," "]
[491,117.6,19.273384008042324,3.7453292342382243," "," "," "," "," "," "]
[492,117.83999999999999,19.094348102299421,3.7853581620048971," "," "," "," "," "," "]
[493,118.08,18.900779178295235,3.8246172430038006," "," "," "," "," "," "]
[494,118.32,18.69349036692023,3.8629820695209811," "," "," "," "," "," "]
[495,118.56,18.473358996091541,3.900330640770965," "," "," "," "," "," "]
[496,118.8,18.241318044635864,3.9365443013092669," "," "," "," "," "," "]
[497,119.03999999999999,17.998347038766145,3.9715086532880575," "," "," "," "," "," "]
[498,119.28,17.745462560349871,4.0051144274726589," "," "," "," "," "," "]
[499,119.52,17.483708541717871,4.0372582987876271," "," "," "," "," "," "]
[500,119.75999999999999,17.214146522053902,4.067843633414892," "," "," "," "," "," "]
[501,120,16.937846035567517,4.0967811560752612," "," "," "," "," "," "]
[" "," "," "," "," "," "," "," "," "," "]
[" "," "," "," "," "," "," "," "," "," "]
[" "," "," "," "," "," "," "," "," "," "]
[" "," "," "," "," "," "," "," "," "," "]
[" "," "," "," "," "," "," "," "," "," "]
[" "," "," "," "," "," "," "," "," "," "]
[" "," "," "," "," "," "," "," "," "," "]
[" "," "," "," "," "," "," "," "," "," "]
[" "," "," "," "," "," "," "," "," "," "]
[" "," "," "," "," "," "," "," "," "," "]
[" "," "," "," "," "," "," "," "," "," "]
[" "," "," "," "," "," "," "," "," "," "]
[" "," "," "," "," "," "," "," "," "," "]
[" "," "," "," "," "," "," "," "," "," "]
[" "," "," "," "," "," "," "," "," "," "]
[" "," "," "," "," "," "," "," "," "," "]
[" "," "," "," "," "," "," "," "," "," "]
[" "," "," "," "," "," "," "," "," "," "]
[" "," "," "," "," "," "," "," "," "," "]
[" "," "," "," "," "," "," "," "," "," "]
[" "," "," "," "," "," "," "," "," "," "]
[" "," "," "," "," "," "," "," "," "," "]
[" "," "," "," "," "," "," "," "," "," "]
[" "," "," "," "," "," "," "," "," "," "]
[" "," "," "," "," "," "," "," "," "," "]
[" "," "," "," "," "," "," "," "," "," "]
[" "," "," "," "," "," "," "," "," "," "]
[" "," "," "," "," "," "," "," "," "," "]
[" "," "," "," "," "," "," "," "," "," "]
[" "," "," "," "," "," "," "," "," "," "]
[" "," "," "," "," "," "," "," "," "," "]
[" "," "," "," "," "," "," "," "," "," "]
[" "," "," "," "," "," "," "," "," "," "]
[" "," "," "," "," "," "," "," "," "," "]
[" "," "," "," "," "," "," "," "," "," "]
[" "," "," "," "," "," "," "," "," "," "]
[" "," "," "," "," "," "," "," "," "," "]
[" "," "," "," "," "," "," "," "," "," "]
[" "," "," "," "," "," "," "," "," "," "]
[" "," "," "," "," "," "," "," "," "," "]
[" "," "," "," "," "," "," "," "," "," "]
[" "," "," "," "," "," "," "," "," "," "]
[" "," "," "," "," "," "," "," "," "," "]
[" "," "," "," "," "," "," "," "," "," "]
[" "," "," "," "," "," "," "," "," "," "]
[" "," "," "," "," "," "," "," "," "," "]
[" "," "," "," "," "," "," "," "," "," "]
[" "," "," "," "," "," "," "," "," "," "]
[" "," "," "," "," "," "," "," "," "," "]
[" "," "," "," "," "," "," "," "," "," "]
[" "," "," "," "," "," "," "," "," "," "]
[" "," "," "," "," "," "," "," "," "," "]
[" "," "," "," "," "," "," "," "," "," "]
[" "," "," "," "," "," "," "," "," "," "]
[" "," "," "," "," "," "," "," "," "," "]
[" "," "," "," "," "," "," "," "," "," "]
[" "," "," "," "," "," "," "," "," "," "]
[" "," "," "," "," "," "," "," "," "," "]
[" "," "," "," "," "," "," "," "," "," "]
[" "," "," "," "," "," "," "," "," "," "]
[" "," "," "," "," "," "," "," "," "," "]
[" "," "," "," "," "," "," "," "," "," "]
[" "," "," "," "," "," "," "," "," "," "]
[" "," "," "," "," "," "," "," "," "," "]
[" "," "," "," "," "," "," "," "," "," "]
[" "," "," "," "," "," "," "," "," "," "]
[" "," "," "," "," "," "," "," "," "," "]
[" "," "," "," "," "," "," "," "," "," "]
[" "," "," "," "," "," "," "," "," "," "]
[" "," "," "," "," "," "," "," "," "," "]
[" "," "," "," "," "," "," "," "," "," "]
[" "," "," "," "," "," "," "," "," "," "]
[" "," "," "," "," "," "," "," "," "," "]
[" "," "," "," "," "," "," "," "," "," "]
[" "," "," "," "," "," "," "," "," "," "]
[" "," "," "," "," "," "," "," "," "," "]
[" "," "," "," "," "," "," "," "," "," "]
[" "," "," "," "," "," "," "," "," "," "]
[" "," "," "," "," "," "," "," "," "," "]
[" "," "," "," "," "," "," "," "," "," "]
[" "," "," "," "," "," "," "," "," "," "]
[" "," "," "," "," "," "," "," "," "," "]
[" "," "," "," "," "," "," "," "," "," "]
[" "," "," "," "," "," "," "," "," "," "]
[" "," "," "," "," "," "," "," "," "," "]
[" "," "," "," "," "," "," "," "," "," "]
[" "," "," "," "," "," "," "," "," "," "]
[" "," "," "," "," "," "," "," "," "," "]
[" "," "," "," "," "," "," "," "," "," "]
[" "," "," "," "," "," "," "," "," "," "]
[" "," "," "," "," "," "," "," "," "," "]
[" "," "," "," "," "," "," "," "," "," "]
[" "," "," "," "," "," "," "," "," "," "]
[" "," "," "," "," "," "," "," "," "," "]
[" "," "," "," "," "," "," "," "," "," "]
[" "," "," "," "," "," "," "," "," "," "]
[" "," "," "," "," "," "," "," "," "," "]
[" "," "," "," "," "," "," "," "," "," "]
[" "," "," "," "," "," "," "," "," "," "]
[" "," "," "," "," "," "," "," "," "," "]
[" "," "," "," "," "," "," "," "," "," "]
[" "," "," "," "," "," "," "," "," "," "]
[" "," "," "," "," "," "," "," "," "," "]
[" "," "," "," "," "," "," "," "," "," "]
[" "," "," "," "," "," "," "," "," "," "]
[" "," "," "," "," "," "," "," "," "," "]
[" "," "," "," "," "," "," "," "," "," "]
[" "," "," "," "," "," "," "," "," "," "]
[" "," "," "," "," "," "," "," "," "," "]
[" "," "," "," "," "," "," "," "," "," "]
[" "," "," "," "," "," "," "," "," "," "]
[" "," "," "," "," "," "," "," "," "," "]
[" "," "," "," "," "," "," "," "," "," "]
[" "," "," "," "," "," "," "," "," "," "]
[" "," "," "," "," "," "," "," "," "," "]
[" "," "," "," "," "," "," "," "," "," "]
[" "," "," "," "," "," "," "," "," "," "]
[" "," "," "," "," "," "," "," "," "," "]
[" "," "," "," "," "," "," "," "," "," "]
[" "," "," "," "," "," "," "," "," "," "]
[" "," "," "," "," "," "," "," "," "," "]
[" "," "," "," "," "," "," "," "," "," "]
[" "," "," "," "," "," "," "," "," "," "]
[" "," "," "," "," "," "," "," "," "," "]
[" "," "," "," "," "," "," "," "," "," "]
[" "," "," "," "," "," "," "," "," "," "]
[" "," "," "," "," "," "," "," "," "," "]
[" "," "," "," "," "," "," "," "," "," "]
[" "," "," "," "," "," "," "," "," "," "]
[" "," "," "," "," "," "," "," "," "," "]
[" "," "," "," "," "," "," "," "," "," "]
[" "," "," "," "," "," "," "," "," "," "]
[" "," "," "," "," "," "," "," "," "," "]
[" "," "," "," "," "," "," "," "," "," "]
[" "," "," "," "," "," "," "," "," "," "]
[" "," "," "," "," "," "," "," "," "," "]
[" "," "," "," "," "," "," "," "," "," "]
[" "," "," "," "," "," "," "," "," "," "]
[" "," "," "," "," "," "," "," "," "," "]
[" "," "," "," "," "," "," "," "," "," "]
[" "," "," "," "," "," "," "," "," "," "]
[" "," "," "," "," "," "," "," "," "," "]
[" "," "," "," "," "," "," "," "," "," "]
[" "," "," "," "," "," "," "," "," "," "]
[" "," "," "," "," "," "," "," "," "," "]
[" "," "," "," "," "," "," "," "," "," "]
[" "," "," "," "," "," "," "," "," "," "]
[" "," "," "," "," "," "," "," "," "," "]
[" "," "," "," "," "," "," "," "," "," "]
[" "," "," "," "," "," "," "," "," "," "]
[" "," "," "," "," "," "," "," "," "," "]
[" "," "," "," "," "," "," "," "," "," "]
[" "," "," "," "," "," "," "," "," "," "]
[" "," "," "," "," "," "," "," "," "," "]
[" "," "," "," "," "," "," "," "," "," "]
[" "," "," "," "," "," "," "," "," "," "]
[" "," "," "," "," "," "," "," "," "," "]
[" "," "," "," "," "," "," "," "," "," "]
[" "," "," "," "," "," "," "," "," "," "]
[" "," "," "," "," "," "," "," "," "," "]
[" "," "," "," "," "," "," "," "," "," "]
[" "," "," "," "," "," "," "," "," "," "]
[" "," "," "," "," "," "," "," "," "," "]
[" "," "," "," "," "," "," "," "," "," "]
[" "," "," "," "," "," "," "," "," "," "]
[" "," "," "," "," "," "," "," "," "," "]
[" "," "," "," "," "," "," "," "," "," "]
[" "," "," "," "," "," "," "," "," "," "]
[" "," "," "," "," "," "," "," "," "," "]
[" "," "," "," "," "," "," "," "," "," "]
[" "," "," "," "," "," "," "," "," "," "]
[" "," "," "," "," "," "," "," "," "," "]
[" "," "," "," "," "," "," "," "," "," "]
[" "," "," "," "," "," "," "," "," "," "]
[" "," "," "," "," "," "," "," "," "," "]
[" "," "," "," "," "," "," "," "," "," "]
[" "," "," "," "," "," "," "," "," "," "]
[" "," "," "," "," "," "," "," "," "," "]
[" "," "," "," "," "," "," "," "," "," "]
[" "," "," "," "," "," "," "," "," "," "]
[" "," "," "," "," "," "," "," "," "," "]
[" "," "," "," "," "," "," "," "," "," "]
[" "," "," "," "," "," "," "," "," "," "]
[" "," "," "," "," "," "," "," "," "," "]
[" "," "," "," "," "," "," "," "," "," "]
[" "," "," "," "," "," "," "," "," "," "]
[" "," "," "," "," "," "," "," "," "," "]
[" "," "," "," "," "," "," "," "," "," "]
[" "," "," "," "," "," "," "," "," "," "]
[" "," "," "," "," "," "," "," "," "," "]
[" "," "," "," "," "," "," "," "," "," "]
[" "," "," "," "," "," "," "," "," "," "]
[" "," "," "," "," "," "," "," "," "," "]
[" "," "," "," "," "," "," "," "," "," "]
[" "," "," "," "," "," "," "," "," "," "]
[" "," "," "," "," "," "," "," "," "," "]
[" "," "," "," "," "," "," "," "," "," "]
[" "," "," "," "," "," "," "," "," "," "]
[" "," "," "," "," "," "," "," "," "," "]
[" "," "," "," "," "," "," "," "," "," "]
[" "," "," "," "," "," "," "," "," "," "]
[" "," "," "," "," "," "," "," "," "," "]
[" "," "," "," "," "," "," "," "," "," "]
[" "," "," "," "," "," "," "," "," "," "]
[" "," "," "," "," "," "," "," "," "," "]
[" "," "," "," "," "," "," "," "," "," "]
[" "," "," "," "," "," "," "," "," "," "]
[" "," "," "," "," "," "," "," "," "," "]
[" "," "," "," "," "," "," "," "," "," "]
[" "," "," "," "," "," "," "," "," "," "]
[" "," "," "," "," "," "," "," "," "," "]
[" "," "," "," "," "," "," "," "," "," "]
[" "," "," "," "," "," "," "," "," "," "]
[" "," "," "," "," "," "," "," "," "," "]
[" "," "," "," "," "," "," "," "," "," "]
[" "," "," "," "," "," "," "," "," "," "]
[" "," "," "," "," "," "," "," "," "," "]
[" "," "," "," "," "," "," "," "," "," "]
[" "," "," "," "," "," "," "," "," "," "]
[" "," "," "," "," "," "," "," "," "," "]
[" "," "," "," "," "," "," "," "," "," "]
[" "," "," "," "," "," "," "," "," "," "]
[" "," "," "," "," "," "," "," "," "," "]
[" "," "," "," "," "," "," "," "," "," "]
[" "," "," "," "," "," "," "," "," "," "]
[" "," "," "," "," "," "," "," "," "," "]
[" "," "," "," "," "," "," "," "," "," "]
[" "," "," "," "," "," "," "," "," "," "]
[" "," "," "," "," "," "," "," "," "," "]
[" "," "," "," "," "," "," "," "," "," "]
[" "," "," "," "," "," "," "," "," "," "]
[" "," "," "," "," "," "," "," "," "," "]
[" "," "," "," "," "," "," "," "," "," "]
[" "," "," "," "," "," "," "," "," "," "]
[" "," "," "," "," "," "," "," "," "," "]
[" "," "," "," "," "," "," "," "," "," "]
[" "," "," "," "," "," "," "," "," "," "]
[" "," "," "," "," "," "," "," "," "," "]
[" "," "," "," "," "," "," "," "," "," "]
[" "," "," "," "," "," "," "," "," "," "]
[" "," "," "," "," "," "," "," "," "," "]
[" "," "," "," "," "," "," "," "," "," "]
[" "," "," "," "," "," "," "," "," "," "]
[" "," "," "," "," "," "," "," "," "," "]
[" "," "," "," "," "," "," "," "," "," "]
[" "," "," "," "," "," "," "," "," "," "]
[" "," "," "," "," "," "," "," "," "," "]
[" "," "," "," "," "," "," "," "," "," "]
[" "," "," "," "," "," "," "," "," "," "]
[" "," "," "," "," "," "," "," "," "," "]
[" "," "," "," "," "," "," "," "," "," "]
[" "," "," "," "," "," "," "," "," "," "]
[" "," "," "," "," "," "," "," "," "," "]
[" "," "," "," "," "," "," "," "," "," "]
[" "," "," "," "," "," "," "," "," "," "]
[" "," "," "," "," "," "," "," "," "," "]
[" "," "," "," "," "," "," "," "," "," "]
[" "," "," "," "," "," "," "," "," "," "]
[" "," "," "," "," "," "," "," "," "," "]
[" "," "," "," "," "," "," "," "," "," "]
[" "," "," "," "," "," "," "," "," "," "]
[" "," "," "," "," "," "," "," "," "," "]
[" "," "," "," "," "," "," "," "," "," "]
[" "," "," "," "," "," "," "," "," "," "]
[" "," "," "," "," "," "," "," "," "," "]
[" "," "," "," "," "," "," "," "," "," "]
[" "," "," "," "," "," "," "," "," "," "]
[" "," "," "," "," "," "," "," "," "," "]
[" "," "," "," "," "," "," "," "," "," "]
[" "," "," "," "," "," "," "," "," "," "]
[" "," "," "," "," "," "," "," "," "," "]
[" "," "," "," "," "," "," "," "," "," "]
[" "," "," "," "," "," "," "," "," "," "]
[" "," "," "," "," "," "," "," "," "," "]
[" "," "," "," "," "," "," "," "," "," "]
[" "," "," "," "," "," "," "," "," "," "]
[" "," "," "," "," "," "," "," "," "," "]
[" "," "," "," "," "," "," "," "," "," "]
[" "," "," "," "," "," "," "," "," "," "]
[" "," "," "," "," "," "," "," "," "," "]
[" "," "," "," "," "," "," "," "," "," "]
[" "," "," "," "," "," "," "," "," "," "]
[" "," "," "," "," "," "," "," "," "," "]
[" "," "," "," "," "," "," "," "," "," "]
[" "," "," "," "," "," "," "," "," "," "]
[" "," "," "," "," "," "," "," "," "," "]
[" "," "," "," "," "," "," "," "," "," "]
[" "," "," "," "," "," "," "," "," "," "]
[" "," "," "," "," "," "," "," "," "," "]
[" "," "," "," "," "," "," "," "," "," "]
[" "," "," "," "," "," "," "," "," "," "]
[" "," "," "," "," "," "," "," "," "," "]
[" "," "," "," "," "," "," "," "," "," "]
[" "," "," "," "," "," "," "," "," "," "]
[" "," "," "," "," "," "," "," "," "," "]
[" "," "," "," "," "," "," "," "," "," "]
[" "," "," "," "," "," "," "," "," "," "]
[" "," "," "," "," "," "," "," "," "," "]
[" "," "," "," "," "," "," "," "," "," "]
[" "," "," "," "," "," "," "," "," "," "]
[" "," "," "," "," "," "," "," "," "," "]
[" "," "," "," "," "," "," "," "," "," "]
[" "," "," "," "," "," "," "," "," "," "]
[" "," "," "," "," "," "," "," "," "," "]
[" "," "," "," "," "," "," "," "," "," "]
[" "," "," "," "," "," "," "," "," "," "]
[" "," "," "," "," "," "," "," "," "," "]
[" "," "," "," "," "," "," "," "," "," "]
[" "," "," "," "," "," "," "," "," "," "]
[" "," "," "," "," "," "," "," "," "," "]
[" "," "," "," "," "," "," "," "," "," "]
[" "," "," "," "," "," "," "," "," "," "]
[" "," "," "," "," "," "," "," "," "," "]
[" "," "," "," "," "," "," "," "," "," "]
[" "," "," "," "," "," "," "," "," "," "]
[" "," "," "," "," "," "," "," "," "," "]
[" "," "," "," "," "," "," "," "," "," "]
[" "," "," "," "," "," "," "," "," "," "]
[" "," "," "," "," "," "," "," "," "," "]
[" "," "," "," "," "," "," "," "," "," "]
[" "," "," "," "," "," "," "," "," "," "]
[" "," "," "," "," "," "," "," "," "," "]
[" "," "," "," "," "," "," "," "," "," "]
[" "," "," "," "," "," "," "," "," "," "]
[" "," "," "," "," "," "," "," "," "," "]
[" "," "," "," "," "," "," "," "," "," "]
[" "," "," "," "," "," "," "," "," "," "]
[" "," "," "," "," "," "," "," "," "," "]
[" "," "," "," "," "," "," "," "," "," "]
[" "," "," "," "," "," "," "," "," "," "]
[" "," "," "," "," "," "," "," "," "," "]
[" "," "," "," "," "," "," "," "," "," "]
[" "," "," "," "," "," "," "," "," "," "]
[" "," "," "," "," "," "," "," "," "," "]
[" "," "," "," "," "," "," "," "," "," "]
[" "," "," "," "," "," "," "," "," "," "]
[" "," "," "," "," "," "," "," "," "," "]
[" "," "," "," "," "," "," "," "," "," "]
[" "," "," "," "," "," "," "," "," "," "]
[" "," "," "," "," "," "," "," "," "," "]
[" "," "," "," "," "," "," "," "," "," "]
[" "," "," "," "," "," "," "," "," "," "]
[" "," "," "," "," "," "," "," "," "," "]
[" "," "," "," "," "," "," "," "," "," "]
[" "," "," "," "," "," "," "," "," "," "]
[" "," "," "," "," "," "," "," "," "," "]
[" "," "," "," "," "," "," "," "," "," "]
[" "," "," "," "," "," "," "," "," "," "]
[" "," "," "," "," "," "," "," "," "," "]
[" "," "," "," "," "," "," "," "," "," "]
[" "," "," "," "," "," "," "," "," "," "]
[" "," "," "," "," "," "," "," "," "," "]
[" "," "," "," "," "," "," "," "," "," "]
[" "," "," "," "," "," "," "," "," "," "]
[" "," "," "," "," "," "," "," "," "," "]
[" "," "," "," "," "," "," "," "," "," "]
[" "," "," "," "," "," "," "," "," "," "]
[" "," "," "," "," "," "," "," "," "," "]
[" "," "," "," "," "," "," "," "," "," "]
[" "," "," "," "," "," "," "," "," "," "]
[" "," "," "," "," "," "," "," "," "," "]
[" "," "," "," "," "," "," "," "," "," "]
[" "," "," "," "," "," "," "," "," "," "]
[" "," "," "," "," "," "," "," "," "," "]
[" "," "," "," "," "," "," "," "," "," "]
[" "," "," "," "," "," "," "," "," "," "]
[" "," "," "," "," "," "," "," "," "," "]
[" "," "," "," "," "," "," "," "," "," "]
[" "," "," "," "," "," "," "," "," "," "]
[" "," "," "," "," "," "," "," "," "," "]
[" "," "," "," "," "," "," "," "," "," "]
[" "," "," "," "," "," "," "," "," "," "]
[" "," "," "," "," "," "," "," "," "," "]
[" "," "," "," "," "," "," "," "," "," "]
[" "," "," "," "," "," "," "," "," "," "]
[" "," "," "," "," "," "," "," "," "," "]
[" "," "," "," "," "," "," "," "," "," "]
[" "," "," "," "," "," "," "," "," "," "]
[" "," "," "," "," "," "," "," "," "," "]
[" "," "," "," "," "," "," "," "," "," "]
[" "," "," "," "," "," "," "," "," "," "]
[" "," "," "," "," "," "," "," "," "," "]
[" "," "," "," "," "," "," "," "," "," "]
[" "," "," "," "," "," "," "," "," "," "]
[" "," "," "," "," "," "," "," "," "," "]
[" "," "," "," "," "," "," "," "," "," "]
[" "," "," "," "," "," "," "," "," "," "]
[" "," "," "," "," "," "," "," "," "," "]
[" "," "," "," "," "," "," "," "," "," "]
[" "," "," "," "," "," "," "," "," "," "]
[" "," "," "," "," "," "," "," "," "," "]
[" "," "," "," "," "," "," "," "," "," "]
[" "," "," "," "," "," "," "," "," "," "]
[" "," "," "," "," "," "," "," "," "," "]
[" "," "," "," "," "," "," "," "," "," "]
[" "," "," "," "," "," "," "," "," "," "]
[" "," "," "," "," "," "," "," "," "," "]
[" "," "," "," "," "," "," "," "," "," "]
[" "," "," "," "," "," "," "," "," "," "]
[" "," "," "," "," "," "," "," "," "," "]
[" "," "," "," "," "," "," "," "," "," "]
[" "," "," "," "," "," "," "," "," "," "]
[" "," "," "," "," "," "," "," "," "," "]
[" "," "," "," "," "," "," "," "," "," "]
[" "," "," "," "," "," "," "," "," "," "]
[" "," "," "," "," "," "," "," "," "," "]
[" "," "," "," "," "," "," "," "," "," "]
[" "," "," "," "," "," "," "," "," "," "]
[" "," "," "," "," "," "," "," "," "," "]
[" "," "," "," "," "," "," "," "," "," "]
[" "," "," "," "," "," "," "," "," "," "]
[" "," "," "," "," "," "," "," "," "," "]
[" "," "," "," "," "," "," "," "," "," "]
[" "," "," "," "," "," "," "," "," "," "]
[" "," "," "," "," "," "," "," "," "," "]
[" "," "," "," "," "," "," "," "," "," "]
[" "," "," "," "," "," "," "," "," "," "]
[" "," "," "," "," "," "," "," "," "," "]
[" "," "," "," "," "," "," "," "," "," "]
[" "," "," "," "," "," "," "," "," "," "]
[" "," "," "," "," "," "," "," "," "," "]
[" "," "," "," "," "," "," "," "," "," "]
[" "," "," "," "," "," "," "," "," "," "]
[" "," "," "," "," "," "," "," "," "," "]
[" "," "," "," "," "," "," "," "," "," "]
[" "," "," "," "," "," "," "," "," "," "]
[" "," "," "," "," "," "," "," "," "," "]
[" "," "," "," "," "," "," "," "," "," "]
[" "," "," "," "," "," "," "," "," "," "]
[" "," "," "," "," "," "," "," "," "," "]
[" "," "," "," "," "," "," "," "," "," "]
[" "," "," "," "," "," "," "," "," "," "]
[" "," "," "," "," "," "," "," "," "," "]
[" "," "," "," "," "," "," "," "," "," "]
[" "," "," "," "," "," "," "," "," "," "]
[" "," "," "," "," "," "," "," "," "," "]
[" "," "," "," "," "," "," "," "," "," "]
[" "," "," "," "," "," "," "," "," "," "]
[" "," "," "," "," "," "," "," "," "," "]
[" "," "," "," "," "," "," "," "," "," "]
[" "," "," "," "," "," "," "," "," "," "]
[" "," "," "," "," "," "," "," "," "," "]
[" "," "," "," "," "," "," "," "," "," "]
[" "," "," "," "," "," "," "," "," "," "]
[" "," "," "," "," "," "," "," "," "," "]
[" "," "," "," "," "," "," "," "," "," "]
[" "," "," "," "," "," "," "," "," "," "]
[" "," "," "," "," "," "," "," "," "," "]
[" "," "," "," "," "," "," "," "," "," "]
[" "," "," "," "," "," "," "," "," "," "]
[" "," "," "," "," "," "," "," "," "," "]
[" "," "," "," "," "," "," "," "," "," "]
[" "," "," "," "," "," "," "," "," "," "]
[" "," "," "," "," "," "," "," "," "," "]
[" "," "," "," "," "," "," "," "," "," "]
[" "," "," "," "," "," "," "," "," "," "]
[" "," "," "," "," "," "," "," "," "," "]
[" "," "," "," "," "," "," "," "," "," "]
[" "," "," "," "," "," "," "," "," "," "]
[" "," "," "," "," "," "," "," "," "," "]
[" "," "," "," "," "," "," "," "," "," "]
[" "," "," "," "," "," "," "," "," "," "]
[" "," "," "," "," "," "," "," "," "," "]
[" "," "," "," "," "," "," "," "," "," "]
[" "," "," "," "," "," "," "," "," "," "]
[" "," "," "," "," "," "," "," "," "," "]
[" "," "," "," "," "," "," "," "," "," "]
[" "," "," "," "," "," "," "," "," "," "]
[" "," "," "," "," "," "," "," "," "," "]
[" "," "," "," "," "," "," "," "," "," "]
[" "," "," "," "," "," "," "," "," "," "]
[" "," "," "," "," "," "," "," "," "," "]
[" "," "," "," "," "," "," "," "," "," "]
[" "," "," "," "," "," "," "," "," "," "]
[" "," "," "," "," "," "," "," "," "," "]
[" "," "," "," "," "," "," "," "," "," "]
[" "," "," "," "," "," "," "," "," "," "]
[" "," "," "," "," "," "," "," "," "," "]
[" "," "," "," "," "," "," "," "," "," "]
[" "," "," "," "," "," "," "," "," "," "]
[" "," "," "," "," "," "," "," "," "," "]
[" "," "," "," "," "," "," "," "," "," "]
[" "," "," "," "," "," "," "," "," "," "]
[" "," "," "," "," "," "," "," "," "," "]
[" "," "," "," "," "," "," "," "," "," "]
[" "," "," "," "," "," "," "," "," "," "]
[" "," "," "," "," "," "," "," "," "," "]
[" "," "," "," "," "," "," "," "," "," "]
[" "," "," "," "," "," "," "," "," "," "]
[" "," "," "," "," "," "," "," "," "," "]
[" "," "," "," "," "," "," "," "," "," "]
[" "," "," "," "," "," "," "," "," "," "]
[" "," "," "," "," "," "," "," "," "," "]
[" "," "," "," "," "," "," "," "," "," "]
[" "," "," "," "," "," "," "," "," "," "]
[" "," "," "," "," "," "," "," "," "," "]
[" "," "," "," "," "," "," "," "," "," "]
[" "," "," "," "," "," "," "," "," "," "]
[" "," "," "," "," "," "," "," "," "," "]
[" "," "," "," "," "," "," "," "," "," "]
[" "," "," "," "," "," "," "," "," "," "]
[" "," "," "," "," "," "," "," "," "," "]
[" "," "," "," "," "," "," "," "," "," "]
[" "," "," "," "," "," "," "," "," "," "]
[" "," "," "," "," "," "," "," "," "," "]
[" "," "," "," "," "," "," "," "," "," "]
[" "," "," "," "," "," "," "," "," "," "]
[" "," "," "," "," "," "," "," "," "," "]
[" "," "," "," "," "," "," "," "," "," "]
[" "," "," "," "," "," "," "," "," "," "]
[" "," "," "," "," "," "," "," "," "," "]
[" "," "," "," "," "," "," "," "," "," "]
[" "," "," "," "," "," "," "," "," "," "]
[" "," "," "," "," "," "," "," "," "," "]
[" "," "," "," "," "," "," "," "," "," "]
[" "," "," "," "," "," "," "," "," "," "]
[" "," "," "," "," "," "," "," "," "," "]
[" "," "," "," "," "," "," "," "," "," "]
[" "," "," "," "," "," "," "," "," "," "]
[" "," "," "," "," "," "," "," "," "," "]
[" "," "," "," "," "," "," "," "," "," "]
[" "," "," "," "," "," "," "," "," "," "]
[" "," "," "," "," "," "," "," "," "," "]
[" "," "," "," "," "," "," "," "," "," "]
[" "," "," "," "," "," "," "," "," "," "]
[" "," "," "," "," "," "," "," "," "," "]
[" "," "," "," "," "," "," "," "," "," "]
[" "," "," "," "," "," "," "," "," "," "]
[" "," "," "," "," "," "," "," "," "," "]
[" "," "," "," "," "," "," "," "," "," "]
[" "," "," "," "," "," "," "," "," "," "]
[" "," "," "," "," "," "," "," "," "," "]
[" "," "," "," "," "," "," "," "," "," "]
[" "," "," "," "," "," "," "," "," "," "]
[" "," "," "," "," "," "," "," "," "," "]
[" "," "," "," "," "," "," "," "," "," "]
[" "," "," "," "," "," "," "," "," "," "]
[" "," "," "," "," "," "," "," "," "," "]
[" "," "," "," "," "," "," "," "," "," "]
[" "," "," "," "," "," "," "," "," "," "]
[" "," "," "," "," "," "," "," "," "," "]
[" "," "," "," "," "," "," "," "," "," "]
[" "," "," "," "," "," "," "," "," "," "]
[" "," "," "," "," "," "," "," "," "," "]
[" "," "," "," "," "," "," "," "," "," "]
[" "," "," "," "," "," "," "," "," "," "]
[" "," "," "," "," "," "," "," "," "," "]
[" "," "," "," "," "," "," "," "," "," "]
[" "," "," "," "," "," "," "," "," "," "]
[" "," "," "," "," "," "," "," "," "," "]
[" "," "," "," "," "," "," "," "," "," "]
[" "," "," "," "," "," "," "," "," "," "]
[" "," "," "," "," "," "," "," "," "," "]
[" "," "," "," "," "," "," "," "," "," "]
[" "," "," "," "," "," "," "," "," "," "]
[" "," "," "," "," "," "," "," "," "," "]
[" "," "," "," "," "," "," "," "," "," "]
[" "," "," "," "," "," "," "," "," "," "]
[" "," "," "," "," "," "," "," "," "," "]
[" "," "," "," "," "," "," "," "," "," "]
[" "," "," "," "," "," "," "," "," "," "]
[" "," "," "," "," "," "," "," "," "," "]
[" "," "," "," "," "," "," "," "," "," "]
[" "," "," "," "," "," "," "," "," "," "]
[" "," "," "," "," "," "," "," "," "," "]
[" "," "," "," "," "," "," "," "," "," "]
[" "," "," "," "," "," "," "," "," "," "]
[" "," "," "," "," "," "," "," "," "," "]
[" "," "," "," "," "," "," "," "," "," "]
[" "," "," "," "," "," "," "," "," "," "]
[" "," "," "," "," "," "," "," "," "," "]
[" "," "," "," "," "," "," "," "," "," "]
[" "," "," "," "," "," "," "," "," "," "]
[" "," "," "," "," "," "," "," "," "," "]
[" "," "," "," "," "," "," "," "," "," "]
[" "," "," "," "," "," "," "," "," "," "]
[" "," "," "," "," "," "," "," "," "," "]
[" "," "," "," "," "," "," "," "," "," "]
[" "," "," "," "," "," "," "," "," "," "]
[" "," "," "," "," "," "," "," "," "," "]
[" "," "," "," "," "," "," "," "," "," "]
[" "," "," "," "," "," "," "," "," "," "]
[" "," "," "," "," "," "," "," "," "," "]
[" "," "," "," "," "," "," "," "," "," "]
[" "," "," "," "," "," "," "," "," "," "]
[" "," "," "," "," "," "," "," "," "," "]
[" "," "," "," "," "," "," "," "," "," "]
[" "," "," "," "," "," "," "," "," "," "]
[" "," "," "," "," "," "," "," "," "," "]

{"sheet":"LV 2","index":2,"n_rows":1100,"n_cols":15,"rows_kept":1100,"cut":false,"hidden":false,"merged":[]}
[]
[" ","MODELLO PREDATORE-PREDA DI LOTKA VOLTERRA"]
["neq","to","tf","y0(1)","y0(2)","costa","costb","costc","costd","costk","nstep","imod"]
[2,0,120,8,0.7,0.3,0.09,7.0000000000000001E-3,0.09,null,500,1]
[" "," ",100," "," "," ",null,null," ",null,100]
[null,null,null,null,null,null,null,null,null,null,null," "]
[null,null,"y2fin","y1fin",null,"xeq","yeq"]
[null,null,{"$f":"C511","v":1.4039562597109123},{"$f":"D511","v":7.2779453788665318},null,{"$f":"I4/H4","v":12.857142857142856},{"$f":"F4/G4","v":3.3333333333333335}]
[]
["n","t","x","y"," ","x = numero prede ( migliaia)",null,null,null," "]
[1,0,8,0.7," ","y = numero predatori ( migliaia)",null,null,null," "]
[2,0.24,8.4687347368781296,0.69458198262116655," "," "," "," "," "," "]
[3,0.48,8.9659248391798485,0.68976517721479225," "," "," "," "," "," "]
[4,0.72,9.4932286073689163,0.68557134434835842," "," "," "," "," "," "]
[5,0.96,10.052384906804916,0.68202499074559231," "," "," "," "," "," "]
[6,1.2,10.645214176498943,0.67915368244078611," "," "," "," "," "," "]
[7,1.44,11.273618834612613,0.67698840165127516," "," "," "," "," "," "]
[8,1.68,11.939582932429893,0.67556395410372905," "," "," "," "," "," "]
[9,1.92,12.645170880359959,0.67491943467667759," "," "," "," "," "," "]
[10,2.16,13.39252503626011,0.67509876054689377," "," "," "," "," "," "]
[11,2.4,14.183861907089934,0.67615128258605084," "," "," "," "," "," "]
[12,2.6399999999999997,15.021466668556226,0.67813248758726985," "," "," "," "," "," "]
[13,2.88,15.907685652742437,0.68110480605581836," "," "," "," "," "," "]
[14,3.12,16.844916389301556,0.68513854282793629," "," "," "," "," "," "]
[15,3.36,17.835594709979976,0.69031295074682986," "," "," "," "," "," "]
[16,3.5999999999999996,18.882178337161967,0.69671747109168181," "," "," "," "," "," "]
[17,3.84,19.987126272687842,0.70445316849513628," "," "," "," "," "," "]
[18,4.08,21.152873181113311,0.7136343927697818," "," "," "," "," "," "]
[19,4.32,22.381797819410053,0.72439070546359363," "," "," "," "," "," "]
[20,4.5599999999999996,23.67618440039611,0.73686911513414988," "," "," "," "," "," "]
[21,4.8,25.038175587634143,0.75123667230040025," "," "," "," "," "," "]
[22,5.04,26.469715603342582,0.7676834827774498," "," "," "," "," "," "]
[23,5.2799999999999994,27.972481687233813,0.78642620651820527," "," "," "," "," "," "]
[24,5.52,29.547801874131974,0.80771211793335707," "," "," "," "," "," "]
[25,5.76,31.196556765739683,0.83182381248284665," "," "," "," "," "," "]
[26,6,32.91906266580235,0.85908465234900799," "," "," "," "," "," "]
[27,6.24,34.714933144296239,0.88986504995354831," "," "," "," "," "," "]
[28,6.4799999999999995,36.582915822304955,0.92458969000290192," "," "," "," "," "," ",null,null," "," "," "]
[29,6.72,38.520700968280195,0.96374578566440805," "," "," "," "," "," ",null,null," "," "," "]
[30,6.96,40.5246984349372,1.0078924479926219," "," "," "," "," "," ",null,null," "," "," "]
[31,7.1999999999999993,42.589779643178844,1.0576712134874799," "," "," "," "," "," ",null,null," "," "," "]
[32,7.4399999999999995,44.708981878707505,1.1138177136993859," "," "," "," "," "," ",null,null," "," "," "]
[33,7.68,46.873173310792161,1.1771743707362394," "," "," "," "," "," ",null,null," "," "," "]
[34,7.92,49.070679148240743,1.2487038468374654," "," "," "," "," "," ",null,null," "," "," "]
[35,8.16,51.286872581758452,1.3295027435646318," "," "," "," "," "," ",null,null," "," "," "]
[36,8.4,53.503739088688171,1.4208147105870588," "," "," "," "," "," ",null,null," "," "," "]
[37,8.64,55.699429847396694,1.5240416561266421," "," "," "," "," "," ",null,null," "," "," "]
[38,8.879999999999999,57.847830018389949,1.6407511220699826," "," "," "," "," "," ",null,null," "," "," "]
[39,9.1199999999999992,59.918181025411521,1.7726770766743554," "," "," "," "," "," ",null,null," "," "," "]
[40,9.36,61.874812963536094,1.9217103908297151," "," "," "," "," "," ",null,null," "," "," "]
[41,9.6,63.677063490878311,2.0898741526477522," "," "," "," "," "," ",null,null," "," "," "]
[42,9.84,65.279481473626376,2.2792778763451165," "," "," "," "," "," ",null,null," "," "," "]
[43,10.08,66.632433818688099,2.492043839926259," "," "," "," "," "," ",null,null," "," "," "]
[44,10.32,67.683246271589596,2.7301986785974472," "," "," "," "," "," ",null,null," "," "," "]
[45,10.559999999999999,68.378004271678563,2.9955245933416599," "," "," "," "," "," ",null,null," "," "," "]
[46,10.799999999999999,68.66410627459598,3.2893678724676878," "," "," "," "," "," ",null,null," "," "," "]
[47,11.04,68.493586662141567,3.6124085971114659," "," "," "," "," "," ",null,null," "," "," "]
[48,11.28,67.827099928857464,3.9644047469077099," "," "," "," "," "," ",null,null," "," "," "]
[49,11.52,66.638285283511024,4.3439358602107534," "," "," "," "," "," ",null,null," "," "," "]
[50,11.76,64.918034255607324,4.748183888713343," "," "," "," "," "," ",null,null," "," "," "]
[51,12,62.678011750292498,5.1727981700976366," "," "," "," "," "," ",null,null," "," "," "]
[52,12.24,59.952702047453975,5.6118926180950295," "," "," "," "," "," ",null,null," "," "," "]
[53,12.48,56.799334361269061,6.058211888388894," "," "," "," "," "," ",null,null," "," "," "]
[54,12.719999999999999,53.295322900460555,6.5034780120247468," "," "," "," "," "," ",null,null," "," "," "]
[55,12.959999999999999,49.533302097746919,6.9388935901826549," "," "," "," "," "," ",null,null," "," "," "]
[56,13.2,45.614340207128954,7.3557413433254659," "," "," "," "," "," ",null,null," "," "," "]
[57,13.44,41.640318684172257,7.7459944522956468," "," "," "," "," "," ",null,null," "," "," "]
[58,13.68,37.706633038051379,8.1028471155115263," "," "," "," "," "," ",null,null," "," "," "]
[59,13.92,33.896247816872773,8.4210923766880654," "," "," "," "," "," ",null,null," "," "," "]
[60,14.16,30.275777093330738,8.6973084597183075," "," "," "," "," "," ",null,null," "," "," "]
[61,14.399999999999999,26.893794819025118,8.9298540466488685," "," "," "," "," "," ",null,null," "," "," "]
[62,14.639999999999999,23.781154558763021,9.1187055045088918," "," "," "," "," "," ",null,null," "," "," "]
[63,14.879999999999999,20.952818248641329,9.2651877932351532," "," "," "," "," "," ",null,null," "," "," "]
[64,15.12,18.410590039561509,9.371654490534425," "," "," "," "," "," ",null,null," "," "," "]
[65,15.36,16.146194398737045,9.4411645705891907," "," "," "," "," "," ",null,null," "," "," "]
[66,15.6,14.144267726378335,9.4771897677797039," "," "," "," "," "," ",null,null," "," "," "]
[67,15.84,12.384990050668206,9.4833715791854516," "," "," "," "," "," ",null,null," "," "," "]
[68,16.079999999999998,10.846225652282348,9.4633345020150248," "," "," "," "," "," ",null,null," "," "," "]
[69,16.32,9.5051479997005881,9.4205533576973632," "," "," "," "," "," ",null,null," "," "," "]
[70,16.559999999999999,8.3393914075917266,9.3582675150618417," "," "," "," "," "," ",null,null," "," "," "]
[71,16.8,7.3278054206163237,9.2794327397149683," "," "," "," "," "," ",null,null," "," "," "]
[72,17.04,6.4508977218777819,9.186701300705213," "," "," "," "," "," ",null,null," "," "," "]
[73,17.28,5.6910467108029046,9.0824219925719234," "," "," "," "," "," ",null,null," "," "," "]
[74,17.52,5.0325530694013052,8.9686532383626485," "," "," "," "," "," ",null,null," "," "," "]
[75,17.759999999999998,4.4615855133577345,8.8471840170242473," "," "," "," "," "," ",null,null," "," "," "]
[76,18,3.9660623336072391,8.719558783800089," "," "," "," "," "," ",null,null," "," "," "]
[77,18.239999999999998,3.5354986346498278,8.5871037309735012," "," "," "," "," "," ",null,null," "," "," "]
[78,18.48,3.1608398020798463,8.4509526524501073," "," "," "," "," "," ",null,null," "," "," "]
[79,18.72,2.8342946062206047,8.3120713537181921," "," "," "," "," "," ",null,null," "," "," "]
[80,18.96,2.5491761582761403,8.1712800295136905," "," "," "," "," "," ",null,null," "," "," "]
[81,19.2,2.2997552956713565,8.0292733584980827," "," "," "," "," "," ",null,null," "," "," "]
[82,19.439999999999998,2.0811285152332664,7.8866382766547511," "," "," "," "," "," ",null,null," "," "," "]
[83,19.68,1.8891009808575157,7.7438695212950286," "," "," "," "," "," ",null,null," "," "," "]
[84,19.919999999999998,1.7200841542762131,7.6013831107469265," "," "," "," "," "," ",null,null," "," "," "]
[85,20.16,1.5710070416617745,7.4595279597904547," "," "," "," "," "," ",null,null," "," "," "]
[86,20.399999999999999,1.4392397742112819,7.3185958412770766," "," "," "," "," "," ",null,null," "," "," "]
[87,20.64,1.3225281471327111,7.1788298996381785," "," "," "," "," "," ",null,null," "," "," "]
[88,20.88,1.2189377588442738,7.0404319086306266," "," "," "," "," "," ",null,null," "," "," "]
[89,21.119999999999997,1.1268064734554608,6.9035684479788619," "," "," "," "," "," ",null,null," "," "," "]
[90,21.36,1.0447040435650403,6.768376154301631," "," "," "," "," "," ",null,null," "," "," "]
[91,21.599999999999998,0.97139785716900739,6.6349661825440043," "," "," "," "," "," ",null,null," "," "," "]
[92,21.84,0.9058238997914011,6.5034279960436452," "," "," "," "," "," ",null,null," "," "," "]
[93,22.08,0.84706214375427735,6.3738325868469188," "," "," "," "," "," ",null,null," "," "," "]
[94,22.32,0.79431568708161593,6.2462352131589727," "," "," "," "," "," ",null,null," "," "," "]
[95,22.56,0.74689306332227257,6.1206777278826028," "," "," "," "," "," ",null,null," "," "," "]
[96,22.8,0.70419323033221115,5.9971905609873986," "," "," "," "," "," ",null,null," "," "," "]
[97,23.04,0.66569282129467966,5.8757944088112746," "," "," "," "," "," ",null,null," "," "," "]
[98,23.279999999999998,0.63093530590452318,5.7565016751646798," "," "," "," "," "," ",null,null," "," "," "]
[99,23.52,0.59952176480526087,5.6393177021128267," "," "," "," "," "," ",null,null," "," "," "]
[100,23.759999999999998,0.57110302719124284,5.5242418223891079," "," "," "," "," "," ",null,null," "," "," "]
[101,24,0.54537296107771038,5.4112682603924682," "," "," "," "," "," ",null,null," "," "," "]
[102,24.24,0.52206273911987455,5.3003869045073921," "," "," "," "," "," ",null,null," "," "," "]
[103,24.48,0.50093593094460154,5.1915839699382929," "," "," "," "," "," ",null,null," "," "," "]
[104,24.72,0.48178429655140492,5.0848425682670415," "," "," "," "," "," ",null,null," "," "," "]
[105,24.96,0.46442417514286544,4.9801431974344803," "," "," "," "," "," ",null,null," "," "," "]
[106,25.2,0.44869338035900608,4.8774641637383134," "," "," "," "," "," ",null,null," "," "," "]
[107,25.439999999999998,0.43444852682721097,4.7767819456667082," "," "," "," "," "," ",null,null," "," "," "]
[108,25.68,0.42156272463223143,4.6780715078951793," "," "," "," "," "," ",null,null," "," "," "]
[109,25.919999999999998,0.40992358812488483,4.5813065725183453," "," "," "," "," "," ",null,null," "," "," "]
[110,26.16,0.39943151373002966,4.4864598535298121," "," "," "," "," "," ",null,null," "," "," "]
[111,26.4,0.38999818834141187,4.3935032596707533," "," "," "," "," "," ",null,null," "," "," "]
[112,26.64,0.38154529571808488,4.3024080700139837," "," "," "," "," "," ",null,null," "," "," "]
[113,26.88,0.37400339320399267,4.2131450860130721," "," "," "," "," "," ",null,null," "," "," "]
[114,27.119999999999997,0.36731093522895336,4.1256847632066531," "," "," "," "," "," ",null,null," "," "," "]
[115,27.36,0.36141342354084233,4.0399973253109014," "," "," "," "," "," ",null,null," "," "," "]
[116,27.599999999999998,0.35626266706966009,3.9560528630451222," "," "," "," "," "," ",null,null," "," "," "]
[117,27.84,0.3518161368215027,3.8738214197055947," "," "," "," "," "," ",null,null," "," "," "]
[118,28.08,0.34803640331695379,3.7932730652221007," "," "," "," "," "," ",null,null," "," "," "]
[119,28.32,0.34489064588481461,3.7143779601922904," "," "," "," "," "," ",null,null," "," "," "]
[120,28.56,0.34235022464914278,3.6371064111847589," "," "," "," "," "," ",null,null," "," "," "]
[121,28.799999999999997,0.34039030734772119,3.5614289184270778," "," "," "," "," "," ",null,null," "," "," "]
[122,29.04,0.33898954422887201,3.4873162168454801," "," "," "," "," "," ",null,null," "," "," "]
[123,29.279999999999998,0.33812978522073833,3.414739311294682," "," "," "," "," "," ",null,null," "," "," "]
[124,29.52,0.33779583437776378,3.3436695067061888," "," "," "," "," "," ",null,null," "," "," "]
[125,29.759999999999998,0.33797523730409185,3.2740784337887239," "," "," "," "," "," ",null,null," "," "," "]
[126,30,0.33865809785062367,3.2059380708328336," "," "," "," "," "," ",null,null," "," "," "]
[127,30.24,0.33983692089637563,3.1392207621013335," "," "," "," "," "," ",null,null," "," "," "]
[128,30.48,0.34150647846809495,3.0738992332264732," "," "," "," "," "," ",null,null," "," "," "]
[129,30.72,0.34366369683539577,3.0099466039820828," "," "," "," "," "," ",null,null," "," "," "]
[130,30.959999999999997,0.34630756255092049,2.9473363987534067," "," "," "," "," "," ",null,null," "," "," "]
[131,31.2,0.34943904569378048,2.8860425549877862," "," "," "," "," "," ",null,null," "," "," "]
[132,31.439999999999998,0.3530610388262157,2.8260394298750073," "," "," "," "," "," ",null,null," "," "," "]
[133,31.68,0.35717831039348985,2.7673018054762624," "," "," "," "," "," ",null,null," "," "," "]
[134,31.919999999999998,0.36179747149015545,2.709804892494641," "," "," "," "," "," ",null,null," "," "," "]
[135,32.159999999999997,0.36692695508593781,2.6535243328573839," "," "," "," "," "," ",null,null," "," "," "]
[136,32.4,0.37257700695498619,2.5984362012603168," "," "," "," "," "," ",null,null," "," "," "]
[137,32.64,0.37875968768601703,2.5445170058075628," "," "," "," "," "," ",null,null," "," "," "]
[138,32.879999999999995,0.38548888527041314,2.4917436878644916," "," "," "," "," "," ",null,null," "," "," "]
[139,33.119999999999997,0.39278033787277877,2.4400936212285824," "," "," "," "," "," ",null,null," "," "," "]
[140,33.36,0.40065166648562406,2.3895446107112615," "," "," "," "," "," ",null,null," "," "," "]
[141,33.6,0.40912241725835335,2.3400748902135633," "," "," "," "," "," ",null,null," "," "," "]
[142,33.839999999999996,0.4182141133719367,2.2916631203695252," "," "," "," "," "," ",null,null," "," "," "]
[143,34.08,0.4279503164057521,2.2442883858233547," "," "," "," "," "," ",null,null," "," "," "]
[144,34.32,0.43835669721313958,2.1979301921995154," "," "," "," "," "," ",null,null," "," "," "]
[145,34.56,0.44946111638812142,2.1525684628188215," "," "," "," "," "," ",null,null," "," "," "]
[146,34.799999999999997,0.46129371446832013,2.1081835352083029," "," "," "," "," "," ",null,null," "," "," "]
[147,35.04,0.47388701207905143,2.0647561574479552," "," "," "," "," "," ",null,null," "," "," "]
[148,35.28,0.48727602028151579,2.0222674843933959," "," "," "," "," "," ",null,null," "," "," "]
[149,35.519999999999996,0.50149836144451243,1.9806990738098869," "," "," "," "," "," ",null,null," "," "," "]
[150,35.76,0.51659440101465692,1.9400328824500748," "," "," "," "," "," ",null,null," "," "," "]
[151,36,0.53260739061514428,1.9002512621050993," "," "," "," "," "," ",null,null," "," "," "]
[152,36.24,0.5495836229580684,1.8613369556563997," "," "," "," "," "," ",null,null," "," "," "]
[153,36.479999999999997,0.56757259911055291,1.8232730931535444," "," "," "," "," "," ",null,null," "," "," "]
[154,36.72,0.58662720871080243,1.7860431879417304," "," "," "," "," "," ",null,null," "," "," "]
[155,36.96,0.60680392378694847,1.7496311328611727," "," "," "," "," "," ",null,null," "," "," "]
[156,37.199999999999996,0.62816300688952309,1.7140211965394572," "," "," "," "," "," ",null,null," "," "," "]
[157,37.44,0.65076873430779647,1.6791980197970067," "," "," "," "," "," ",null,null," "," "," "]
[158,37.68,0.67468963520129688,1.6451466121851146," "," "," "," "," "," ",null,null," "," "," "]
[159,37.92,0.69999874754080316,1.6118523486755214," "," "," "," "," "," ",null,null," "," "," "]
[160,38.159999999999997,0.72677389181815366,1.5793009665202322," "," "," "," "," "," ",null,null," "," "," "]
[161,38.4,0.75509796355151537,1.5474785623001928," "," "," "," "," "," ",null,null," "," "," "]
[162,38.64,0.78505924568246155,1.5163715891815635," "," "," "," "," "," ",null,null," "," "," "]
[163,38.879999999999995,0.81675174203342693,1.4859668543986466," "," "," "," "," "," ",null,null," "," "," "]
[164,39.119999999999997,0.85027553306895642,1.4562515169830315," "," "," "," "," "," ",null,null," "," "," "]
[165,39.36,0.88573715528169972,1.427213085759248," "," "," "," "," "," ",null,null," "," "," "]
[166,39.6,0.92325000560437287,1.3988394176281413," "," "," "," "," "," ",null,null," "," "," "]
[167,39.839999999999996,0.96293477233190361,1.3711187161603389," "," "," "," "," "," ",null,null," "," "," "]
[168,40.08,1.0049198941236617,1.3440395305235646," "," "," "," "," "," ",null,null," "," "," "]
[169,40.32,1.0493420487439566,1.3175907547691994," "," "," "," "," "," ",null,null," "," "," "]
[170,40.559999999999995,1.0963466732897043,1.2917616275053994," "," "," "," "," "," ",null,null," "," "," "]
[171,40.799999999999997,1.1460885177471116,1.2665417319862933," "," "," "," "," "," ",null,null," "," "," "]
[172,41.04,1.1987322338140958,1.241920996649319," "," "," "," "," "," ",null,null," "," "," "]
[173,41.28,1.2544530010215513,1.2178896961356496," "," "," "," "," "," ",null,null," "," "," "]
[174,41.519999999999996,1.313437192284006,1.1944384528319554," "," "," "," "," "," ",null,null," "," "," "]
[175,41.76,1.3758830811080205,1.1715582389754742," "," "," "," "," "," ",null,null," "," "," "]
[176,42,1.442001592784123,1.1492403793685879," "," "," "," "," "," ",null,null," "," "," "]
[177,42.239999999999995,1.512017101984152,1.1274765547538754," "," "," "," "," "," ",null,null," "," "," "]
[178,42.48,1.5861682792794607,1.1062588059060015," "," "," "," "," "," ",null,null," "," "," "]
[179,42.72,1.6647089891850997,1.0855795385028855," "," "," "," "," "," ",null,null," "," "," "]
[180,42.96,1.7479092424191662,1.0654315288454612," "," "," "," "," "," ",null,null," "," "," "]
[181,43.199999999999996,1.8360562051429707,1.0458079305030881," "," "," "," "," "," ",null,null," "," "," "]
[182,43.44,1.929455268014129,1.0267022819704301," "," "," "," "," "," ",null,null," "," "," "]
[183,43.68,2.028431177938312,1.0081085154315061," "," "," "," "," "," ",null,null," "," "," "]
[184,43.92,2.1333292354427935,0.99002096673778983," "," "," "," "," "," ",null,null," "," "," "]
[185,44.16,2.2445165606121757,0.97243438671988836," "," "," "," "," "," ",null,null," "," "," "]
[186,44.4,2.3623834305190496,0.95534395396664107," "," "," "," "," "," ",null,null," "," "," "]
[187,44.64,2.4873446910443509,0.93874528922170819," "," "," "," "," "," ",null,null," "," "," "]
[188,44.879999999999995,2.6198412459073168,0.92263447156612421," "," "," "," "," "," ",null,null," "," "," "]
[189,45.12,2.7603416256056175,0.90700805657619132," "," "," "," "," "," ",null,null," "," "," "]
[190,45.36,2.9093436387934801,0.89186309666985175," "," "," "," "," "," ",null,null," "," "," "]
[191,45.6,3.0673761083889315,0.87719716388172231," "," "," "," "," "," ",null,null," "," "," "]
[192,45.839999999999996,3.2350006943883574,0.86300837533779173," "," "," "," "," "," ",null,null," "," "," "]
[193,46.08,3.412813804962946,0.84929542173594641," "," "," "," "," "," ",null,null," "," "," "]
[194,46.32,3.6014485969002981,0.8360575991786563," "," "," "," "," "," ",null,null," "," "," "]
[195,46.559999999999995,3.80157706581568,0.8232948447501065," "," "," "," "," "," ",null,null," "," "," "]
[196,46.8,4.0139122257677258,0.8110077762826885," "," "," "," "," "," ",null,null," "," "," "]
[197,47.04,4.239210376945505,0.79919773681813633," "," "," "," "," "," ",null,null," "," "," "]
[198,47.28,4.4782734589156226,0.78786684433792908," "," "," "," "," "," ",null,null," "," "," "]
[199,47.519999999999996,4.7319514854916926,0.7770180474173346," "," "," "," "," "," ",null,null," "," "," "]
[200,47.76,5.001145055569773,0.76665518754933049," "," "," "," "," "," ",null,null," "," "," "]
[201,48,5.2868079322100918,0.75678306899060033," "," "," "," "," "," ",null,null," "," "," "]
[202,48.239999999999995,5.5899496797763151,0.74740753710420671," "," "," "," "," "," ",null,null," "," "," "]
[203,48.48,5.9116383459965922,0.7385355663151455," "," "," "," "," "," ",null,null," "," "," "]
[204,48.72,6.2530031723006996,0.73017535895903607," "," "," "," "," "," ",null,null," "," "," "]
[205,48.96,6.6152373116147407,0.72233645649453804," "," "," "," "," "," ",null,null," "," "," "]
[206,49.199999999999996,6.9996005278409612,0.71502986477123565," "," "," "," "," "," ",null,null," "," "," "]
[207,49.44,7.4074218453761382,0.70826819530204532," "," "," "," "," "," ",null,null," "," "," "]
[208,49.68,7.8401021100632899,0.70206582478902912," "," "," "," "," "," ",null,null," "," "," "]
[209,49.92,8.2991164147340513,0.69643907550131567," "," "," "," "," "," ",null,null," "," "," "]
[210,50.16,8.7860163327536398,0.69140641951253778," "," "," "," "," "," ",null,null," "," "," "]
[211,50.4,9.3024318914558943,0.68698871028329145," "," "," "," "," "," ",null,null," "," "," "]
[212,50.64,9.8500732037321459,0.68320944563405606," "," "," "," "," "," ",null,null," "," "," "]
[213,50.879999999999995,10.430731659936141,0.68009506681052456," "," "," "," "," "," ",null,null," "," "," "]
[214,51.12,11.046280563240849,0.67767529911377655," "," "," "," "," "," ",null,null," "," "," "]
[215,51.36,11.698675069103874,0.67598354047275633," "," "," "," "," "," ",null,null," "," "," "]
[216,51.6,12.389951262943994,0.67505730540030129," "," "," "," "," "," ",null,null," "," "," "]
[217,51.839999999999996,13.122224178769356,0.67493873302495477," "," "," "," "," "," ",null,null," "," "," "]
[218,52.08,13.897684524467211,0.67567516936227212," "," "," "," "," "," ",null,null," "," "," "]
[219,52.32,14.718593835757819,0.67731983572003318," "," "," "," "," "," ",null,null," "," "," "]
[220,52.559999999999995,15.587277729255575,0.67993259716648025," "," "," "," "," "," ",null,null," "," "," "]
[221,52.8,16.50611686430479,0.6835808473806616," "," "," "," "," "," ",null,null," "," "," "]
[222,53.04,17.477535151695601,0.68834052900712606," "," "," "," "," "," ",null,null," "," "," "]
[223,53.28,18.503984663226838,0.694297311917909," "," "," "," "," "," ",null,null," "," "," "]
[224,53.519999999999996,19.587926597352808,0.70154795561262862," "," "," "," "," "," ",null,null," "," "," "]
[225,53.76,20.731807540605619,0.71020188643513504," "," "," "," "," "," ",null,null," "," "," "]
[226,54,21.93803012973191,0.72038302542358057," "," "," "," "," "," ",null,null," "," "," "]
[227,54.239999999999995,23.208917063053896,0.73223190850195852," "," "," "," "," "," ",null,null," "," "," "]
[228,54.48,24.546667229075357,0.7459081474055993," "," "," "," "," "," ",null,null," "," "," "]
[229,54.72,25.953302513778187,0.76159328721046426," "," "," "," "," "," ",null,null," "," "," "]
[230,54.96,27.430603614166735,0.77949412453527134," "," "," "," "," "," ",null,null," "," "," "]
[231,55.199999999999996,28.980032924669199,0.79984655921980141," "," "," "," "," "," ",null,null," "," "," "]
[232,55.44,30.602642277771857,0.82292006118316507," "," "," "," "," "," ",null,null," "," "," "]
[233,55.68,32.298963017583681,0.84902284258389549," "," "," "," "," "," ",null,null," "," "," "]
[234,55.919999999999995,34.068875578074277,0.87850783227184981," "," "," "," "," "," ",null,null," "," "," "]
[235,56.16,35.911455449239753,0.91177955315581183," "," "," "," "," "," ",null,null," "," "," "]
[236,56.4,37.824792181321804,0.94930200093551764," "," "," "," "," "," ",null,null," "," "," "]
[237,56.64,39.805777956785761,0.99160761082537863," "," "," "," "," "," ",null,null," "," "," "]
[238,56.879999999999995,41.849862338338063,1.0393073718404329," "," "," "," "," "," ",null,null," "," "," "]
[239,57.12,43.950770205043128,1.0931020979628632," "," "," "," "," "," ",null,null," "," "," "]
[240,57.36,46.100180797312454,1.1537947809909883," "," "," "," "," "," ",null,null," "," "," "]
[241,57.599999999999994,48.287367454019432,1.2223038161206217," "," "," "," "," "," ",null,null," "," "," "]
[242,57.839999999999996,50.498800374797206,1.2996766887562301," "," "," "," "," "," ",null,null," "," "," "]
[243,58.08,52.717719007175702,1.3871034152802364," "," "," "," "," "," ",null,null," "," "," "]
[244,58.32,54.923686965117795,1.4859286130412943," "," "," "," "," "," ",null,null," "," "," "]
[245,58.559999999999995,57.092151320238088,1.5976605059677715," "," "," "," "," "," ",null,null," "," "," "]
[246,58.8,59.194040238764863,1.7239744275990165," "," "," "," "," "," ",null,null," "," "," "]
[247,59.04,61.195448647875217,1.8667074562985406," "," "," "," "," "," ",null,null," "," "," "]
[248,59.28,63.057480799149147,2.0278397399163377," "," "," "," "," "," ",null,null," "," "," "]
[249,59.519999999999996,64.736340191263736,2.2094569412744693," "," "," "," "," "," ",null,null," "," "," "]
[250,59.76,66.183778642930704,2.4136872755877437," "," "," "," "," "," ",null,null," "," "," "]
[251,60,67.348032315574414,2.6426061878320501," "," "," "," "," "," ",null,null," "," "," "]
[252,60.239999999999995,68.175375097223224,2.89810239205196," "," "," "," "," "," ",null,null," "," "," "]
[253,60.48,68.61239785533752,3.1817014942262931," "," "," "," "," "," ",null,null," "," "," "]
[254,60.72,68.609062872964088,3.4943485182457219," "," "," "," "," "," ",null,null," "," "," "]
[255,60.96,68.122475592980607,3.8361588797841835," "," "," "," "," "," ",null,null," "," "," "]
[256,61.199999999999996,67.121158539340371,4.2061585184747665," "," "," "," "," "," ",null,null," "," "," "]
[257,61.44,65.589420052593965,4.6020465326503501," "," "," "," "," "," ",null,null," "," "," "]
[258,61.68,63.531222580248084,5.0200246069827266," "," "," "," "," "," ",null,null," "," "," "]
[259,61.919999999999995,60.972834721055754,5.4547421565421015," "," "," "," "," "," ",null,null," "," "," "]
[260,62.16,57.963570222410155,5.8993995878714625," "," "," "," "," "," ",null,null," "," "," "]
[261,62.4,54.574127057191781,6.3460316227040607," "," "," "," "," "," ",null,null," "," "," "]
[262,62.64,50.892435368672885,6.7859600261893416," "," "," "," "," "," ",null,null," "," "," "]
[263,62.879999999999995,47.017421905917615,7.2103677864604894," "," "," "," "," "," ",null,null," "," "," "]
[264,63.12,43.051555919689172,7.6109162299456301," "," "," "," "," "," ",null,null," "," "," "]
[265,63.36,39.093305226437501,7.980313618432076," "," "," "," "," "," ",null,null," "," "," "]
[266,63.599999999999994,35.230611017889998,8.3127536498735068," "," "," "," "," "," ",null,null," "," "," "]
[267,63.839999999999996,31.536201071468867,8.6041717317723982," "," "," "," "," "," ",null,null," "," "," "]
[268,64.08,28.065113917643316,8.8523057594459544," "," "," "," "," "," ",null,null," "," "," "]
[269,64.319999999999993,24.854351620226087,9.0565841786849806," "," "," "," "," "," ",null,null," "," "," "]
[270,64.56,21.924240091448919,9.2178881977073619," "," "," "," "," "," ",null,null," "," "," "]
[271,64.8,19.280910476651243,9.3382438389787943," "," "," "," "," "," ",null,null," "," "," "]
[272,65.039999999999992,16.919312168158733,9.4204952193142368," "," "," "," "," "," ",null,null," "," "," "]
[273,65.28,14.826274570943465,9.4679981333739001," "," "," "," "," "," ",null,null," "," "," "]
[274,65.52,12.983288328623466,9.484358103399309," "," "," "," "," "," ",null,null," "," "," "]
[275,65.759999999999991,11.368827786267751,9.4732235255231014," "," "," "," "," "," ",null,null," "," "," "]
[276,66,9.9601568530904991,9.4381344226679555," "," "," "," "," "," ",null,null," "," "," "]
[277,66.239999999999995,8.7346411457802304,9.382421019968751," "," "," "," "," "," ",null,null," "," "," "]
[278,66.48,7.6706337316036421,9.3091433326311606," "," "," "," "," "," ",null,null," "," "," "]
[279,66.72,6.7480188947938977,9.2210622622452174," "," "," "," "," "," ",null,null," "," "," "]
[280,66.959999999999994,5.9484978688815344,9.1206334119604691," "," "," "," "," "," ",null,null," "," "," "]
[281,67.2,5.2556905191687582,9.0100162261174805," "," "," "," "," "," ",null,null," "," "," "]
[282,67.44,4.6551132346516981,8.8910926467412672," "," "," "," "," "," ",null,null," "," "," "]
[283,67.679999999999993,4.1340792900950589,8.7654909749251502," "," "," "," "," "," ",null,null," "," "," "]
[284,67.92,3.6815554806647932,8.634611896298571," "," "," "," "," "," ",null,null," "," "," "]
[285,68.16,3.2879986215375365,8.4996546378139897," "," "," "," "," "," ",null,null," "," "," "]
[286,68.399999999999991,2.9451876091380949,8.3616419814735075," "," "," "," "," "," ",null,null," "," "," "]
[287,68.64,2.6460609058403972,8.2214434064066033," "," "," "," "," "," ",null,null," "," "," "]
[288,68.88,2.3845651638004823,8.0797960075102377," "," "," "," "," "," ",null,null," "," "," "]
[289,69.12,2.1555178652754345,7.9373230878644856," "," "," "," "," "," ",null,null," "," "," "]
[290,69.36,1.9544849894253848,7.7945504782684161," "," "," "," "," "," ",null,null," "," "," "]
[291,69.599999999999994,1.7776735444570351,7.6519207282030077," "," "," "," "," "," "]
[292,69.84,1.6218381167210254,7.5098053592812199," "," "," "," "," "," "]
[293,70.08,1.4842002272659289,7.3685153900854861," "," "," "," "," "," "]
[294,70.319999999999993,1.3623791377829111,7.228310341045673," "," "," "," "," "," "]
[295,70.56,1.2543327322273095,7.0894059171272374," "," "," "," "," "," "]
[296,70.8,1.15830716326193,6.9519805495662288," "," "," "," "," "," "]
[297,71.039999999999992,1.0727940577920114,6.816180958939106," "," "," "," "," "," "]
[298,71.28,0.9964941998114204,6.6821268825089861," "," "," "," "," "," "]
[299,71.52,0.92828673693152841,6.5499150902387946," "," "," "," "," "," "]
[300,71.759999999999991,0.86720308064905693,6.4196227967521837," "," "," "," "," "," "]
[301,72,0.81240478488691958,6.2913105611490945," "," "," "," "," "," "]
[302,72.239999999999995,0.76316479040027585,6.1650247530192672," "," "," "," "," "," "]
[303,72.48,0.71885151363949606,6.0407996511886148," "," "," "," "," "," "]
[304,72.72,0.67891533789861735,5.9186592315533684," "," "," "," "," "," "]
[305,72.959999999999994,0.64287713286502679,5.7986186916449647," "," "," "," "," "," "]
[306,73.2,0.61031848708517455,5.6806857521537664," "," "," "," "," "," "]
[307,73.44,0.58087338751583695,5.5648617693546765," "," "," "," "," "," "]
[308,73.679999999999993,0.55422112236747567,5.4511426870663335," "," "," "," "," "," "]
[309,73.92,0.53008021891984791,5.3395198522967373," "," "," "," "," "," "]
[310,74.16,0.50820325785495946,5.2299807149569952," "," "," "," "," "," "]
[311,74.399999999999991,0.48837243075419223,5.1225094288524922," "," "," "," "," "," "]
[312,74.64,0.47039572848184247,5.0170873684934829," "," "," "," "," "," "]
[313,74.88,0.45410366586114159,4.913693574024717," "," "," "," "," "," "]
[314,75.11999999999999,0.43934646288316059,4.812305134688228," "," "," "," "," "," "]
[315,75.36,0.42599161513370115,4.7128975196474014," "," "," "," "," "," "]
[316,75.599999999999994,0.4139217965665643,4.6154448636654433," "," "," "," "," "," "]
[317,75.84,0.40303304651997002,4.519920214006814," "," "," "," "," "," "]
[318,76.08,0.39323320024019992,4.4262957439820134," "," "," "," "," "," "]
[319,76.319999999999993,0.38444052837194259,4.3345429377557476," "," "," "," "," "," "]
[320,76.56,0.37658255608987534,4.2446327503622259," "," "," "," "," "," "]
[321,76.8,0.36959503694065532,4.1565357462991095," "," "," "," "," "," "]
[322,77.039999999999992,0.36342106017217285,4.0702222195868956," "," "," "," "," "," "]
[323,77.28,0.35801027345899683,3.9856622977692666," "," "," "," "," "," "]
[324,77.52,0.35331820558231475,3.9028260319806169," "," "," "," "," "," "]
[325,77.759999999999991,0.34930567586687561,3.8216834749097459," "," "," "," "," "," "]
[326,78,0.34593827908122277,3.7422047482355256," "," "," "," "," "," "]
[327,78.239999999999995,0.34318593612494241,3.6643601008943065," "," "," "," "," "," "]
[328,78.48,0.34102250220297886,3.5881199593542239," "," "," "," "," "," "]
[329,78.72,0.33942542536012676,3.5134549709135849," "," "," "," "," "," "]
[330,78.959999999999994,0.33837544925030677,3.4403360409051227," "," "," "," "," "," "]
[331,79.2,0.3378563548717527,3.3687343645716821," "," "," "," "," "," "]
[332,79.44,0.3378547367331034,3.2986214542789956," "," "," "," "," "," "]
[333,79.679999999999993,0.33835980954536715,3.2299691626451925," "," "," "," "," "," "]
[334,79.92,0.33936324207659624,3.1627497020925333," "," "," "," "," "," "]
[335,80.16,0.34085901527318679,3.0969356612628229," "," "," "," "," "," "]
[336,80.399999999999991,0.34284330215523168,3.0325000186825912," "," "," "," "," "," "]
[337,80.64,0.34531436734279536,2.9694161540161823," "," "," "," "," "," "]
[338,80.88,0.34827248437338348,2.9076578572033234," "," "," "," "," "," "]
[339,81.11999999999999,0.35171986923505438,2.8471993357416379," "," "," "," "," "," "]
[340,81.36,0.35566062877035087,2.7880152203431905," "," "," "," "," "," "]
[341,81.599999999999994,0.36010072280843541,2.730080569166812," "," "," "," "," "," "]
[342,81.84,0.36504793906067917,2.6733708708041428," "," "," "," "," "," "]
[343,82.08,0.37051187997206614,2.6178620461765472," "," "," "," "," "," "]
[344,82.32,0.37650396086018367,2.5635304494818811," "," "," "," "," "," "]
[345,82.56,0.38303741879790443,2.5103528683142171," "," "," "," "," "," "]
[346,82.8,0.3901273318073743,2.4583065230657231," "," "," "," "," "," "]
[347,83.039999999999992,0.39779064803354386,2.4073690657077065," "," "," "," "," "," "]
[348,83.28,0.40604622465689472,2.3575185780371459," "," "," "," "," "," "]
[349,83.52,0.41491487638866104,2.3087335694656641," "," "," "," "," "," "]
[350,83.759999999999991,0.42441943346899391,2.2609929744196569," "," "," "," "," "," "]
[351,84,0.43458480916025316,2.2142761494130756," "," "," "," "," "," "]
[352,84.24,0.44543807679489789,2.1685628698480057," "," "," "," "," "," "]
[353,84.47999999999999,0.45700855650112315,2.1238333265926244," "," "," "," "," "," "]
[354,84.72,0.46932791179019512,2.0800681223812272," "," "," "," "," "," "]
[355,84.96,0.48243025624802571,2.0372482680767368," "," "," "," "," "," "]
[356,85.2,0.49635227063048215,1.995355178832366," "," "," "," "," "," "]
[357,85.44,0.51113333071776468,1.9543706701858379," "," "," "," "," "," "]
[358,85.679999999999993,0.52681564633837519,1.9142769541167299," "," "," "," "," "," "]
[359,85.92,0.54344441202815663,1.8750566350950566," "," "," "," "," "," "]
[360,86.16,0.56106796984499108,1.8366927061470908," "," "," "," "," "," "]
[361,86.399999999999991,0.57973798491534345,1.7991685449626336," "," "," "," "," "," "]
[362,86.64,0.59950963434524907,1.7624679100664282," "," "," "," "," "," "]
[363,86.88,0.62044181018584643,1.7265749370751737," "," "," "," "," "," "]
[364,87.11999999999999,0.64259733720241918,1.6914741350605853," "," "," "," "," "," "]
[365,87.36,0.66604320625637325,1.6571503830381817," "," "," "," "," "," "]
[366,87.6,0.69085082417185284,1.6235889266009207," "," "," "," "," "," "]
[367,87.84,0.71709628102299094,1.5907753747164532," "," "," "," "," "," "]
[368,88.08,0.74486063584427831,1.5586956967066241," "," "," "," "," "," "]
[369,88.32,0.77423022183536605,1.5273362194278906," "," "," "," "," "," "]
[370,88.56,0.80529697220293495,1.4966836246715793," "," "," "," "," "," "]
[371,88.8,0.83815876785616628,1.4667249468033448," "," "," "," "," "," "]
[372,89.039999999999992,0.87291980824892834,1.4374475706618346," "," "," "," "," "," "]
[373,89.28,0.90969100674108538,1.4088392297374268," "," "," "," "," "," "]
[374,89.52,0.94859041193336757,1.3808880046529688," "," "," "," "," "," "]
[375,89.759999999999991,0.98974365651497875,1.353582321969756," "," "," "," "," "," "]
[376,90,1.0332844352504911,1.3269109533435348," "," "," "," "," "," "]
[377,90.24,1.0793550138224499,1.3008630150571299," "," "," "," "," "," "]
[378,90.47999999999999,1.1281067703383012,1.2754279679583962," "," "," "," "," "," "]
[379,90.72,1.1797007714044738,1.2505956178346174," "," "," "," "," "," "]
[380,90.96,1.2343083847663621,1.2263561162572292," "," "," "," "," "," "]
[381,91.2,1.2921119306100721,1.2026999619338978," "," "," "," "," "," "]
[382,91.44,1.3533053737195617,1.1796180026085483," "," "," "," "," "," "]
[383,91.679999999999993,1.4180950587804655,1.1571014375539812," "," "," "," "," "," "]
[384,91.92,1.4867004912185871,1.1351418207062876," "," "," "," "," "," "]
[385,92.16,1.5593551660556546,1.1137310644954324," "," "," "," "," "," "]
[386,92.399999999999991,1.6363074473561636,1.0928614444322045," "," "," "," "," "," "]
[387,92.64,1.7178215009254052,1.0725256045183125," "," "," "," "," "," "]
[388,92.88,1.8041782829981874,1.0527165635538269," "," "," "," "," "," "]
[389,93.11999999999999,1.8956765877280739,1.0334277224245532," "," "," "," "," "," "]
[390,93.36,1.9926341563454957,1.0146528724613901," "," "," "," "," "," "]
[391,93.6,2.0953888508966778,0.99638620497442709," "," "," "," "," "," "]
[392,93.84,2.2042998955002218,0.97862232207663691," "," "," "," "," "," "]
[393,94.08,2.3197491880599701,0.96135624892571947," "," "," "," "," "," "]
[394,94.32,2.4421426853462562,0.9445834475281697," "," "," "," "," "," "]
[395,94.56,2.5719118642966823,0.92829983226724222," "," "," "," "," "," "]
[396,94.8,2.7095152622849779,0.91250178733646037," "," "," "," "," "," "]
[397,95.039999999999992,2.8554400989538133,0.8971861862830196," "," "," "," "," "," "]
[398,95.28,3.0102039819947701,0.88235041389126145," "," "," "," "," "," "]
[399,95.52,3.1743566989743282,0.86799239066581257," "," "," "," "," "," "]
[400,95.759999999999991,3.348482096935117,0.85411060020753304," "," "," "," "," "," "]
[401,96,3.5332000510307164,0.84070411981372661," "," "," "," "," "," "]
[402,96.24,3.7291685228612428,0.8277726546778692," "," "," "," "," "," "]
[403,96.47999999999999,3.9370857084437576,0.8153165761142559," "," "," "," "," "," "]
[404,96.72,4.1576922748503247,0.80333696429046197," "," "," "," "," "," "]
[405,96.96,4.3917736834469929,0.79183565601650896," "," "," "," "," "," "]
[406,97.2,4.6401625963334352,0.78081529821550433," "," "," "," "," "," "]
[407,97.44,4.9037413609735641,0.77027940778787385," "," "," "," "," "," "]
[408,97.679999999999993,5.1834445660730211,0.76023243868201151," "," "," "," "," "," "]
[409,97.92,5.4802616594420757,0.75067985710044771," "," "," "," "," "," "]
[410,98.16,5.7952396158141468,0.74162822590507671," "," "," "," "," "," "]
[411,98.399999999999991,6.1294856392907251,0.73308529944065914," "," "," "," "," "," "]
[412,98.64,6.484169881158472,0.72506013017633897," "," "," "," "," "," "]
[413,98.88,6.8605281491624366,0.71756318877455727," "," "," "," "," "," "]
[414,99.11999999999999,7.2598645787893492,0.71060649944054999," "," "," "," "," "," "]
[415,99.36,7.6835542305618727,0.70420379268955535," "," "," "," "," "," "]
[416,99.6,8.133045569585569,0.69837067799998931," "," "," "," "," "," "]
[417,99.84,8.6098627744090219,0.69312483920753243," "," "," "," "," "," "]
[418,100.08,9.1156078113986485,0.68848625594721546," "," "," "," "," "," "]
[419,100.32,9.6519621979914358,0.68447745497991075," "," "," "," "," "," "]
[420,100.56,10.220688363014375,0.68112379586001115," "," "," "," "," "," "]
[421,100.8,10.823630494327366,0.67845379612892043," "," "," "," "," "," "]
[422,101.03999999999999,11.462714742859117,0.67649950207366527," "," "," "," "," "," "]
[423,101.28,12.139948627075928,0.67529691209433795," "," "," "," "," "," "]
[424,101.52,12.857419452359759,0.67488646090505222," "," "," "," "," "," "]
[425,101.75999999999999,13.617291524861162,0.67531357418215332," "," "," "," "," "," "]
[426,102,14.421801898181355,0.67662930490728701," "," "," "," "," "," "]
[427,102.24,15.273254342611901,0.67889106457418325," "," "," "," "," "," "]
[428,102.47999999999999,16.174011169325588,0.68216346468555433," "," "," "," "," "," "]
[429,102.72,17.126482474373017,0.68651928661592165," "," "," "," "," "," "]
[430,102.96,18.133112287885037,0.69204060101960585," "," "," "," "," "," "]
[431,103.2,19.196361020576092,0.69882006158849264," "," "," "," "," "," "]
[432,103.44,20.318683490334706,0.7069624021834412," "," "," "," "," "," "]
[433,103.67999999999999,21.502501684035387,0.71658617124858903," "," "," "," "," "," "]
[434,103.92,22.750171261254827,0.72782574303565006," "," "," "," "," "," "]
[435,104.16,24.063940634886368,0.74083365156550496," "," "," "," "," "," "]
[436,104.39999999999999,25.445901266526722,0.7557833004539064," "," "," "," "," "," "]
[437,104.64,26.897927590383716,0.77287210968523778," "," "," "," "," "," "]
[438,104.88,28.421604727953227,0.79232516899365757," "," "," "," "," "," "]
[439,105.11999999999999,30.018141878570088,0.81439947640966903," "," "," "," "," "," "]
[440,105.36,31.688268973331539,0.83938884921642309," "," "," "," "," "," "]
[441,105.6,33.432113872430804,0.86762960213434348," "," "," "," "," "," "]
[442,105.83999999999999,35.249057087518949,0.89950709257660044," "," "," "," "," "," "]
[443,106.08,37.137560752581059,0.93546323306992585," "," "," "," "," "," "]
[444,106.32,39.094968398206518,0.97600506307578128," "," "," "," "," "," "]
[445,106.56,41.117272079941969,1.0217144515730088," "," "," "," "," "," "]
[446,106.8,43.198843682250072,1.0732589608354517," "," "," "," "," "," "]
[447,107.03999999999999,45.332127924479387,1.1314038309816423," "," "," "," "," "," "]
[448,107.28,47.50729595663087,1.1970249305920515," "," "," "," "," "," "]
[449,107.52,49.71186075241674,1.2711223431101328," "," "," "," "," "," "]
[450,107.75999999999999,51.930259179860258,1.3548339991537455," "," "," "," "," "," "]
[451,108,54.143411147172415,1.4494483940328424," "," "," "," "," "," "]
[452,108.24,56.328274154742004,1.5564149179211646," "," "," "," "," "," "]
[453,108.47999999999999,58.45742252252883,1.6773496459425778," "," "," "," "," "," "]
[454,108.72,60.498694980830983,1.8140335720654157," "," "," "," "," "," "]
[455,108.96,62.414972323285483,1.968399239363926," "," "," "," "," "," "]
[456,109.2,64.1641677667116,2.1425005927684158," "," "," "," "," "," "]
[457,109.44,65.699534524653572,2.3384598278973847," "," "," "," "," "," "]
[458,109.67999999999999,66.970413757519452,2.5583843416975278," "," "," "," "," "," "]
[459,109.92,67.923554557108346,2.8042470990962896," "," "," "," "," "," "]
[460,110.16,68.505125851957658,3.0777254909123712," "," "," "," "," "," "]
[461,110.39999999999999,68.663495609074573,3.3799978522985876," "," "," "," "," "," "]
[462,110.64,68.352763412281419,3.7115038984217859," "," "," "," "," "," "]
[463,110.88,67.536892363432329,4.0716855459858872," "," "," "," "," "," "]
[464,111.11999999999999,66.194103287814571,4.4587369721939947," "," "," "," "," "," "]
[465,111.36,64.320998656060425,4.8694047763618826," "," "," "," "," "," "]
[466,111.6,61.935730893633803,5.2988865668527776," "," "," "," "," "," "]
[467,111.83999999999999,59.07949147441753,5.7408742152545802," "," "," "," "," "," "]
[468,112.08,55.815736305129754,6.1877725881050321," "," "," "," "," "," "]
[469,112.32,52.226897972500403,6.6310957117950062," "," "," "," "," "," "]
[470,112.56,48.408811795454199,7.0620055213343864," "," "," "," "," "," "]
[471,112.8,44.463573225235599,7.4719239998712288," "," "," "," "," "," "]
[472,113.03999999999999,40.491891504485068,7.8531293359700438," "," "," "," "," "," "]
[473,113.28,36.586089242652953,8.1992484247949413," "," "," "," "," "," "]
[474,113.52,32.824695504454851,8.5055814233907121," "," "," "," "," "," "]
[475,113.75999999999999,29.269172415737849,8.7692310048976694," "," "," "," "," "," "]
[476,114,25.962846367399209,8.9890473013255878," "," "," "," "," "," "]
[477,114.24,22.931724512402749,9.1654285574871945," "," "," "," "," "," "]
[478,114.47999999999999,20.186648424327768,9.3000317589370542," "," "," "," "," "," "]
[479,114.72,17.726180752648176,9.3954473618331207," "," "," "," "," "," "]
[480,114.96,15.539695663489269,9.4548821298050889," "," "," "," "," "," "]
[481,115.19999999999999,13.610287404701864,9.4818795415247923," "," "," "," "," "," "]
[482,115.44,11.917267657826791,9.4800928780047062," "," "," "," "," "," "]
[483,115.67999999999999,10.438155514912927,9.4531146485287696," "," "," "," "," "," "]
[484,115.92,9.1501588118630401,9.4043583895352043," "," "," "," "," "," "]
[485,116.16,8.0312020058017648,9.336984782697348," "," "," "," "," "," "]
[486,116.39999999999999,7.0605814448155062,9.2538626287333621," "," "," "," "," "," "]
[487,116.64,6.2193335983300617,9.1575555233053869," "," "," "," "," "," "]
[488,116.88,5.4903944425606124,9.0503263029649528," "," "," "," "," "," "]
[489,117.11999999999999,4.8586153030579666,8.934152889800842," "," "," "," "," "," "]
[490,117.36,4.3106862733297273,8.8107507131650955," "," "," "," "," "," "]
[491,117.6,3.8350051964359237,8.6815982459724079," "," "," "," "," "," "]
[492,117.83999999999999,3.4215191558114415,8.5479632949361122," "," "," "," "," "," "]
[493,118.08,3.0615567220540565,8.4109285276362797," "," "," "," "," "," "]
[494,118.32,2.7476626754868918,8.271415335671465," "," "," "," "," "," "]
[495,118.56,2.47344222335858,8.1302055649791019," "," "," "," "," "," "]
[496,118.8,2.233418469393222,7.9879609344188145," "," "," "," "," "," "]
[497,119.03999999999999,2.0229047161281279,7.8452401492716586," "," "," "," "," "," "]
[498,119.28,1.8378917895794877,7.7025138276790086," "," "," "," "," "," "]
[499,119.52,1.6749497374033766,7.5601774184751731," "," "," "," "," "," "]
[500,119.75999999999999,1.5311427898826782,7.4185623155275628," "," "," "," "," "," "]
[501,120,1.4039562597109123,7.2779453788665318," "," "," "," "," "," "]
[" "," "," "," "," "," "," "," "," "," "]
[" "," "," "," "," "," "," "," "," "," "]
[" "," "," "," "," "," "," "," "," "," "]
[" "," "," "," "," "," "," "," "," "," "]
[" "," "," "," "," "," "," "," "," "," "]
[" "," "," "," "," "," "," "," "," "," "]
[" "," "," "," "," "," "," "," "," "," "]
[" "," "," "," "," "," "," "," "," "," "]
[" "," "," "," "," "," "," "," "," "," "]
[" "," "," "," "," "," "," "," "," "," "]
[" "," "," "," "," "," "," "," "," "," "]
[" "," "," "," "," "," "," "," "," "," "]
[" "," "," "," "," "," "," "," "," "," "]
[" "," "," "," "," "," "," "," "," "," "]
[" "," "," "," "," "," "," "," "," "," "]
[" "," "," "," "," "," "," "," "," "," "]
[" "," "," "," "," "," "," "," "," "," "]
[" "," "," "," "," "," "," "," "," "," "]
[" "," "," "," "," "," "," "," "," "," "]
[" "," "," "," "," "," "," "," "," "," "]
[" "," "," "," "," "," "," "," "," "," "]
[" "," "," "," "," "," "," "," "," "," "]
[" "," "," "," "," "," "," "," "," "," "]
[" "," "," "," "," "," "," "," "," "," "]
[" "," "," "," "," "," "," "," "," "," "]
[" "," "," "," "," "," "," "," "," "," "]
[" "," "," "," "," "," "," "," "," "," "]
[" "," "," "," "," "," "," "," "," "," "]
[" "," "," "," "," "," "," "," "," "," "]
[" "," "," "," "," "," "," "," "," "," "]
[" "," "," "," "," "," "," "," "," "," "]
[" "," "," "," "," "," "," "," "," "," "]
[" "," "," "," "," "," "," "," "," "," "]
[" "," "," "," "," "," "," "," "," "," "]
[" "," "," "," "," "," "," "," "," "," "]
[" "," "," "," "," "," "," "," "," "," "]
[" "," "," "," "," "," "," "," "," "," "]
[" "," "," "," "," "," "," "," "," "," "]
[" "," "," "," "," "," "," "," "," "," "]
[" "," "," "," "," "," "," "," "," "," "]
[" "," "," "," "," "," "," "," "," "," "]
[" "," "," "," "," "," "," "," "," "," "]
[" "," "," "," "," "," "," "," "," "," "]
[" "," "," "," "," "," "," "," "," "," "]
[" "," "," "," "," "," "," "," "," "," "]
[" "," "," "," "," "," "," "," "," "," "]
[" "," "," "," "," "," "," "," "," "," "]
[" "," "," "," "," "," "," "," "," "," "]
[" "," "," "," "," "," "," "," "," "," "]
[" "," "," "," "," "," "," "," "," "," "]
[" "," "," "," "," "," "," "," "," "," "]
[" "," "," "," "," "," "," "," "," "," "]
[" "," "," "," "," "," "," "," "," "," "]
[" "," "," "," "," "," "," "," "," "," "]
[" "," "," "," "," "," "," "," "," "," "]
[" "," "," "," "," "," "," "," "," "," "]
[" "," "," "," "," "," "," "," "," "," "]
[" "," "," "," "," "," "," "," "," "," "]
[" "," "," "," "," "," "," "," "," "," "]
[" "," "," "," "," "," "," "," "," "," "]
[" "," "," "," "," "," "," "," "," "," "]
[" "," "," "," "," "," "," "," "," "," "]
[" "," "," "," "," "," "," "," "," "," "]
[" "," "," "," "," "," "," "," "," "," "]
[" "," "," "," "," "," "," "," "," "," "]
[" "," "," "," "," "," "," "," "," "," "]
[" "," "," "," "," "," "," "," "," "," "]
[" "," "," "," "," "," "," "," "," "," "]
[" "," "," "," "," "," "," "," "," "," "]
[" "," "," "," "," "," "," "," "," "," "]
[" "," "," "," "," "," "," "," "," "," "]
[" "," "," "," "," "," "," "," "," "," "]
[" "," "," "," "," "," "," "," "," "," "]
[" "," "," "," "," "," "," "," "," "," "]
[" "," "," "," "," "," "," "," "," "," "]
[" "," "," "," "," "," "," "," "," "," "]
[" "," "," "," "," "," "," "," "," "," "]
[" "," "," "," "," "," "," "," "," "," "]
[" "," "," "," "," "," "," "," "," "," "]
[" "," "," "," "," "," "," "," "," "," "]
[" "," "," "," "," "," "," "," "," "," "]
[" "," "," "," "," "," "," "," "," "," "]
[" "," "," "," "," "," "," "," "," "," "]
[" "," "," "," "," "," "," "," "," "," "]
[" "," "," "," "," "," "," "," "," "," "]
[" "," "," "," "," "," "," "," "," "," "]
[" "," "," "," "," "," "," "," "," "," "]
[" "," "," "," "," "," "," "," "," "," "]
[" "," "," "," "," "," "," "," "," "," "]
[" "," "," "," "," "," "," "," "," "," "]
[" "," "," "," "," "," "," "," "," "," "]
[" "," "," "," "," "," "," "," "," "," "]
[" "," "," "," "," "," "," "," "," "," "]
[" "," "," "," "," "," "," "," "," "," "]
[" "," "," "," "," "," "," "," "," "," "]
[" "," "," "," "," "," "," "," "," "," "]
[" "," "," "," "," "," "," "," "," "," "]
[" "," "," "," "," "," "," "," "," "," "]
[" "," "," "," "," "," "," "," "," "," "]
[" "," "," "," "," "," "," "," "," "," "]
[" "," "," "," "," "," "," "," "," "," "]
[" "," "," "," "," "," "," "," "," "," "]
[" "," "," "," "," "," "," "," "," "," "]
[" "," "," "," "," "," "," "," "," "," "]
[" "," "," "," "," "," "," "," "," "," "]
[" "," "," "," "," "," "," "," "," "," "]
[" "," "," "," "," "," "," "," "," "," "]
[" "," "," "," "," "," "," "," "," "," "]
[" "," "," "," "," "," "," "," "," "," "]
[" "," "," "," "," "," "," "," "," "," "]
[" "," "," "," "," "," "," "," "," "," "]
[" "," "," "," "," "," "," "," "," "," "]
[" "," "," "," "," "," "," "," "," "," "]
[" "," "," "," "," "," "," "," "," "," "]
[" "," "," "," "," "," "," "," "," "," "]
[" "," "," "," "," "," "," "," "," "," "]
[" "," "," "," "," "," "," "," "," "," "]
[" "," "," "," "," "," "," "," "," "," "]
[" "," "," "," "," "," "," "," "," "," "]
[" "," "," "," "," "," "," "," "," "," "]
[" "," "," "," "," "," "," "," "," "," "]
[" "," "," "," "," "," "," "," "," "," "]
[" "," "," "," "," "," "," "," "," "," "]
[" "," "," "," "," "," "," "," "," "," "]
[" "," "," "," "," "," "," "," "," "," "]
[" "," "," "," "," "," "," "," "," "," "]
[" "," "," "," "," "," "," "," "," "," "]
[" "," "," "," "," "," "," "," "," "," "]
[" "," "," "," "," "," "," "," "," "," "]
[" "," "," "," "," "," "," "," "," "," "]
[" "," "," "," "," "," "," "," "," "," "]
[" "," "," "," "," "," "," "," "," "," "]
[" "," "," "," "," "," "," "," "," "," "]
[" "," "," "," "," "," "," "," "," "," "]
[" "," "," "," "," "," "," "," "," "," "]
[" "," "," "," "," "," "," "," "," "," "]
[" "," "," "," "," "," "," "," "," "," "]
[" "," "," "," "," "," "," "," "," "," "]
[" "," "," "," "," "," "," "," "," "," "]
[" "," "," "," "," "," "," "," "," "," "]
[" "," "," "," "," "," "," "," "," "," "]
[" "," "," "," "," "," "," "," "," "," "]
[" "," "," "," "," "," "," "," "," "," "]
[" "," "," "," "," "," "," "," "," "," "]
[" "," "," "," "," "," "," "," "," "," "]
[" "," "," "," "," "," "," "," "," "," "]
[" "," "," "," "," "," "," "," "," "," "]
[" "," "," "," "," "," "," "," "," "," "]
[" "," "," "," "," "," "," "," "," "," "]
[" "," "," "," "," "," "," "," "," "," "]
[" "," "," "," "," "," "," "," "," "," "]
[" "," "," "," "," "," "," "," "," "," "]
[" "," "," "," "," "," "," "," "," "," "]
[" "," "," "," "," "," "," "," "," "," "]
[" "," "," "," "," "," "," "," "," "," "]
[" "," "," "," "," "," "," "," "," "," "]
[" "," "," "," "," "," "," "," "," "," "]
[" "," "," "," "," "," "," "," "," "," "]
[" "," "," "," "," "," "," "," "," "," "]
[" "," "," "," "," "," "," "," "," "," "]
[" "," "," "," "," "," "," "," "," "," "]
[" "," "," "," "," "," "," "," "," "," "]
[" "," "," "," "," "," "," "," "," "," "]
[" "," "," "," "," "," "," "," "," "," "]
[" "," "," "," "," "," "," "," "," "," "]
[" "," "," "," "," "," "," "," "," "," "]
[" "," "," "," "," "," "," "," "," "," "]
[" "," "," "," "," "," "," "," "," "," "]
[" "," "," "," "," "," "," "," "," "," "]
[" "," "," "," "," "," "," "," "," "," "]
[" "," "," "," "," "," "," "," "," "," "]
[" "," "," "," "," "," "," "," "," "," "]
[" "," "," "," "," "," "," "," "," "," "]
[" "," "," "," "," "," "," "," "," "," "]
[" "," "," "," "," "," "," "," "," "," "]
[" "," "," "," "," "," "," "," "," "," "]
[" "," "," "," "," "," "," "," "," "," "]
[" "," "," "," "," "," "," "," "," "," "]
[" "," "," "," "," "," "," "," "," "," "]
[" "," "," "," "," "," "," "," "," "," "]
[" "," "," "," "," "," "," "," "," "," "]
[" "," "," "," "," "," "," "," "," "," "]
[" "," "," "," "," "," "," "," "," "," "]
[" "," "," "," "," "," "," "," "," "," "]
[" "," "," "," "," "," "," "," "," "," "]
[" "," "," "," "," "," "," "," "," "," "]
[" "," "," "," "," "," "," "," "," "," "]
[" "," "," "," "," "," "," "," "," "," "]
[" "," "," "," "," "," "," "," "," "," "]
[" "," "," "," "," "," "," "," "," "," "]
[" "," "," "," "," "," "," "," "," "," "]
[" "," "," "," "," "," "," "," "," "," "]
[" "," "," "," "," "," "," "," "," "," "]
[" "," "," "," "," "," "," "," "," "," "]
[" "," "," "," "," "," "," "," "," "," "]
[" "," "," "," "," "," "," "," "," "," "]
[" "," "," "," "," "," "," "," "," "," "]
[" "," "," "," "," "," "," "," "," "," "]
[" "," "," "," "," "," "," "," "," "," "]
[" "," "," "," "," "," "," "," "," "," "]
[" "," "," "," "," "," "," "," "," "," "]
[" "," "," "," "," "," "," "," "," "," "]
[" "," "," "," "," "," "," "," "," "," "]
[" "," "," "," "," "," "," "," "," "," "]
[" "," "," "," "," "," "," "," "," "," "]
[" "," "," "," "," "," "," "," "," "," "]
[" "," "," "," "," "," "," "," "," "," "]
[" "," "," "," "," "," "," "," "," "," "]
[" "," "," "," "," "," "," "," "," "," "]
[" "," "," "," "," "," "," "," "," "," "]
[" "," "," "," "," "," "," "," "," "," "]
[" "," "," "," "," "," "," "," "," "," "]
[" "," "," "," "," "," "," "," "," "," "]
[" "," "," "," "," "," "," "," "," "," "]
[" "," "," "," "," "," "," "," "," "," "]
[" "," "," "," "," "," "," "," "," "," "]
[" "," "," "," "," "," "," "," "," "," "]
[" "," "," "," "," "," "," "," "," "," "]
[" "," "," "," "," "," "," "," "," "," "]
[" "," "," "," "," "," "," "," "," "," "]
[" "," "," "," "," "," "," "," "," "," "]
[" "," "," "," "," "," "," "," "," "," "]
[" "," "," "," "," "," "," "," "," "," "]
[" "," "," "," "," "," "," "," "," "," "]
[" "," "," "," "," "," "," "," "," "," "]
[" "," "," "," "," "," "," "," "," "," "]
[" "," "," "," "," "," "," "," "," "," "]
[" "," "," "," "," "," "," "," "," "," "]
[" "," "," "," "," "," "," "," "," "," "]
[" "," "," "," "," "," "," "," "," "," "]
[" "," "," "," "," "," "," "," "," "," "]
[" "," "," "," "," "," "," "," "," "," "]
[" "," "," "," "," "," "," "," "," "," "]
[" "," "," "," "," "," "," "," "," "," "]
[" "," "," "," "," "," "," "," "," "," "]
[" "," "," "," "," "," "," "," "," "," "]
[" "," "," "," "," "," "," "," "," "," "]
[" "," "," "," "," "," "," "," "," "," "]
[" "," "," "," "," "," "," "," "," "," "]
[" "," "," "," "," "," "," "," "," "," "]
[" "," "," "," "," "," "," "," "," "," "]
[" "," "," "," "," "," "," "," "," "," "]
[" "," "," "," "," "," "," "," "," "," "]
[" "," "," "," "," "," "," "," "," "," "]
[" "," "," "," "," "," "," "," "," "," "]
[" "," "," "," "," "," "," "," "," "," "]
[" "," "," "," "," "," "," "," "," "," "]
[" "," "," "," "," "," "," "," "," "," "]
[" "," "," "," "," "," "," "," "," "," "]
[" "," "," "," "," "," "," "," "," "," "]
[" "," "," "," "," "," "," "," "," "," "]
[" "," "," "," "," "," "," "," "," "," "]
[" "," "," "," "," "," "," "," "," "," "]
[" "," "," "," "," "," "," "," "," "," "]
[" "," "," "," "," "," "," "," "," "," "]
[" "," "," "," "," "," "," "," "," "," "]
[" "," "," "," "," "," "," "," "," "," "]
[" "," "," "," "," "," "," "," "," "," "]
[" "," "," "," "," "," "," "," "," "," "]
[" "," "," "," "," "," "," "," "," "," "]
[" "," "," "," "," "," "," "," "," "," "]
[" "," "," "," "," "," "," "," "," "," "]
[" "," "," "," "," "," "," "," "," "," "]
[" "," "," "," "," "," "," "," "," "," "]
[" "," "," "," "," "," "," "," "," "," "]
[" "," "," "," "," "," "," "," "," "," "]
[" "," "," "," "," "," "," "," "," "," "]
[" "," "," "," "," "," "," "," "," "," "]
[" "," "," "," "," "," "," "," "," "," "]
[" "," "," "," "," "," "," "," "," "," "]
[" "," "," "," "," "," "," "," "," "," "]
[" "," "," "," "," "," "," "," "," "," "]
[" "," "," "," "," "," "," "," "," "," "]
[" "," "," "," "," "," "," "," "," "," "]
[" "," "," "," "," "," "," "," "," "," "]
[" "," "," "," "," "," "," "," "," "," "]
[" "," "," "," "," "," "," "," "," "," "]
[" "," "," "," "," "," "," "," "," "," "]
[" "," "," "," "," "," "," "," "," "," "]
[" "," "," "," "," "," "," "," "," "," "]
[" "," "," "," "," "," "," "," "," "," "]
[" "," "," "," "," "," "," "," "," "," "]
[" "," "," "," "," "," "," "," "," "," "]
[" "," "," "," "," "," "," "," "," "," "]
[" "," "," "," "," "," "," "," "," "," "]
[" "," "," "," "," "," "," "," "," "," "]
[" "," "," "," "," "," "," "," "," "," "]
[" "," "," "," "," "," "," "," "," "," "]
[" "," "," "," "," "," "," "," "," "," "]
[" "," "," "," "," "," "," "," "," "," "]
[" "," "," "," "," "," "," "," "," "," "]
[" "," "," "," "," "," "," "," "," "," "]
[" "," "," "," "," "," "," "," "," "," "]
[" "," "," "," "," "," "," "," "," "," "]
[" "," "," "," "," "," "," "," "," "," "]
[" "," "," "," "," "," "," "," "," "," "]
[" "," "," "," "," "," "," "," "," "," "]
[" "," "," "," "," "," "," "," "," "," "]
[" "," "," "," "," "," "," "," "," "," "]
[" "," "," "," "," "," "," "," "," "," "]
[" "," "," "," "," "," "," "," "," "," "]
[" "," "," "," "," "," "," "," "," "," "]
[" "," "," "," "," "," "," "," "," "," "]
[" "," "," "," "," "," "," "," "," "," "]
[" "," "," "," "," "," "," "," "," "," "]
[" "," "," "," "," "," "," "," "," "," "]
[" "," "," "," "," "," "," "," "," "," "]
[" "," "," "," "," "," "," "," "," "," "]
[" "," "," "," "," "," "," "," "," "," "]
[" "," "," "," "," "," "," "," "," "," "]
[" "," "," "," "," "," "," "," "," "," "]
[" "," "," "," "," "," "," "," "," "," "]
[" "," "," "," "," "," "," "," "," "," "]
[" "," "," "," "," "," "," "," "," "," "]
[" "," "," "," "," "," "," "," "," "," "]
[" "," "," "," "," "," "," "," "," "," "]
[" "," "," "," "," "," "," "," "," "," "]
[" "," "," "," "," "," "," "," "," "," "]
[" "," "," "," "," "," "," "," "," "," "]
[" "," "," "," "," "," "," "," "," "," "]
[" "," "," "," "," "," "," "," "," "," "]
[" "," "," "," "," "," "," "," "," "," "]
[" "," "," "," "," "," "," "," "," "," "]
[" "," "," "," "," "," "," "," "," "," "]
[" "," "," "," "," "," "," "," "," "," "]
[" "," "," "," "," "," "," "," "," "," "]
[" "," "," "," "," "," "," "," "," "," "]
[" "," "," "," "," "," "," "," "," "," "]
[" "," "," "," "," "," "," "," "," "," "]
[" "," "," "," "," "," "," "," "," "," "]
[" "," "," "," "," "," "," "," "," "," "]
[" "," "," "," "," "," "," "," "," "," "]
[" "," "," "," "," "," "," "," "," "," "]
[" "," "," "," "," "," "," "," "," "," "]
[" "," "," "," "," "," "," "," "," "," "]
[" "," "," "," "," "," "," "," "," "," "]
[" "," "," "," "," "," "," "," "," "," "]
[" "," "," "," "," "," "," "," "," "," "]
[" "," "," "," "," "," "," "," "," "," "]
[" "," "," "," "," "," "," "," "," "," "]
[" "," "," "," "," "," "," "," "," "," "]
[" "," "," "," "," "," "," "," "," "," "]
[" "," "," "," "," "," "," "," "," "," "]
[" "," "," "," "," "," "," "," "," "," "]
[" "," "," "," "," "," "," "," "," "," "]
[" "," "," "," "," "," "," "," "," "," "]
[" "," "," "," "," "," "," "," "," "," "]
[" "," "," "," "," "," "," "," "," "," "]
[" "," "," "," "," "," "," "," "," "," "]
[" "," "," "," "," "," "," "," "," "," "]
[" "," "," "," "," "," "," "," "," "," "]
[" "," "," "," "," "," "," "," "," "," "]
[" "," "," "," "," "," "," "," "," "," "]
[" "," "," "," "," "," "," "," "," "," "]
[" "," "," "," "," "," "," "," "," "," "]
[" "," "," "," "," "," "," "," "," "," "]
[" "," "," "," "," "," "," "," "," "," "]
[" "," "," "," "," "," "," "," "," "," "]
[" "," "," "," "," "," "," "," "," "," "]
[" "," "," "," "," "," "," "," "," "," "]
[" "," "," "," "," "," "," "," "," "," "]
[" "," "," "," "," "," "," "," "," "," "]
[" "," "," "," "," "," "," "," "," "," "]
[" "," "," "," "," "," "," "," "," "," "]
[" "," "," "," "," "," "," "," "," "," "]
[" "," "," "," "," "," "," "," "," "," "]
[" "," "," "," "," "," "," "," "," "," "]
[" "," "," "," "," "," "," "," "," "," "]
[" "," "," "," "," "," "," "," "," "," "]
[" "," "," "," "," "," "," "," "," "," "]
[" "," "," "," "," "," "," "," "," "," "]
[" "," "," "," "," "," "," "," "," "," "]
[" "," "," "," "," "," "," "," "," "," "]
[" "," "," "," "," "," "," "," "," "," "]
[" "," "," "," "," "," "," "," "," "," "]
[" "," "," "," "," "," "," "," "," "," "]
[" "," "," "," "," "," "," "," "," "," "]
[" "," "," "," "," "," "," "," "," "," "]
[" "," "," "," "," "," "," "," "," "," "]
[" "," "," "," "," "," "," "," "," "," "]
[" "," "," "," "," "," "," "," "," "," "]
[" "," "," "," "," "," "," "," "," "," "]
[" "," "," "," "," "," "," "," "," "," "]
[" "," "," "," "," "," "," "," "," "," "]
[" "," "," "," "," "," "," "," "," "," "]
[" "," "," "," "," "," "," "," "," "," "]
[" "," "," "," "," "," "," "," "," "," "]
[" "," "," "," "," "," "," "," "," "," "]
[" "," "," "," "," "," "," "," "," "," "]
[" "," "," "," "," "," "," "," "," "," "]
[" "," "," "," "," "," "," "," "," "," "]
[" "," "," "," "," "," "," "," "," "," "]
[" "," "," "," "," "," "," "," "," "," "]
[" "," "," "," "," "," "," "," "," "," "]
[" "," "," "," "," "," "," "," "," "," "]
[" "," "," "," "," "," "," "," "," "," "]
[" "," "," "," "," "," "," "," "," "," "]
[" "," "," "," "," "," "," "," "," "," "]
[" "," "," "," "," "," "," "," "," "," "]
[" "," "," "," "," "," "," "," "," "," "]
[" "," "," "," "," "," "," "," "," "," "]
[" "," "," "," "," "," "," "," "," "," "]
[" "," "," "," "," "," "," "," "," "," "]
[" "," "," "," "," "," "," "," "," "," "]
[" "," "," "," "," "," "," "," "," "," "]
[" "," "," "," "," "," "," "," "," "," "]
[" "," "," "," "," "," "," "," "," "," "]
[" "," "," "," "," "," "," "," "," "," "]
[" "," "," "," "," "," "," "," "," "," "]
[" "," "," "," "," "," "," "," "," "," "]
[" "," "," "," "," "," "," "," "," "," "]
[" "," "," "," "," "," "," "," "," "," "]
[" "," "," "," "," "," "," "," "," "," "]
[" "," "," "," "," "," "," "," "," "," "]
[" "," "," "," "," "," "," "," "," "," "]
[" "," "," "," "," "," "," "," "," "," "]
[" "," "," "," "," "," "," "," "," "," "]
[" "," "," "," "," "," "," "," "," "," "]
[" "," "," "," "," "," "," "," "," "," "]
[" "," "," "," "," "," "," "," "," "," "]
[" "," "," "," "," "," "," "," "," "," "]
[" "," "," "," "," "," "," "," "," "," "]
[" "," "," "," "," "," "," "," "," "," "]
[" "," "," "," "," "," "," "," "," "," "]
[" "," "," "," "," "," "," "," "," "," "]
[" "," "," "," "," "," "," "," "," "," "]
[" "," "," "," "," "," "," "," "," "," "]
[" "," "," "," "," "," "," "," "," "," "]
[" "," "," "," "," "," "," "," "," "," "]
[" "," "," "," "," "," "," "," "," "," "]
[" "," "," "," "," "," "," "," "," "," "]
[" "," "," "," "," "," "," "," "," "," "]
[" "," "," "," "," "," "," "," "," "," "]
[" "," "," "," "," "," "," "," "," "," "]
[" "," "," "," "," "," "," "," "," "," "]
[" "," "," "," "," "," "," "," "," "," "]
[" "," "," "," "," "," "," "," "," "," "]
[" "," "," "," "," "," "," "," "," "," "]
[" "," "," "," "," "," "," "," "," "," "]
[" "," "," "," "," "," "," "," "," "," "]
[" "," "," "," "," "," "," "," "," "," "]
[" "," "," "," "," "," "," "," "," "," "]
[" "," "," "," "," "," "," "," "," "," "]
[" "," "," "," "," "," "," "," "," "," "]
[" "," "," "," "," "," "," "," "," "," "]
[" "," "," "," "," "," "," "," "," "," "]
[" "," "," "," "," "," "," "," "," "," "]
[" "," "," "," "," "," "," "," "," "," "]
[" "," "," "," "," "," "," "," "," "," "]
[" "," "," "," "," "," "," "," "," "," "]
[" "," "," "," "," "," "," "," "," "," "]
[" "," "," "," "," "," "," "," "," "," "]
[" "," "," "," "," "," "," "," "," "," "]
[" "," "," "," "," "," "," "," "," "," "]
[" "," "," "," "," "," "," "," "," "," "]
[" "," "," "," "," "," "," "," "," "," "]
[" "," "," "," "," "," "," "," "," "," "]
[" "," "," "," "," "," "," "," "," "," "]
[" "," "," "," "," "," "," "," "," "," "]
[" "," "," "," "," "," "," "," "," "," "]
[" "," "," "," "," "," "," "," "," "," "]
[" "," "," "," "," "," "," "," "," "," "]
[" "," "," "," "," "," "," "," "," "," "]
[" "," "," "," "," "," "," "," "," "," "]
[" "," "," "," "," "," "," "," "," "," "]
[" "," "," "," "," "," "," "," "," "," "]
[" "," "," "," "," "," "," "," "," "," "]
[" "," "," "," "," "," "," "," "," "," "]
[" "," "," "," "," "," "," "," "," "," "]
[" "," "," "," "," "," "," "," "," "," "]
[" "," "," "," "," "," "," "," "," "," "]
[" "," "," "," "," "," "," "," "," "," "]
[" "," "," "," "," "," "," "," "," "," "]
[" "," "," "," "," "," "," "," "," "," "]
[" "," "," "," "," "," "," "," "," "," "]
[" "," "," "," "," "," "," "," "," "," "]
[" "," "," "," "," "," "," "," "," "," "]
[" "," "," "," "," "," "," "," "," "," "]
[" "," "," "," "," "," "," "," "," "," "]
[" "," "," "," "," "," "," "," "," "," "]
[" "," "," "," "," "," "," "," "," "," "]
[" "," "," "," "," "," "," "," "," "," "]
[" "," "," "," "," "," "," "," "," "," "]
[" "," "," "," "," "," "," "," "," "," "]
[" "," "," "," "," "," "," "," "," "," "]
[" "," "," "," "," "," "," "," "," "," "]
[" "," "," "," "," "," "," "," "," "," "]
[" "," "," "," "," "," "," "," "," "," "]
[" "," "," "," "," "," "," "," "," "," "]
[" "," "," "," "," "," "," "," "," "," "]
[" "," "," "," "," "," "," "," "," "," "]
[" "," "," "," "," "," "," "," "," "," "]
[" "," "," "," "," "," "," "," "," "," "]
[" "," "," "," "," "," "," "," "," "," "]
[" "," "," "," "," "," "," "," "," "," "]
[" "," "," "," "," "," "," "," "," "," "]
[" "," "," "," "," "," "," "," "," "," "]
[" "," "," "," "," "," "," "," "," "," "]
[" "," "," "," "," "," "," "," "," "," "]
[" "," "," "," "," "," "," "," "," "," "]
[" "," "," "," "," "," "," "," "," "," "]
[" "," "," "," "," "," "," "," "," "," "]
[" "," "," "," "," "," "," "," "," "," "]
[" "," "," "," "," "," "," "," "," "," "]
[" "," "," "," "," "," "," "," "," "," "]
[" "," "," "," "," "," "," "," "," "," "]
[" "," "," "," "," "," "," "," "," "," "]
[" "," "," "," "," "," "," "," "," "," "]
[" "," "," "," "," "," "," "," "," "," "]
[" "," "," "," "," "," "," "," "," "," "]
[" "," "," "," "," "," "," "," "," "," "]
[" "," "," "," "," "," "," "," "," "," "]
[" "," "," "," "," "," "," "," "," "," "]
[" "," "," "," "," "," "," "," "," "," "]
[" "," "," "," "," "," "," "," "," "," "]
[" "," "," "," "," "," "," "," "," "," "]
[" "," "," "," "," "," "," "," "," "," "]
[" "," "," "," "," "," "," "," "," "," "]
[" "," "," "," "," "," "," "," "," "," "]
[" "," "," "," "," "," "," "," "," "," "]
[" "," "," "," "," "," "," "," "," "," "]
[" "," "," "," "," "," "," "," "," "," "]
[" "," "," "," "," "," "," "," "," "," "]
[" "," "," "," "," "," "," "," "," "," "]
[" "," "," "," "," "," "," "," "," "," "]
[" "," "," "," "," "," "," "," "," "," "]
[" "," "," "," "," "," "," "," "," "," "]
[" "," "," "," "," "," "," "," "," "," "]
[" "," "," "," "," "," "," "," "," "," "]
[" "," "," "," "," "," "," "," "," "," "]
[" "," "," "," "," "," "," "," "," "," "]
[" "," "," "," "," "," "," "," "," "," "]
[" "," "," "," "," "," "," "," "," "," "]
[" "," "," "," "," "," "," "," "," "," "]
[" "," "," "," "," "," "," "," "," "," "]
[" "," "," "," "," "," "," "," "," "," "]
[" "," "," "," "," "," "," "," "," "," "]
[" "," "," "," "," "," "," "," "," "," "]
[" "," "," "," "," "," "," "," "," "," "]
[" "," "," "," "," "," "," "," "," "," "]
[" "," "," "," "," "," "," "," "," "," "]
[" "," "," "," "," "," "," "," "," "," "]
[" "," "," "," "," "," "," "," "," "," "]
[" "," "," "," "," "," "," "," "," "," "]
[" "," "," "," "," "," "," "," "," "," "]
[" "," "," "," "," "," "," "," "," "," "]
[" "," "," "," "," "," "," "," "," "," "]
[" "," "," "," "," "," "," "," "," "," "]
[" "," "," "," "," "," "," "," "," "," "]
[" "," "," "," "," "," "," "," "," "," "]
[" "," "," "," "," "," "," "," "," "," "]
[" "," "," "," "," "," "," "," "," "," "]
[" "," "," "," "," "," "," "," "," "," "]
[" "," "," "," "," "," "," "," "," "," "]
[" "," "," "," "," "," "," "," "," "," "]
[" "," "," "," "," "," "," "," "," "," "]
[" "," "," "," "," "," "," "," "," "," "]
[" "," "," "," "," "," "," "," "," "," "]
[" "," "," "," "," "," "," "," "," "," "]
[" "," "," "," "," "," "," "," "," "," "]
[" "," "," "," "," "," "," "," "," "," "]
[" "," "," "," "," "," "," "," "," "," "]
[" "," "," "," "," "," "," "," "," "," "]
[" "," "," "," "," "," "," "," "," "," "]
[" "," "," "," "," "," "," "," "," "," "]
[" "," "," "," "," "," "," "," "," "," "]
[" "," "," "," "," "," "," "," "," "," "]
[" "," "," "," "," "," "," "," "," "," "]
[" "," "," "," "," "," "," "," "," "," "]
[" "," "," "," "," "," "," "," "," "," "]
[" "," "," "," "," "," "," "," "," "," "]
[" "," "," "," "," "," "," "," "," "," "]
[" "," "," "," "," "," "," "," "," "," "]
[" "," "," "," "," "," "," "," "," "," "]
[" "," "," "," "," "," "," "," "," "," "]
[" "," "," "," "," "," "," "," "," "," "]
[" "," "," "," "," "," "," "," "," "," "]
[" "," "," "," "," "," "," "," "," "," "]
[" "," "," "," "," "," "," "," "," "," "]
[" "," "," "," "," "," "," "," "," "," "]
[" "," "," "," "," "," "," "," "," "," "]
[" "," "," "," "," "," "," "," "," "," "]
[" "," "," "," "," "," "," "," "," "," "]
[" "," "," "," "," "," "," "," "," "," "]
[" "," "," "," "," "," "," "," "," "," "]
[" "," "," "," "," "," "," "," "," "," "]
[" "," "," "," "," "," "," "," "," "," "]
[" "," "," "," "," "," "," "," "," "," "]
[" "," "," "," "," "," "," "," "," "," "]

{"sheet":"LV 3","index":3,"n_rows":1100,"n_cols":15,"rows_kept":1100,"cut":false,"hidden":false,"merged":[]}
[]
[" ","MODELLO PREDATORE-PREDA DI LOTKA VOLTERRA",null,null,null,null,null,null,null,null,null,null,null,null,"partenza vicino al punto di equilibrio"]
["neq","to","tf","y0(1)","y0(2)","costa","costb","costc","costd","costk","nstep","imod"]
[2,0,120,12.5,3.6,0.3,0.09,7.0000000000000001E-3,0.09,null,500,1]
[" "," ",100," "," "," ",null,null," ",null,100]
[null,null,null,null,null,null,null,null,null,null,null," "]
[null,null,"y2fin","y1fin",null,"xeq","yeq"]
[null,null,{"$f":"C511","v":11.318448529769832},{"$f":"D511","v":3.4701600165800701},null,{"$f":"I4/H4","v":12.857142857142856},{"$f":"F4/G4","v":3.3333333333333335}]
[]
["n","t","x","y"," ","x = numero prede ( migliaia)",null,null,null," "]
[1,0,12.5,3.6," ","y = numero predatori ( migliaia)",null,null,null," "]
[2,0.24,12.428516240188866,3.59762408856855," "," "," "," "," "," "]
[3,0.48,12.358132616354922,3.5948212792995995," "," "," "," "," "," "]
[4,0.72,12.288947323701958,3.5915995091219508," "," "," "," "," "," "]
[5,0.96,12.221054142669255,3.5879674167912992," "," "," "," "," "," "]
[6,1.2,12.154542426498471,3.5839343043458389," "," "," "," "," "," "]
[7,1.44,12.089497108024297,3.5795100978918097," "," "," "," "," "," "]
[8,1.68,12.025998724174453,3.5747053079521396," "," "," "," "," "," "]
[9,1.92,11.964123456637054,3.569530989599996," "," "," "," "," "," "]
[10,2.16,11.903943187142602,3.5639987025865723," "," "," "," "," "," "]
[11,2.4,11.845525565812528,3.5581204716589934," "," "," "," "," "," "]
[12,2.6399999999999997,11.788934091044673,3.5519087472501023," "," "," "," "," "," "]
[13,2.88,11.734228199436769,3.5453763667072327," "," "," "," "," "," "]
[14,3.12,11.681463364290332,3.5385365162121367," "," "," "," "," "," "]
[15,3.36,11.630691201287835,3.5314026935291589," "," "," "," "," "," "]
[16,3.5999999999999996,11.581959579994026,3.5239886717037203," "," "," "," "," "," "]
[17,3.84,11.53531273989641,3.5163084638183246," "," "," "," "," "," "]
[18,4.08,11.490791409768898,3.5083762888987842," "," "," "," "," "," "]
[19,4.32,11.448432929215018,3.5002065390492598," "," "," "," "," "," "]
[20,4.5599999999999996,11.40827137132198,3.4918137478811517," "," "," "," "," "," "]
[21,4.8,11.370337665432935,3.4832125602879174," "," "," "," "," "," "]
[22,5.04,11.334659719121341,3.4744177036056079," "," "," "," "," "," "]
[23,5.2799999999999994,11.301262538527368,3.4654439601873475," "," "," "," "," "," "]
[24,5.52,11.270168346291166,3.4563061414091751," "," "," "," "," "," "]
[25,5.76,11.24139669639094,3.4470190631146278," "," "," "," "," "," "]
[26,6,11.214964585264658,3.4375975224962034," "," "," "," "," "," "]
[27,6.24,11.190886558662397,3.4280562764033844," "," "," "," "," "," "]
[28,6.4799999999999995,11.16917481374149,3.4184100210592252," "," "," "," "," "," ",null,null," "," "," "]
[29,6.72,11.149839295978737,3.4086733731605916," "," "," "," "," "," ",null,null," "," "," "]
[30,6.96,11.132887790532465,3.398860852330968," "," "," "," "," "," ",null,null," "," "," "]
[31,7.1999999999999993,11.118326007742512,3.3889868648892909," "," "," "," "," "," ",null,null," "," "," "]
[32,7.4399999999999995,11.106157662507885,3.3790656888934758," "," "," "," "," "," ",null,null," "," "," "]
[33,7.68,11.096384547330151,3.3691114604131762," "," "," "," "," "," ",null,null," "," "," "]
[34,7.92,11.08900659885561,3.3591381609827722," "," "," "," "," "," ",null,null," "," "," "]
[35,8.16,11.084021957790945,3.349159606182619," "," "," "," "," "," ",null,null," "," "," "]
[36,8.4,11.081427022105762,3.3391894352941383," "," "," "," "," "," ",null,null," "," "," "]
[37,8.64,11.081216493471114,3.3292411019723693," "," "," "," "," "," ",null,null," "," "," "]
[38,8.879999999999999,11.083383416916172,3.3193278658780674," "," "," "," "," "," ",null,null," "," "," "]
[39,9.1199999999999992,11.087919213715777,3.3094627852103171," "," "," "," "," "," ",null,null," "," "," "]
[40,9.36,11.094813707549909,3.2996587100798527," "," "," "," "," "," ",null,null," "," "," "]
[41,9.6,11.104055144002436,3.2899282766628413," "," "," "," "," "," ",null,null," "," "," "]
[42,9.84,11.115630203491051,3.2802839020747157," "," "," "," "," "," ",null,null," "," "," "]
[43,10.08,11.129524007743345,3.2707377799037469," "," "," "," "," "," ",null,null," "," "," "]
[44,10.32,11.145720119955715,3.26130187634435," "," "," "," "," "," ",null,null," "," "," "]
[45,10.559999999999999,11.164200538792542,3.2519879268706231," "," "," "," "," "," ",null,null," "," "," "]
[46,10.799999999999999,11.184945686403008,3.2428074333912877," "," "," "," "," "," ",null,null," "," "," "]
[47,11.04,11.207934390652268,3.2337716618279981," "," "," "," "," "," ",null,null," "," "," "]
[48,11.28,11.233143861782686,3.2248916400599117," "," "," "," "," "," ",null,null," "," "," "]
[49,11.52,11.260549663739718,3.2161781561784313," "," "," "," "," "," ",null,null," "," "," "]
[50,11.76,11.290125680415853,3.207641756997123," "," "," "," "," "," ",null,null," "," "," "]
[51,12,11.321844077085169,3.1992927467629841," "," "," "," "," "," ",null,null," "," "," "]
[52,12.24,11.355675257320474,3.1911411860164436," "," "," "," "," "," ",null,null," "," "," "]
[53,12.48,11.391587815705009,3.1831968905487447," "," "," "," "," "," ",null,null," "," "," "]
[54,12.719999999999999,11.429548486671292,3.1754694304066513," "," "," "," "," "," ",null,null," "," "," "]
[55,12.959999999999999,11.469522089821035,3.1679681288957515," "," "," "," "," "," ",null,null," "," "," "]
[56,13.2,11.511471472102267,3.1607020615349808," "," "," "," "," "," ",null,null," "," "," "]
[57,13.44,11.555357447242836,3.1536800549163813," "," "," "," "," "," ",null,null," "," "," "]
[58,13.68,11.6011387328635,3.1469106854255204," "," "," "," "," "," ",null,null," "," "," "]
[59,13.92,11.648771885718723,3.1404022777794407," "," "," "," "," "," ",null,null," "," "," "]
[60,14.16,11.698211235539159,3.1341629033405001," "," "," "," "," "," ",null,null," "," "," "]
[61,14.399999999999999,11.749408817976555,3.1282003781659928," "," "," "," "," "," ",null,null," "," "," "]
[62,14.639999999999999,11.802314307179355,3.1225222607550291," "," "," "," "," "," ",null,null," "," "," "]
[63,14.879999999999999,11.85687494855552,3.1171358494558024," "," "," "," "," "," ",null,null," "," "," "]
[64,15.12,11.913035492307927,3.1120481794981134," "," "," "," "," "," ",null,null," "," "," "]
[65,15.36,11.970738128356919,3.107266019617839," "," "," "," "," "," ",null,null," "," "," "]
[66,15.6,12.029922423293977,3.1027958682419721," "," "," "," "," "," ",null,null," "," "," "]
[67,15.84,12.090525260039835,3.0986439492049249," "," "," "," "," "," ",null,null," "," "," "]
[68,16.079999999999998,12.152480780909363,3.0948162069689862," "," "," "," "," "," ",null,null," "," "," "]
[69,16.32,12.215720334813883,3.0913183013241974," "," "," "," "," "," ",null,null," "," "," "]
[70,16.559999999999999,12.280172429358853,3.0881556015454654," "," "," "," "," "," ",null,null," "," "," "]
[71,16.8,12.345762688620743,3.085333179987483," "," "," "," "," "," ",null,null," "," "," "]
[72,17.04,12.412413817410872,3.082855805101012," "," "," "," "," "," ",null,null," "," "," "]
[73,17.28,12.480045572855559,3.0807279338573115," "," "," "," "," "," ",null,null," "," "," "]
[74,17.52,12.548574744140616,3.0789537035709862," "," "," "," "," "," ",null,null," "," "," "]
[75,17.759999999999998,12.617915141283415,3.0775369231153102," "," "," "," "," "," ",null,null," "," "," "]
[76,18,12.687977593806892,3.0764810635281727," "," "," "," "," "," ",null,null," "," "," "]
[77,18.239999999999998,12.758669960196244,3.0757892480111959," "," "," "," "," "," ",null,null," "," "," "]
[78,18.48,12.829897149020169,3.0754642413293301," "," "," "," "," "," ",null,null," "," "," "]
[79,18.72,12.901561152593493,3.0755084386233338," "," "," "," "," "," ",null,null," "," "," "]
[80,18.96,12.973561094046298,3.0759238536530087," "," "," "," "," "," ",null,null," "," "," "]
[81,19.2,13.045793288645566,3.0767121064948975," "," "," "," "," "," ",null,null," "," "," "]
[82,19.439999999999998,13.118151320188034,3.0778744107243625," "," "," "," "," "," ",null,null," "," "," "]
[83,19.68,13.190526133246943,3.0794115601185301," "," "," "," "," "," ",null,null," "," "," "]
[84,19.919999999999998,13.26280614200985,3.0813239149235323," "," "," "," "," "," ",null,null," "," "," "]
[85,20.16,13.33487735638912,3.0836113877367541," "," "," "," "," "," ",null,null," "," "," "]
[86,20.399999999999999,13.406623526020576,3.0862734290623961," "," "," "," "," "," ",null,null," "," "," "]
[87,20.64,13.477926302688591,3.0893090126065665," "," "," "," "," "," ",null,null," "," "," "]
[88,20.88,13.548665421627209,3.0927166203862604," "," "," "," "," "," ",null,null," "," "," "]
[89,21.119999999999997,13.618718902046508,3.0964942277349405," "," "," "," "," "," ",null,null," "," "," "]
[90,21.36,13.687963267121107,3.1006392882959384," "," "," "," "," "," ",null,null," "," "," "]
[91,21.599999999999998,13.756273783553574,3.1051487191034699," "," "," "," "," "," ",null,null," "," "," "]
[92,21.84,13.823524720689559,3.1100188858596418," "," "," "," "," "," ",null,null," "," "," "]
[93,22.08,13.889589629014219,3.1152455885243096," "," "," "," "," "," ",null,null," "," "," "]
[94,22.32,13.954341637701352,3.1208240473429356," "," "," "," "," "," ",null,null," "," "," "]
[95,22.56,14.017653770718436,3.1267488894455941," "," "," "," "," "," ",null,null," "," "," "]
[96,22.8,14.07939928081346,3.1330141361578154," "," "," "," "," "," ",null,null," "," "," "]
[97,23.04,14.139452000524225,3.1396131911709708," "," "," "," "," "," ",null,null," "," "," "]
[98,23.279999999999998,14.197686709159159,3.1465388297261927," "," "," "," "," "," ",null,null," "," "," "]
[99,23.52,14.253979514502396,3.1537831889712717," "," "," "," "," "," ",null,null," "," "," "]
[100,23.759999999999998,14.308208247796772,3.1613377596544274," "," "," "," "," "," ",null,null," "," "," "]
[101,24,14.360252870358826,3.1691933793221319," "," "," "," "," "," ",null,null," "," "," "]
[102,24.24,14.409995889982079,3.177340227190137," "," "," "," "," "," ",null,null," "," "," "]
[103,24.48,14.457322785091687,3.1857678208573659," "," "," "," "," "," ",null,null," "," "," "]
[104,24.72,14.502122434427529,3.1944650150311951," "," "," "," "," "," ",null,null," "," "," "]
[105,24.96,14.544287549857057,3.2034200024297745," "," "," "," "," "," ",null,null," "," "," "]
[106,25.2,14.58371510975674,3.2126203170222438," "," "," "," "," "," ",null,null," "," "," "]
[107,25.439999999999998,14.620306790254755,3.2220528397609041," "," "," "," "," "," ",null,null," "," "," "]
[108,25.68,14.653969391500844,3.2317038069505064," "," "," "," "," "," ",null,null," "," "," "]
[109,25.919999999999998,14.684615256025014,3.241558821388729," "," "," "," "," "," ",null,null," "," "," "]
[110,26.16,14.712162676167795,3.2516028663986085," "," "," "," "," "," ",null,null," "," "," "]
[111,26.4,14.736536287513976,3.2618203228581568," "," "," "," "," "," ",null,null," "," "," "]
[112,26.64,14.757667445241369,3.2721949893146207," "," "," "," "," "," ",null,null," "," "," "]
[113,26.88,14.775494580308536,3.2827101052509469," "," "," "," "," "," ",null,null," "," "," "]
[114,27.119999999999997,14.789963532452095,3.2933483775500263," "," "," "," "," "," ",null,null," "," "," "]
[115,27.36,14.801027857046572,3.3040920101784246," "," "," "," "," "," ",null,null," "," "," "]
[116,27.599999999999998,14.808649102998514,3.3149227370856678," "," "," "," "," "," ",null,null," "," "," "]
[117,27.84,14.812797059001916,3.3258218582880437," "," "," "," "," "," ",null,null," "," "," "]
[118,28.08,14.813449965673492,3.3367702790774989," "," "," "," "," "," ",null,null," "," "," "]
[119,28.32,14.810594691312851,3.3477485522669195," "," "," "," "," "," ",null,null," "," "," "]
[120,28.56,14.804226869292632,3.3587369233531827," "," "," "," "," "," ",null,null," "," "," "]
[121,28.799999999999997,14.794350995374584,3.3697153784492593," "," "," "," "," "," ",null,null," "," "," "]
[122,29.04,14.78098048356655,3.3806636948067039," "," "," "," "," "," ",null,null," "," "," "]
[123,29.279999999999998,14.764137679478706,3.3915614937205447," "," "," "," "," "," ",null,null," "," "," "]
[124,29.52,14.743853830501076,3.4023882955802676," "," "," "," "," "," ",null,null," "," "," "]
[125,29.759999999999998,14.720169012503534,3.4131235768037564," "," "," "," "," "," ",null,null," "," "," "]
[126,30,14.693132013149398,3.4237468283660988," "," "," "," "," "," ",null,null," "," "," "]
[127,30.24,14.662800172308602,3.4342376156125374," "," "," "," "," "," ",null,null," "," "," "]
[128,30.48,14.629239180451066,3.444575639024916," "," "," "," "," "," ",null,null," "," "," "]
[129,30.72,14.592522836289287,3.4547407955941125," "," "," "," "," "," ",null,null," "," "," "]
[130,30.959999999999997,14.552732765315788,3.464713240437483," "," "," "," "," "," ",null,null," "," "," "]
[131,31.2,14.509958101240375,3.4744734482905373," "," "," "," "," "," ",null,null," "," "," "]
[132,31.439999999999998,14.464295132668758,3.4840022744961474," "," "," "," "," "," ",null,null," "," "," "]
[133,31.68,14.415846917673107,3.4932810151127125," "," "," "," "," "," ",null,null," "," "," "]
[134,31.919999999999998,14.364722869182131,3.5022914657649507," "," "," "," "," "," ",null,null," "," "," "]
[135,32.159999999999997,14.31103831435926,3.5110159788674027," "," "," "," "," "," ",null,null," "," "," "]
[136,32.4,14.254914031339396,3.519437518861237," "," "," "," "," "," ",null,null," "," "," "]
[137,32.64,14.196475766854762,3.5275397151194579," "," "," "," "," "," ",null,null," "," "," "]
[138,32.879999999999995,14.13585373839704,3.535306912193918," "," "," "," "," "," ",null,null," "," "," "]
[139,33.119999999999997,14.073182124635071,3.5427242170994022," "," "," "," "," "," ",null,null," "," "," "]
[140,33.36,14.008598547834877,3.5497775433551584," "," "," "," "," "," ",null,null," "," "," "]
[141,33.6,13.9422435520121,3.556453651532236," "," "," "," "," "," ",null,null," "," "," "]
[142,33.839999999999996,13.874260080487593,3.5627401860854717," "," "," "," "," "," ",null,null," "," "," "]
[143,34.08,13.804792956416872,3.5686257082814596," "," "," "," "," "," ",null,null," "," "," "]
[144,34.32,13.733988369726026,3.574099725067923," "," "," "," "," "," ",null,null," "," "," "]
[145,34.56,13.661993373713957,3.5791527137650516," "," "," "," "," "," ",null,null," "," "," "]
[146,34.799999999999997,13.588955394376979,3.5837761424951213," "," "," "," "," "," ",null,null," "," "," "]
[147,35.04,13.515021755281122,3.5879624863025463," "," "," "," "," "," ",null,null," "," "," "]
[148,35.28,13.440339220554229,3.5917052389519881," "," "," "," "," "," ",null,null," "," "," "]
[149,35.519999999999996,13.365053558298765,3.5949989204267845," "," "," "," "," "," ",null,null," "," "," "]
[150,35.76,13.289309126441708,3.5978390801833302," "," "," "," "," "," ",null,null," "," "," "]
[151,36,13.213248482744641,3.6002222962487869," "," "," "," "," "," ",null,null," "," "," "]
[152,36.24,13.137012020399659,3.6021461702792399," "," "," "," "," "," ",null,null," "," "," "]
[153,36.479999999999997,13.060737630339302,3.603609318722869," "," "," "," "," "," ",null,null," "," "," "]
[154,36.72,12.984560391095352,3.6046113602576173," "," "," "," "," "," ",null,null," "," "," "]
[155,36.96,12.908612286755789,3.6051528996950126," "," "," "," "," "," ",null,null," "," "," "]
[156,37.199999999999996,12.83302195329475,3.6052355085611003," "," "," "," "," "," ",null,null," "," "," "]
[157,37.44,12.757914453289898,3.6048617025817551," "," "," "," "," "," ",null,null," "," "," "]
[158,37.68,12.683411078797572,3.604034916312957," "," "," "," "," "," ",null,null," "," "," "]
[159,37.92,12.609629181930693,3.6027594751669105," "," "," "," "," "," ",null,null," "," "," "]
[160,38.159999999999997,12.536682032478822,3.6010405650922328," "," "," "," "," "," ",null,null," "," "," "]
[161,38.4,12.464678701725591,3.5988842001709092," "," "," "," "," "," ",null,null," "," "," "]
[162,38.64,12.393723971456168,3.5962971883964623," "," "," "," "," "," ",null,null," "," "," "]
[163,38.879999999999995,12.323918267007217,3.5932870958969345," "," "," "," "," "," ",null,null," "," "," "]
[164,39.119999999999997,12.255357613093498,3.5898622098630546," "," "," "," "," "," ",null,null," "," "," "]
[165,39.36,12.188133611048766,3.5860315004365266," "," "," "," "," "," ",null,null," "," "," "]
[166,39.6,12.122333436042986,3.581804581805982," "," "," "," "," "," ",null,null," "," "," "]
[167,39.839999999999996,12.058039852782361,3.5771916727489828," "," "," "," "," "," ",null,null," "," "," "]
[168,40.08,11.995331248161978,3.5722035568478119," "," "," "," "," "," ",null,null," "," "," "]
[169,40.32,11.934281679321781,3.5668515425948435," "," "," "," "," "," ",null,null," "," "," "]
[170,40.559999999999995,11.874960935553613,3.5611474235903056," "," "," "," "," "," ",null,null," "," "," "]
[171,40.799999999999997,11.817434612518698,3.555103439021444," "," "," "," "," "," ",null,null," "," "," "]
[172,41.04,11.761764197259623,3.5487322345976806," "," "," "," "," "," ",null,null," "," "," "]
[173,41.28,11.708007162527023,3.542046824101551," "," "," "," "," "," ",null,null," "," "," "]
[174,41.519999999999996,11.656217068987146,3.5350605517001665," "," "," "," "," "," ",null,null," "," "," "]
[175,41.76,11.606443673930885,3.5277870551468853," "," "," "," "," "," ",null,null," "," "," "]
[176,42,11.558733045166038,3.5202402299879054," "," "," "," "," "," ",null,null," "," "," "]
[177,42.239999999999995,11.513127678841258,3.5124341948738107," "," "," "," "," "," ",null,null," "," "," "]
[178,42.48,11.469666620020956,3.5043832580617509," "," "," "," "," "," ",null,null," "," "," "]
[179,42.72,11.428385584904216,3.4961018851801158," "," "," "," "," "," ",null,null," "," "," "]
[180,42.96,11.389317083656335,3.4876046683142734," "," "," "," "," "," ",null,null," "," "," "]
[181,43.199999999999996,11.352490542898032,3.4789062964593152," "," "," "," "," "," ",null,null," "," "," "]
[182,43.44,11.317932426973764,3.4700215273738135," "," "," "," "," "," ",null,null," "," "," "]
[183,43.68,11.285666357196142,3.4609651608574019," "," "," "," "," "," ",null,null," "," "," "]
[184,43.92,11.255713228337514,3.4517520134645516," "," "," "," "," "," ",null,null," "," "," "]
[185,44.16,11.228091321711862,3.4423968946572838," "," "," "," "," "," ",null,null," "," "," "]
[186,44.4,11.202816414259761,3.4329145843906854," "," "," "," "," "," ",null,null," "," "," "]
[187,44.64,11.179901883115873,3.4233198121170414," "," "," "," "," "," ",null,null," "," "," "]
[188,44.879999999999995,11.15935880520211,3.4136272371870815," "," "," "," "," "," ",null,null," "," "," "]
[189,45.12,11.141196051449983,3.4038514306203052," "," "," "," "," "," ",null,null," "," "," "]
[190,45.36,11.125420375312554,3.3940068582105258," "," "," "," "," "," ",null,null," "," "," "]
[191,45.6,11.112036495279952,3.3841078649276466," "," "," "," "," "," ",null,null," "," "," "]
[192,45.839999999999996,11.101047171162392,3.3741686605722334," "," "," "," "," "," ",null,null," "," "," "]
[193,46.08,11.092453273951344,3.3642033066355994," "," "," "," "," "," ",null,null," "," "," "]
[194,46.32,11.086253849112762,3.3542257043148744," "," "," "," "," "," ",null,null," "," "," "]
[195,46.559999999999995,11.082446173206534,3.3442495836298205," "," "," "," "," "," ",null,null," "," "," "]
[196,46.8,11.081025803763469,3.3342884935859507," "," "," "," "," "," ",null,null," "," "," "]
[197,47.04,11.081986622385497,3.3243557933267645," "," "," "," "," "," ",null,null," "," "," "]
[198,47.28,11.08532087106664,3.3144646442165855," "," "," "," "," "," ",null,null," "," "," "]
[199,47.519999999999996,11.091019181761636,3.3046280027945492," "," "," "," "," "," ",null,null," "," "," "]
[200,47.76,11.09907059925647,3.2948586145396761," "," "," "," "," "," ",null,null," "," "," "]
[201,48,11.109462597420471,3.2851690083866716," "," "," "," "," "," ",null,null," "," "," "]
[202,48.239999999999995,11.122181088943384,3.275571491932058," "," "," "," "," "," ",null,null," "," "," "]
[203,48.48,11.137210428683218,3.2660781472704583," "," "," "," "," "," ",null,null," "," "," "]
[204,48.72,11.154533410771911,3.2567008274012457," "," "," "," "," "," ",null,null," "," "," "]
[205,48.96,11.174131259646115,3.2474511531463728," "," "," "," "," "," ",null,null," "," "," "]
[206,49.199999999999996,11.195983615190075,3.2383405105209273," "," "," "," "," "," ",null,null," "," "," "]
[207,49.44,11.22006851219669,3.22938004849882," "," "," "," "," "," ",null,null," "," "," "]
[208,49.68,11.246362354371774,3.2205806771169896," "," "," "," "," "," ",null,null," "," "," "]
[209,49.92,11.274839883125335,3.2119530658625659," "," "," "," "," "," ",null,null," "," "," "]
[210,50.16,11.305474141412686,3.2035076422885602," "," "," "," "," "," ",null,null," "," "," "]
[211,50.4,11.338236432907445,3.1952545908048497," "," "," "," "," "," ",null,null," "," "," "]
[212,50.64,11.373096276808162,3.187203851592455," "," "," "," "," "," ",null,null," "," "," "]
[213,50.879999999999995,11.410021358600615,3.1793651195903934," "," "," "," "," "," ",null,null," "," "," "]
[214,51.12,11.448977477118753,3.1717478435056998," "," "," "," "," "," ",null,null," "," "," "]
[215,51.36,11.489928488269067,3.1643612247985531," "," "," "," "," "," ",null,null," "," "," "]
[216,51.6,11.532836245805713,3.1572142165958064," "," "," "," "," "," ",null,null," "," "," "]
[217,51.839999999999996,11.577660539567312,3.1503155224876349," "," "," "," "," "," ",null,null," "," "," "]
[218,52.08,11.624359031610746,3.1436735951634254," "," "," "," "," "," ",null,null," "," "," "]
[219,52.32,11.672887190702726,3.1372966348445108," "," "," "," "," "," ",null,null," "," "," "]
[220,52.559999999999995,11.723198225656137,3.1311925874728566," "," "," "," "," "," ",null,null," "," "," "]
[221,52.8,11.775243018025387,3.1253691426163588," "," "," "," "," "," ",null,null," "," "," "]
[222,53.04,11.828970054702834,3.1198337310530424," "," "," "," "," "," ",null,null," "," "," "]
[223,53.28,11.884325360986988,3.1145935219981276," "," "," "," "," "," ",null,null," "," "," "]
[224,53.519999999999996,11.94125243472214,3.1096554199397208," "," "," "," "," "," ",null,null," "," "," "]
[225,53.76,11.999692182138492,3.105026061050757," "," "," "," "," "," ",null,null," "," "," "]
[226,54,12.059582856051223,3.1007118091468175," "," "," "," "," "," ",null,null," "," "," "]
[227,54.239999999999995,12.120859997106145,3.0967187511615828," "," "," "," "," "," ",null,null," "," "," "]
[228,54.48,12.183456378788325,3.0930526921139534," "," "," "," "," "," ",null,null," "," "," "]
[229,54.72,12.247301956937944,3.0897191495433396," "," "," "," "," "," ",null,null," "," "," "]
[230,54.96,12.312323824544249,3.0867233473922644," "," "," "," "," "," ",null,null," "," "," "]
[231,55.199999999999996,12.378446172613494,3.0840702093182935," "," "," "," "," "," ",null,null," "," "," "]
[232,55.44,12.445590257929583,3.0817643514203992," "," "," "," "," "," ",null,null," "," "," "]
[233,55.68,12.513674378546369,3.0798100743682291," "," "," "," "," "," ",null,null," "," "," "]
[234,55.919999999999995,12.582613857867592,3.0782113549263772," "," "," "," "," "," ",null,null," "," "," "]
[235,56.16,12.652321038183693,3.0769718368696881," "," "," "," "," "," ",null,null," "," "," "]
[236,56.4,12.722705284543684,3.0760948212898653," "," "," "," "," "," ",null,null," "," "," "]
[237,56.64,12.793672999844039,3.0755832562982341," "," "," "," "," "," ",null,null," "," "," "]
[238,56.879999999999995,12.86512765201482,3.0754397261344288," "," "," "," "," "," ",null,null," "," "," "]
[239,57.12,12.93696981417497,3.0756664396960565," "," "," "," "," "," ",null,null," "," "," "]
[240,57.36,13.009097218613471,3.0762652185100343," "," "," "," "," "," ",null,null," "," "," "]
[241,57.599999999999994,13.08140482542998,3.0772374841723185," "," "," "," "," "," ",null,null," "," "," "]
[242,57.839999999999996,13.153784906637062,3.0785842452891305," "," "," "," "," "," ",null,null," "," "," "]
[243,58.08,13.22612714648551,3.0803060839595418," "," "," "," "," "," ",null,null," "," "," "]
[244,58.32,13.298318758723846,3.0824031418463869," "," "," "," "," "," ",null,null," "," "," "]
[245,58.559999999999995,13.370244621442454,3.084875105889918," "," "," "," "," "," ",null,null," "," "," "]
[246,58.8,13.441787430081206,3.0877211937263676," "," "," "," "," "," ",null,null," "," "," "]
[247,59.04,13.512827869096652,3.0909401388816127," "," "," "," "," "," ",null,null," "," "," "]
[248,59.28,13.583244802690444,3.0945301758183898," "," "," "," "," "," ",null,null," "," "," "]
[249,59.519999999999996,13.652915484894388,3.098489024923949," "," "," "," "," "," ",null,null," "," "," "]
[250,59.76,13.721715789189407,3.102813877533579," "," "," "," "," "," ",null,null," "," "," "]
[251,60,13.789520457705699,3.1075013810940333," "," "," "," "," "," ",null,null," "," "," "]
[252,60.239999999999995,13.856203369909808,3.1125476245794208," "," "," "," "," "," ",null,null," "," "," "]
[253,60.48,13.921637830531644,3.1179481242805389," "," "," "," "," "," ",null,null," "," "," "]
[254,60.72,13.985696876321255,3.1236978100967767," "," "," "," "," "," ",null,null," "," "," "]
[255,60.96,14.048253601052341,3.1297910124675132," "," "," "," "," "," ",null,null," "," "," "]
[256,61.199999999999996,14.109181498008104,3.1362214500872296," "," "," "," "," "," ",null,null," "," "," "]
[257,61.44,14.168354818996482,3.1429822185552352," "," "," "," "," "," ",null,null," "," "," "]
[258,61.68,14.22564894874766,3.1500657801167944," "," "," "," "," "," ",null,null," "," "," "]
[259,61.919999999999995,14.28094079334879,3.157463954657429," "," "," "," "," "," ",null,null," "," "," "]
[260,62.16,14.334109181171275,3.1651679121160572," "," "," "," "," "," ",null,null," "," "," "]
[261,62.4,14.385035274546903,3.1731681664852993," "," "," "," "," "," ",null,null," "," "," "]
[262,62.64,14.43360299025332,3.1814545715685423," "," "," "," "," "," ",null,null," "," "," "]
[263,62.879999999999995,14.479699426679218,3.1900163186630768," "," "," "," "," "," ",null,null," "," "," "]
[264,63.12,14.523215295358362,3.1988419363366476," "," "," "," "," "," ",null,null," "," "," "]
[265,63.36,14.564045354391913,3.2079192924609488," "," "," "," "," "," ",null,null," "," "," "]
[266,63.599999999999994,14.60208884112371,3.2172355986598338," "," "," "," "," "," ",null,null," "," "," "]
[267,63.839999999999996,14.637249901296137,3.2267774173221908," "," "," "," "," "," ",null,null," "," "," "]
[268,64.08,14.669438011798205,3.2365306713194544," "," "," "," "," "," ",null,null," "," "," "]
[269,64.319999999999993,14.698568394025276,3.2464806565555619," "," "," "," "," "," ",null,null," "," "," "]
[270,64.56,14.724562414804524,3.256612057462748," "," "," "," "," "," ",null,null," "," "," "]
[271,64.8,14.747347971804015,3.2669089655399306," "," "," "," "," "," ",null,null," "," "," "]
[272,65.039999999999992,14.766859860338906,3.277354901011623," "," "," "," "," "," ",null,null," "," "," "]
[273,65.28,14.783040118517249,3.2879328376643517," "," "," "," "," "," ",null,null," "," "," "]
[274,65.52,14.795838347732067,3.2986252308946384," "," "," "," "," "," ",null,null," "," "," "]
[275,65.759999999999991,14.805212005606545,3.3094140489778332," "," "," "," "," "," ",null,null," "," "," "]
[276,66,14.811126668635973,3.3202808075406978," "," "," "," "," "," ",null,null," "," "," "]
[277,66.239999999999995,14.813556261943257,3.3312066071928625," "," "," "," "," "," ",null,null," "," "," "]
[278,66.48,14.812483253773795,3.342172174243415," "," "," "," "," "," ",null,null," "," "," "]
[279,66.72,14.807898812598694,3.3531579043992403," "," "," "," "," "," ",null,null," "," "," "]
[280,66.959999999999994,14.799802924970908,3.3641439093116823," "," "," "," "," "," ",null,null," "," "," "]
[281,67.2,14.788204472584034,3.3751100658080153," "," "," "," "," "," ",null,null," "," "," "]
[282,67.44,14.773121267314938,3.3860360676145289," "," "," "," "," "," ",null,null," "," "," "]
[283,67.679999999999993,14.754580043385349,3.3969014793491379," "," "," "," "," "," ",null,null," "," "," "]
[284,67.92,14.732616406149486,3.4076857925337967," "," "," "," "," "," ",null,null," "," "," "]
[285,68.16,14.707274737399834,3.4183684833510313," "," "," "," "," "," ",null,null," "," "," "]
[286,68.399999999999991,14.678608057476296,3.4289290718450434," "," "," "," "," "," ",null,null," "," "," "]
[287,68.64,14.646677844859388,3.4393471822464945," "," "," "," "," "," ",null,null," "," "," "]
[288,68.88,14.61155381432039,3.4496026040816159," "," "," "," "," "," ",null,null," "," "," "]
[289,69.12,14.573313655084721,3.459675353711066," "," "," "," "," "," ",null,null," "," "," "]
[290,69.36,14.532042730833581,3.469545735932257," "," "," "," "," "," ",null,null," "," "," "]
[291,69.599999999999994,14.487833743717612,3.4791944052709636," "," "," "," "," "," "]
[292,69.84,14.440786364880056,3.488602426584078," "," "," "," "," "," "]
[293,70.08,14.391006834280565,3.4977513345955211," "," "," "," "," "," "]
[294,70.319999999999993,14.338607532870622,3.5066231919916198," "," "," "," "," "," "]
[295,70.56,14.283706530393596,3.5152006457106988," "," "," "," "," "," "]
[296,70.8,14.226427112264055,3.5234669810741353," "," "," "," "," "," "]
[297,71.039999999999992,14.166897289119792,3.5314061734225195," "," "," "," "," "," "]
[298,71.28,14.105249292734847,3.5390029369406655," "," "," "," "," "," "]
[299,71.52,14.041619062031877,3.5462427703787123," "," "," "," "," "," "]
[300,71.759999999999991,13.976145722937888,3.553111999403133," "," "," "," "," "," "]
[301,72,13.908971065789423,3.5595978153407337," "," "," "," "," "," "]
[302,72.239999999999995,13.840239023913636,3.5656883101102514," "," "," "," "," "," "]
[303,72.48,13.770095156892516,3.5713725071695035," "," "," "," "," "," "]
[304,72.72,13.698686141861971,3.5766403883407007," "," "," "," "," "," "]
[305,72.959999999999994,13.626159276008902,3.5814829164120447," "," "," "," "," "," "]
[306,73.2,13.552661993211842,3.5858920534495859," "," "," "," "," "," "]
[307,73.44,13.478341397528363,3.589860774789031," "," "," "," "," "," "]
[308,73.679999999999993,13.40334381596981,3.5933830787123062," "," "," "," "," "," "]
[309,73.92,13.327814372725571,3.5964539918477496," "," "," "," "," "," "]
[310,74.16,13.251896586709702,3.5990695703654203," "," "," "," "," "," "]
[311,74.399999999999991,13.175731994006837,3.6012268970698109," "," "," "," "," "," "]
[312,74.64,13.09945979649631,3.602924074520895," "," "," "," "," "," "]
[313,74.88,13.02321653763754,3.6041602143406757," "," "," "," "," "," "]
[314,75.11999999999999,12.947135806109745,3.6049354228859878," "," "," "," "," "," "]
[315,75.36,12.871347967718634,3.6052507834890726," "," "," "," "," "," "]
[316,75.599999999999994,12.795979925714736,3.6051083354852929," "," "," "," "," "," "]
[317,75.84,12.721154909415501,3.6045110502621869," "," "," "," "," "," "]
[318,76.08,12.64699229078815,3.6034628045758876," "," "," "," "," "," "]
[319,76.319999999999993,12.573607428434439,3.6019683513897696," "," "," "," "," "," "]
[320,76.56,12.501111538223416,3.6000332884960975," "," "," "," "," "," "]
[321,76.8,12.42961158964456,3.5976640251845744," "," "," "," "," "," "]
[322,77.039999999999992,12.359210226802213,3.5948677472221253," "," "," "," "," "," "]
[323,77.28,12.290005712842753,3.5916523804062157," "," "," "," "," "," "]
[324,77.52,12.222091896498501,3.5880265529496622," "," "," "," "," "," "]
[325,77.759999999999991,12.155558199346217,3.5839995569484642," "," "," "," "," "," "]
[326,78,12.090489622312408,3.5795813091758948," "," "," "," "," "," "]
[327,78.239999999999995,12.026966769911636,3.5747823114361723," "," "," "," "," "," "]
[328,78.48,11.965065890676104,3.5696136106997089," "," "," "," "," "," "]
[329,78.72,11.90485893222384,3.5640867592294612," "," "," "," "," "," "]
[330,78.959999999999994,11.846413609417233,3.5582137748944844," "," "," "," "," "," "]
[331,79.2,11.789793484081898,3.5520071018526704," "," "," "," "," "," "]
[332,79.44,11.735058054786402,3.5454795717700058," "," "," "," "," "," "]
[333,79.679999999999993,11.682262855224538,3.5386443657287505," "," "," "," "," "," "]
[334,79.92,11.631459559792178,3.531514976961863," "," "," "," "," "," "]
[335,80.16,11.582696095008615,3.5241051745359595," "," "," "," "," "," "]
[336,80.399999999999991,11.536016755496401,3.5164289680902585," "," "," "," "," "," "]
[337,80.64,11.491462323302574,3.5085005737244161," "," "," "," "," "," "]
[338,80.88,11.449070189416542,3.5003343811140719," "," "," "," "," "," "]
[339,81.11999999999999,11.408874476414727,3.4919449219193384," "," "," "," "," "," "]
[340,81.36,11.370906161238167,3.4833468395385103," "," "," "," "," "," "]
[341,81.599999999999994,11.33519319718577,3.474554860246966," "," "," "," "," "," "]
[342,81.84,11.301760634282005,3.4655837657496646," "," "," "," "," "," "]
[343,82.08,11.270630737252704,3.4564483671648105," "," "," "," "," "," "]
[344,82.32,11.24182310041582,3.447163480446219," "," "," "," "," "," "]
[345,82.56,11.215354758864873,3.4377439032426569," "," "," "," "," "," "]
[346,82.8,11.191240295391058,3.4282043931839645," "," "," "," "," "," "]
[347,83.039999999999992,11.169491942655231,3.4185596475760711," "," "," "," "," "," "]
[348,83.28,11.150119680183046,3.4088242844800978," "," "," "," "," "," "]
[349,83.52,11.133131325815206,3.3990128251445517," "," "," "," "," "," "]
[350,83.759999999999991,11.118532621300036,3.3891396777541454," "," "," "," "," "," "]
[351,84,11.106327311767371,3.3792191224539843," "," "," "," "," "," "]
[352,84.24,11.096517218871119,3.3692652976037145," "," "," "," "," "," "]
[353,84.47999999999999,11.089102307432828,3.3592921872126813," "," "," "," "," "," "]
[354,84.72,11.084080745460387,3.3493136095041685," "," "," "," "," "," "]
[355,84.96,11.081448957454663,3.339343206554338," "," "," "," "," "," "]
[356,85.2,11.081201670952655,3.3293944349495117," "," "," "," "," "," "]
[357,85.44,11.083331956288831,3.3194805574039044," "," "," "," "," "," "]
[358,85.679999999999993,11.087831259586924,3.3096146352787885," "," "," "," "," "," "]
[359,85.92,11.094689429022816,3.2998095219432955," "," "," "," "," "," "]
[360,86.16,11.103894734425465,3.2900778569166076," "," "," "," "," "," "]
[361,86.399999999999991,11.115433880307423,3.2804320607311381," "," "," "," "," "," "]
[362,86.64,11.129292012439551,3.2708843304563748," "," "," "," "," "," "]
[363,86.88,11.145452718106297,3.2614466358233809," "," "," "," "," "," "]
[364,87.11999999999999,11.16389802019866,3.2521307158904462," "," "," "," "," "," "]
[365,87.36,11.184608365321907,3.2429480761910368," "," "," "," "," "," "]
[366,87.6,11.207562606114461,3.2339099863060072," "," "," "," "," "," "]
[367,87.84,11.232737977993391,3.2250274778029455," "," "," "," "," "," "]
[368,88.08,11.260110070560769,3.2163113424865486," "," "," "," "," "," "]
[369,88.32,11.28965279392404,3.2077721309050125," "," "," "," "," "," "]
[370,88.56,11.321338340202651,3.1994201510585949," "," "," "," "," "," "]
[371,88.8,11.355137140512607,3.1912654672577143," "," "," "," "," "," "]
[372,89.039999999999992,11.391017817740615,3.1833178990792121," "," "," "," "," "," "]
[373,89.28,11.428947135440081,3.1755870203707026," "," "," "," "," "," "]
[374,89.52,11.468889943202548,3.1680821582542604," "," "," "," "," "," "]
[375,89.759999999999991,11.510809118880356,3.1608123920820517," "," "," "," "," "," "]
[376,90,11.554665508059353,3.153786552297897," "," "," "," "," "," "]
[377,90.24,11.600417861204454,3.1470132191601725," "," "," "," "," "," "]
[378,90.47999999999999,11.648022768925815,3.1405007212828968," "," "," "," "," "," "]
[379,90.72,11.697434595839164,3.1342571339533389," "," "," "," "," "," "]
[380,90.96,11.748605413520623,3.1282902771860162," "," "," "," "," "," "]
[381,91.2,11.801484933083852,3.1226077134745291," "," "," "," "," "," "]
[382,91.44,11.856020437935612,3.1172167452043449," "," "," "," "," "," "]
[383,91.679999999999993,11.912156717294643,3.1121244116913624," "," "," "," "," "," "]
[384,91.92,11.969836001087987,3.1073374858129235," "," "," "," "," "," "]
[385,92.16,12.028997896868269,3.1028624701998657," "," "," "," "," "," "]
[386,92.399999999999991,12.089579329424797,3.0987055929602714," "," "," "," "," "," "]
[387,92.64,12.15151448379039,3.0948728029077732," "," "," "," "," "," "]
[388,92.88,12.214734752374124,3.0913697642696434," "," "," "," "," "," "]
[389,93.11999999999999,12.279168686977572,3.0882018508524371," "," "," "," "," "," "]
[390,93.36,12.344741956477929,3.0853741396457264," "," "," "," "," "," "]
[391,93.6,12.41137731098547,3.0828914038474231," "," "," "," "," "," "]
[392,93.84,12.478994553304361,3.0807581052974267," "," "," "," "," "," "]
[393,94.08,12.547510518544605,3.0789783863098141," "," "," "," "," "," "]
[394,94.32,12.616839062748138,3.0775560608975678," "," "," "," "," "," "]
[395,94.56,12.686891061403292,3.0764946053879179," "," "," "," "," "," "]
[396,94.8,12.757574418728355,3.0757971484307864," "," "," "," "," "," "]
[397,95.039999999999992,12.828794088606065,3.0754664604075566," "," "," "," "," "," "]
[398,95.28,12.900452108046027,3.0755049422524929," "," "," "," "," "," "]
[399,95.52,12.97244764404042,3.0759146137046001," "," "," "," "," "," "]
[400,95.759999999999991,13.044677054659317,3.0766971010135311," "," "," "," "," "," "]
[401,96,13.117033965204858,3.0778536241293644," "," "," "," "," "," "]
[402,96.24,13.189409360207533,3.0793849834126337," "," "," "," "," "," "]
[403,96.47999999999999,13.261691692002561,3.0812915459079289," "," "," "," "," "," "]
[404,96.72,13.333767006568888,3.0835732312316635," "," "," "," "," "," "]
[405,96.96,13.405519087247407,3.0862294971321984," "," "," "," "," "," "]
[406,97.2,13.476829616877959,3.0892593247884101," "," "," "," "," "," "]
[407,97.44,13.547578358806142,3.0926612039209367," "," "," "," "," "," "]
[408,97.679999999999993,13.617643357110802,3.0964331177986835," "," "," "," "," "," "]
[409,97.92,13.686901156290935,3.1005725282316763," "," "," "," "," "," "]
[410,98.16,13.755227040526719,3.1050763606499245," "," "," "," "," "," "]
[411,98.399999999999991,13.822495292493764,3.1099409893765348," "," "," "," "," "," "]
[412,98.64,13.888579471562418,3.1151622232118097," "," "," "," "," "," "]
[413,98.88,13.953352711056128,3.1207352914533546," "," "," "," "," "," "]
[414,99.11999999999999,14.016688034074704,3.1266548304852151," "," "," "," "," "," "]
[415,99.36,14.078458687211151,3.1329148710766295," "," "," "," "," "," "]
[416,99.6,14.138538491305697,3.1395088265379898," "," "," "," "," "," "]
[417,99.84,14.196802208189025,3.1464294818879179," "," "," "," "," "," "]
[418,100.08,14.253125922170534,3.1536689841908223," "," "," "," "," "," "]
[419,100.32,14.307387434828371,3.161218834228769," "," "," "," "," "," "]
[420,100.56,14.359466671458364,3.1690698796748045," "," "," "," "," "," "]
[421,100.8,14.4092460973412,3.1772123099368677," "," "," "," "," "," "]
[422,101.03999999999999,14.456611141793841,3.1856356528419467," "," "," "," "," "," "]
[423,101.28,14.501450627785058,3.1943287733290462," "," "," "," "," "," "]
[424,101.52,14.543657204719025,3.2032798743166642," "," "," "," "," "," "]
[425,101.75999999999999,14.583127781828203,3.2124764999057285," "," "," "," "," "," "]
[426,102,14.619763959470264,3.2219055410721746," "," "," "," "," "," "]
[427,102.24,14.653472455496811,3.2315532439944752," "," "," "," "," "," "]
[428,102.47999999999999,14.684165523756937,3.2414052211503868," "," "," "," "," "," "]
[429,102.72,14.711761361719404,3.2514464653038977," "," "," "," "," "," "]
[430,102.96,14.736184504145871,3.2616613664878646," "," "," "," "," "," "]
[431,103.2,14.757366199726842,3.2720337320700921," "," "," "," "," "," "]
[432,103.44,14.775244767603779,3.2825468099707296," "," "," "," "," "," "]
[433,103.67999999999999,14.789765930747029,3.2931833150769299," "," "," "," "," "," "]
[434,103.92,14.800883123240981,3.3039254588768396," "," "," "," "," "," "]
[435,104.16,14.808557768646056,3.3147549823094162," "," "," "," "," "," "]
[436,104.39999999999999,14.812759526761914,3.3256531917994465," "," "," "," "," "," "]
[437,104.64,14.813466506307163,3.336600998418803," "," "," "," "," "," "]
[438,104.88,14.810665441256909,3.3475789600856753," "," "," "," "," "," "]
[439,105.11999999999999,14.804351828838902,3.3585673266836364," "," "," "," "," "," "]
[440,105.36,14.794530027479601,3.3695460879522807," "," "," "," "," "," "]
[441,105.6,14.781213313309951,3.3804950239712341," "," "," "," "," "," "]
[442,105.83999999999999,14.764423894183793,3.3913937580299915," "," "," "," "," "," "]
[443,106.08,14.744192880525151,3.4022218116477063," "," "," "," "," "," "]
[444,106.32,14.720560212699706,3.4129586614801899," "," "," "," "," "," "]
[445,106.56,14.693574544995421,3.4235837978264052," "," "," "," "," "," "]
[446,106.8,14.663293086692274,3.4340767844240605," "," "," "," "," "," "]
[447,107.03999999999999,14.629781401095606,3.4444173192039358," "," "," "," "," "," "]
[448,107.28,14.593113163796192,3.4545852956556753," "," "," "," "," "," "]
[449,107.52,14.553369881797005,3.4645608644442443," "," "," "," "," "," "]
[450,107.75999999999999,14.510640575506208,3.4743244949063987," "," "," "," "," "," "]
[451,108,14.465021425932939,3.4838570360505257," "," "," "," "," "," "]
[452,108.24,14.416615389731923,3.4931397766812782," "," "," "," "," "," "]
[453,108.47999999999999,14.365531785020496,3.502154504272609," "," "," "," "," "," "]
[454,108.72,14.311885851133177,3.510883562219155," "," "," "," "," "," "]
[455,108.96,14.255798285681449,3.5193099051063723," "," "," "," "," "," "]
[456,109.2,14.197394762447157,3.5274171516542689," "," "," "," "," "," "]
[457,109.44,14.136805433755216,3.5351896350078253," "," "," "," "," "," "]
[458,109.67999999999999,14.074164421044152,3.5426124500690075," "," "," "," "," "," "]
[459,109.92,14.009609297381148,3.549671497590337," "," "," "," "," "," "]
[460,110.16,13.943280565652264,3.5563535247779301," "," "," "," "," "," "]
[461,110.39999999999999,13.875321136099815,3.5626461621823524," "," "," "," "," "," "]
[462,110.64,13.805875806779429,3.5685379566881168," "," "," "," "," "," "]
[463,110.88,13.735090750371825,3.574018400446703," "," "," "," "," "," "]
[464,111.11999999999999,13.663113010612058,3.5790779556331178," "," "," "," "," "," "]
[465,111.36,13.590090011395651,3.5837080749417534," "," "," "," "," "," "]
[466,111.6,13.516169081390677,3.5879012177731493," "," "," "," "," "," "]
[467,111.83999999999999,13.441496996731964,3.5916508620987342," "," "," "," "," "," "]
[468,112.08,13.366219544102616,3.5949515120252871," "," "," "," "," "," "]
[469,112.32,13.290481106223714,3.5977987011142458," "," "," "," "," "," "]
[470,112.56,13.21442427147986,3.6001889915427654," "," "," "," "," "," "]
[471,112.8,13.138189469110808,3.6021199692231995," "," "," "," "," "," "]
[472,113.03999999999999,13.061914631101942,3.6035902350251683," "," "," "," "," "," "]
[473,113.28,12.985734881612926,3.6045993922693316," "," "," "," "," "," "]
[474,113.52,12.909782254498152,3.6051480306842061," "," "," "," "," "," "]
[475,113.75999999999999,12.834185439197972,3.6052377070366997," "," "," "," "," "," "]
[476,114,12.759069555019,3.6048709226634132," "," "," "," "," "," "]
[477,114.24,12.684555953577526,3.6040510981431031," "," "," "," "," "," "]
[478,114.47999999999999,12.6107620489543,3.6027825453610536," "," "," "," "," "," "]
[479,114.72,12.537801174903143,3.6010704372234885," "," "," "," "," "," "]
[480,114.96,12.465782468271238,3.5989207752846784," "," "," "," "," "," "]
[481,115.19999999999999,12.394810777626157,3.5963403555511748," "," "," "," "," "," "]
[482,115.44,12.324986595944015,3.593336732726812," "," "," "," "," "," "]
[483,115.67999999999999,12.25640601609463,3.5899181831589058," "," "," "," "," "," "]
[484,115.92,12.189160707762612,3.5860936667406942," "," "," "," "," "," "]
[485,116.16,12.123337914367447,3.5818727880176824," "," "," "," "," "," "]
[486,116.39999999999999,12.059020468489775,3.577265756736439," "," "," "," "," "," "]
[487,116.64,11.996286824274089,3.572283348063749," "," "," "," "," "," "]
[488,116.88,11.935211105258741,3.5669368626921152," "," "," "," "," "," "]
[489,117.11999999999999,11.875863166080933,3.5612380870346212," "," "," "," "," "," "]
[490,117.36,11.818308666515762,3.5551992536983881," "," "," "," "," "," "]
[491,117.6,11.762609156332926,3.5488330024114414," "," "," "," "," "," "]
[492,117.83999999999999,11.708822169490642,3.5421523415630061," "," "," "," "," "," "]
[493,118.08,11.657001326232187,3.5351706105022047," "," "," "," "," "," "]
[494,118.32,11.60719644170476,3.5279014427250757," "," "," "," "," "," "]
[495,118.56,11.559453639781406,3.5203587300648604," "," "," "," "," "," "]
[496,118.8,11.513815470833435,3.5125565879858027," "," "," "," "," "," "]
[497,119.03999999999999,11.470321032271467,3.504509322066371," "," "," "," "," "," "]
[498,119.28,11.429006090746993,3.4962313957439655," "," "," "," "," "," "]
[499,119.52,11.389903204981911,3.487737399379883," "," "," "," "," "," "]
[500,119.75999999999999,11.353041848269891,3.4790420206906734," "," "," "," "," "," "]
[501,120,11.318448529769832,3.4701600165800701," "," "," "," "," "," "]
[" "," "," "," "," "," "," "," "," "," "]
[" "," "," "," "," "," "," "," "," "," "]
[" "," "," "," "," "," "," "," "," "," "]
[" "," "," "," "," "," "," "," "," "," "]
[" "," "," "," "," "," "," "," "," "," "]
[" "," "," "," "," "," "," "," "," "," "]
[" "," "," "," "," "," "," "," "," "," "]
[" "," "," "," "," "," "," "," "," "," "]
[" "," "," "," "," "," "," "," "," "," "]
[" "," "," "," "," "," "," "," "," "," "]
[" "," "," "," "," "," "," "," "," "," "]
[" "," "," "," "," "," "," "," "," "," "]
[" "," "," "," "," "," "," "," "," "," "]
[" "," "," "," "," "," "," "," "," "," "]
[" "," "," "," "," "," "," "," "," "," "]
[" "," "," "," "," "," "," "," "," "," "]
[" "," "," "," "," "," "," "," "," "," "]
[" "," "," "," "," "," "," "," "," "," "]
[" "," "," "," "," "," "," "," "," "," "]
[" "," "," "," "," "," "," "," "," "," "]
[" "," "," "," "," "," "," "," "," "," "]
[" "," "," "," "," "," "," "," "," "," "]
[" "," "," "," "," "," "," "," "," "," "]
[" "," "," "," "," "," "," "," "," "," "]
[" "," "," "," "," "," "," "," "," "," "]
[" "," "," "," "," "," "," "," "," "," "]
[" "," "," "," "," "," "," "," "," "," "]
[" "," "," "," "," "," "," "," "," "," "]
[" "," "," "," "," "," "," "," "," "," "]
[" "," "," "," "," "," "," "," "," "," "]
[" "," "," "," "," "," "," "," "," "," "]
[" "," "," "," "," "," "," "," "," "," "]
[" "," "," "," "," "," "," "," "," "," "]
[" "," "," "," "," "," "," "," "," "," "]
[" "," "," "," "," "," "," "," "," "," "]
[" "," "," "," "," "," "," "," "," "," "]
[" "," "," "," "," "," "," "," "," "," "]
[" "," "," "," "," "," "," "," "," "," "]
[" "," "," "," "," "," "," "," "," "," "]
[" "," "," "," "," "," "," "," "," "," "]
[" "," "," "," "," "," "," "," "," "," "]
[" "," "," "," "," "," "," "," "," "," "]
[" "," "," "," "," "," "," "," "," "," "]
[" "," "," "," "," "," "," "," "," "," "]
[" "," "," "," "," "," "," "," "," "," "]
[" "," "," "," "," "," "," "," "," "," "]
[" "," "," "," "," "," "," "," "," "," "]
[" "," "," "," "," "," "," "," "," "," "]
[" "," "," "," "," "," "," "," "," "," "]
[" "," "," "," "," "," "," "," "," "," "]
[" "," "," "," "," "," "," "," "," "," "]
[" "," "," "," "," "," "," "," "," "," "]
[" "," "," "," "," "," "," "," "," "," "]
[" "," "," "," "," "," "," "," "," "," "]
[" "," "," "," "," "," "," "," "," "," "]
[" "," "," "," "," "," "," "," "," "," "]
[" "," "," "," "," "," "," "," "," "," "]
[" "," "," "," "," "," "," "," "," "," "]
[" "," "," "," "," "," "," "," "," "," "]
[" "," "," "," "," "," "," "," "," "," "]
[" "," "," "," "," "," "," "," "," "," "]
[" "," "," "," "," "," "," "," "," "," "]
[" "," "," "," "," "," "," "," "," "," "]
[" "," "," "," "," "," "," "," "," "," "]
[" "," "," "," "," "," "," "," "," "," "]
[" "," "," "," "," "," "," "," "," "," "]
[" "," "," "," "," "," "," "," "," "," "]
[" "," "," "," "," "," "," "," "," "," "]
[" "," "," "," "," "," "," "," "," "," "]
[" "," "," "," "," "," "," "," "," "," "]
[" "," "," "," "," "," "," "," "," "," "]
[" "," "," "," "," "," "," "," "," "," "]
[" "," "," "," "," "," "," "," "," "," "]
[" "," "," "," "," "," "," "," "," "," "]
[" "," "," "," "," "," "," "," "," "," "]
[" "," "," "," "," "," "," "," "," "," "]
[" "," "," "," "," "," "," "," "," "," "]
[" "," "," "," "," "," "," "," "," "," "]
[" "," "," "," "," "," "," "," "," "," "]
[" "," "," "," "," "," "," "," "," "," "]
[" "," "," "," "," "," "," "," "," "," "]
[" "," "," "," "," "," "," "," "," "," "]
[" "," "," "," "," "," "," "," "," "," "]
[" "," "," "," "," "," "," "," "," "," "]
[" "," "," "," "," "," "," "," "," "," "]
[" "," "," "," "," "," "," "," "," "," "]
[" "," "," "," "," "," "," "," "," "," "]
[" "," "," "," "," "," "," "," "," "," "]
[" "," "," "," "," "," "," "," "," "," "]
[" "," "," "," "," "," "," "," "," "," "]
[" "," "," "," "," "," "," "," "," "," "]
[" "," "," "," "," "," "," "," "," "," "]
[" "," "," "," "," "," "," "," "," "," "]
[" "," "," "," "," "," "," "," "," "," "]
[" "," "," "," "," "," "," "," "," "," "]
[" "," "," "," "," "," "," "," "," "," "]
[" "," "," "," "," "," "," "," "," "," "]
[" "," "," "," "," "," "," "," "," "," "]
[" "," "," "," "," "," "," "," "," "," "]
[" "," "," "," "," "," "," "," "," "," "]
[" "," "," "," "," "," "," "," "," "," "]
[" "," "," "," "," "," "," "," "," "," "]
[" "," "," "," "," "," "," "," "," "," "]
[" "," "," "," "," "," "," "," "," "," "]
[" "," "," "," "," "," "," "," "," "," "]
[" "," "," "," "," "," "," "," "," "," "]
[" "," "," "," "," "," "," "," "," "," "]
[" "," "," "," "," "," "," "," "," "," "]
[" "," "," "," "," "," "," "," "," "," "]
[" "," "," "," "," "," "," "," "," "," "]
[" "," "," "," "," "," "," "," "," "," "]
[" "," "," "," "," "," "," "," "," "," "]
[" "," "," "," "," "," "," "," "," "," "]
[" "," "," "," "," "," "," "," "," "," "]
[" "," "," "," "," "," "," "," "," "," "]
[" "," "," "," "," "," "," "," "," "," "]
[" "," "," "," "," "," "," "," "," "," "]
[" "," "," "," "," "," "," "," "," "," "]
[" "," "," "," "," "," "," "," "," "," "]
[" "," "," "," "," "," "," "," "," "," "]
[" "," "," "," "," "," "," "," "," "," "]
[" "," "," "," "," "," "," "," "," "," "]
[" "," "," "," "," "," "," "," "," "," "]
[" "," "," "," "," "," "," "," "," "," "]
[" "," "," "," "," "," "," "," "," "," "]
[" "," "," "," "," "," "," "," "," "," "]
[" "," "," "," "," "," "," "," "," "," "]
[" "," "," "," "," "," "," "," "," "," "]
[" "," "," "," "," "," "," "," "," "," "]
[" "," "," "," "," "," "," "," "," "," "]
[" "," "," "," "," "," "," "," "," "," "]
[" "," "," "," "," "," "," "," "," "," "]
[" "," "," "," "," "," "," "," "," "," "]
[" "," "," "," "," "," "," "," "," "," "]
[" "," "," "," "," "," "," "," "," "," "]
[" "," "," "," "," "," "," "," "," "," "]
[" "," "," "," "," "," "," "," "," "," "]
[" "," "," "," "," "," "," "," "," "," "]
[" "," "," "," "," "," "," "," "," "," "]
[" "," "," "," "," "," "," "," "," "," "]
[" "," "," "," "," "," "," "," "," "," "]
[" "," "," "," "," "," "," "," "," "," "]
[" "," "," "," "," "," "," "," "," "," "]
[" "," "," "," "," "," "," "," "," "," "]
[" "," "," "," "," "," "," "," "," "," "]
[" "," "," "," "," "," "," "," "," "," "]
[" "," "," "," "," "," "," "," "," "," "]
[" "," "," "," "," "," "," "," "," "," "]
[" "," "," "," "," "," "," "," "," "," "]
[" "," "," "," "," "," "," "," "," "," "]
[" "," "," "," "," "," "," "," "," "," "]
[" "," "," "," "," "," "," "," "," "," "]
[" "," "," "," "," "," "," "," "," "," "]
[" "," "," "," "," "," "," "," "," "," "]
[" "," "," "," "," "," "," "," "," "," "]
[" "," "," "," "," "," "," "," "," "," "]
[" "," "," "," "," "," "," "," "," "," "]
[" "," "," "," "," "," "," "," "," "," "]
[" "," "," "," "," "," "," "," "," "," "]
[" "," "," "," "," "," "," "," "," "," "]
[" "," "," "," "," "," "," "," "," "," "]
[" "," "," "," "," "," "," "," "," "," "]
[" "," "," "," "," "," "," "," "," "," "]
[" "," "," "," "," "," "," "," "," "," "]
[" "," "," "," "," "," "," "," "," "," "]
[" "," "," "," "," "," "," "," "," "," "]
[" "," "," "," "," "," "," "," "," "," "]
[" "," "," "," "," "," "," "," "," "," "]
[" "," "," "," "," "," "," "," "," "," "]
[" "," "," "," "," "," "," "," "," "," "]
[" "," "," "," "," "," "," "," "," "," "]
[" "," "," "," "," "," "," "," "," "," "]
[" "," "," "," "," "," "," "," "," "," "]
[" "," "," "," "," "," "," "," "," "," "]
[" "," "," "," "," "," "," "," "," "," "]
[" "," "," "," "," "," "," "," "," "," "]
[" "," "," "," "," "," "," "," "," "," "]
[" "," "," "," "," "," "," "," "," "," "]
[" "," "," "," "," "," "," "," "," "," "]
[" "," "," "," "," "," "," "," "," "," "]
[" "," "," "," "," "," "," "," "," "," "]
[" "," "," "," "," "," "," "," "," "," "]
[" "," "," "," "," "," "," "," "," "," "]
[" "," "," "," "," "," "," "," "," "," "]
[" "," "," "," "," "," "," "," "," "," "]
[" "," "," "," "," "," "," "," "," "," "]
[" "," "," "," "," "," "," "," "," "," "]
[" "," "," "," "," "," "," "," "," "," "]
[" "," "," "," "," "," "," "," "," "," "]
[" "," "," "," "," "," "," "," "," "," "]
[" "," "," "," "," "," "," "," "," "," "]
[" "," "," "," "," "," "," "," "," "," "]
[" "," "," "," "," "," "," "," "," "," "]
[" "," "," "," "," "," "," "," "," "," "]
[" "," "," "," "," "," "," "," "," "," "]
[" "," "," "," "," "," "," "," "," "," "]
[" "," "," "," "," "," "," "," "," "," "]
[" "," "," "," "," "," "," "," "," "," "]
[" "," "," "," "," "," "," "," "," "," "]
[" "," "," "," "," "," "," "," "," "," "]
[" "," "," "," "," "," "," "," "," "," "]
[" "," "," "," "," "," "," "," "," "," "]
[" "," "," "," "," "," "," "," "," "," "]
[" "," "," "," "," "," "," "," "," "," "]
[" "," "," "," "," "," "," "," "," "," "]
[" "," "," "," "," "," "," "," "," "," "]
[" "," "," "," "," "," "," "," "," "," "]
[" "," "," "," "," "," "," "," "," "," "]
[" "," "," "," "," "," "," "," "," "," "]
[" "," "," "," "," "," "," "," "," "," "]
[" "," "," "," "," "," "," "," "," "," "]
[" "," "," "," "," "," "," "," "," "," "]
[" "," "," "," "," "," "," "," "," "," "]
[" "," "," "," "," "," "," "," "," "," "]
[" "," "," "," "," "," "," "," "," "," "]
[" "," "," "," "," "," "," "," "," "," "]
[" "," "," "," "," "," "," "," "," "," "]
[" "," "," "," "," "," "," "," "," "," "]
[" "," "," "," "," "," "," "," "," "," "]
[" "," "," "," "," "," "," "," "," "," "]
[" "," "," "," "," "," "," "," "," "," "]
[" "," "," "," "," "," "," "," "," "," "]
[" "," "," "," "," "," "," "," "," "," "]
[" "," "," "," "," "," "," "," "," "," "]
[" "," "," "," "," "," "," "," "," "," "]
[" "," "," "," "," "," "," "," "," "," "]
[" "," "," "," "," "," "," "," "," "," "]
[" "," "," "," "," "," "," "," "," "," "]
[" "," "," "," "," "," "," "," "," "," "]
[" "," "," "," "," "," "," "," "," "," "]
[" "," "," "," "," "," "," "," "," "," "]
[" "," "," "," "," "," "," "," "," "," "]
[" "," "," "," "," "," "," "," "," "," "]
[" "," "," "," "," "," "," "," "," "," "]
[" "," "," "," "," "," "," "," "," "," "]
[" "," "," "," "," "," "," "," "," "," "]
[" "," "," "," "," "," "," "," "," "," "]
[" "," "," "," "," "," "," "," "," "," "]
[" "," "," "," "," "," "," "," "," "," "]
[" "," "," "," "," "," "," "," "," "," "]
[" "," "," "," "," "," "," "," "," "," "]
[" "," "," "," "," "," "," "," "," "," "]
[" "," "," "," "," "," "," "," "," "," "]
[" "," "," "," "," "," "," "," "," "," "]
[" "," "," "," "," "," "," "," "," "," "]
[" "," "," "," "," "," "," "," "," "," "]
[" "," "," "," "," "," "," "," "," "," "]
[" "," "," "," "," "," "," "," "," "," "]
[" "," "," "," "," "," "," "," "," "," "]
[" "," "," "," "," "," "," "," "," "," "]
[" "," "," "," "," "," "," "," "," "," "]
[" "," "," "," "," "," "," "," "," "," "]
[" "," "," "," "," "," "," "," "," "," "]
[" "," "," "," "," "," "," "," "," "," "]
[" "," "," "," "," "," "," "," "," "," "]
[" "," "," "," "," "," "," "," "," "," "]
[" "," "," "," "," "," "," "," "," "," "]
[" "," "," "," "," "," "," "," "," "," "]
[" "," "," "," "," "," "," "," "," "," "]
[" "," "," "," "," "," "," "," "," "," "]
[" "," "," "," "," "," "," "," "," "," "]
[" "," "," "," "," "," "," "," "," "," "]
[" "," "," "," "," "," "," "," "," "," "]
[" "," "," "," "," "," "," "," "," "," "]
[" "," "," "," "," "," "," "," "," "," "]
[" "," "," "," "," "," "," "," "," "," "]
[" "," "," "," "," "," "," "," "," "," "]
[" "," "," "," "," "," "," "," "," "," "]
[" "," "," "," "," "," "," "," "," "," "]
[" "," "," "," "," "," "," "," "," "," "]
[" "," "," "," "," "," "," "," "," "," "]
[" "," "," "," "," "," "," "," "," "," "]
[" "," "," "," "," "," "," "," "," "," "]
[" "," "," "," "," "," "," "," "," "," "]
[" "," "," "," "," "," "," "," "," "," "]
[" "," "," "," "," "," "," "," "," "," "]
[" "," "," "," "," "," "," "," "," "," "]
[" "," "," "," "," "," "," "," "," "," "]
[" "," "," "," "," "," "," "," "," "," "]
[" "," "," "," "," "," "," "," "," "," "]
[" "," "," "," "," "," "," "," "," "," "]
[" "," "," "," "," "," "," "," "," "," "]
[" "," "," "," "," "," "," "," "," "," "]
[" "," "," "," "," "," "," "," "," "," "]
[" "," "," "," "," "," "," "," "," "," "]
[" "," "," "," "," "," "," "," "," "," "]
[" "," "," "," "," "," "," "," "," "," "]
[" "," "," "," "," "," "," "," "," "," "]
[" "," "," "," "," "," "," "," "," "," "]
[" "," "," "," "," "," "," "," "," "," "]
[" "," "," "," "," "," "," "," "," "," "]
[" "," "," "," "," "," "," "," "," "," "]
[" "," "," "," "," "," "," "," "," "," "]
[" "," "," "," "," "," "," "," "," "," "]
[" "," "," "," "," "," "," "," "," "," "]
[" "," "," "," "," "," "," "," "," "," "]
[" "," "," "," "," "," "," "," "," "," "]
[" "," "," "," "," "," "," "," "," "," "]
[" "," "," "," "," "," "," "," "," "," "]
[" "," "," "," "," "," "," "," "," "," "]
[" "," "," "," "," "," "," "," "," "," "]
[" "," "," "," "," "," "," "," "," "," "]
[" "," "," "," "," "," "," "," "," "," "]
[" "," "," "," "," "," "," "," "," "," "]
[" "," "," "," "," "," "," "," "," "," "]
[" "," "," "," "," "," "," "," "," "," "]
[" "," "," "," "," "," "," "," "," "," "]
[" "," "," "," "," "," "," "," "," "," "]
[" "," "," "," "," "," "," "," "," "," "]
[" "," "," "," "," "," "," "," "," "," "]
[" "," "," "," "," "," "," "," "," "," "]
[" "," "," "," "," "," "," "," "," "," "]
[" "," "," "," "," "," "," "," "," "," "]
[" "," "," "," "," "," "," "," "," "," "]
[" "," "," "," "," "," "," "," "," "," "]
[" "," "," "," "," "," "," "," "," "," "]
[" "," "," "," "," "," "," "," "," "," "]
[" "," "," "," "," "," "," "," "," "," "]
[" "," "," "," "," "," "," "," "," "," "]
[" "," "," "," "," "," "," "," "," "," "]
[" "," "," "," "," "," "," "," "," "," "]
[" "," "," "," "," "," "," "," "," "," "]
[" "," "," "," "," "," "," "," "," "," "]
[" "," "," "," "," "," "," "," "," "," "]
[" "," "," "," "," "," "," "," "," "," "]
[" "," "," "," "," "," "," "," "," "," "]
[" "," "," "," "," "," "," "," "," "," "]
[" "," "," "," "," "," "," "," "," "," "]
[" "," "," "," "," "," "," "," "," "," "]
[" "," "," "," "," "," "," "," "," "," "]
[" "," "," "," "," "," "," "," "," "," "]
[" "," "," "," "," "," "," "," "," "," "]
[" "," "," "," "," "," "," "," "," "," "]
[" "," "," "," "," "," "," "," "," "," "]
[" "," "," "," "," "," "," "," "," "," "]
[" "," "," "," "," "," "," "," "," "," "]
[" "," "," "," "," "," "," "," "," "," "]
[" "," "," "," "," "," "," "," "," "," "]
[" "," "," "," "," "," "," "," "," "," "]
[" "," "," "," "," "," "," "," "," "," "]
[" "," "," "," "," "," "," "," "," "," "]
[" "," "," "," "," "," "," "," "," "," "]
[" "," "," "," "," "," "," "," "," "," "]
[" "," "," "," "," "," "," "," "," "," "]
[" "," "," "," "," "," "," "," "," "," "]
[" "," "," "," "," "," "," "," "," "," "]
[" "," "," "," "," "," "," "," "," "," "]
[" "," "," "," "," "," "," "," "," "," "]
[" "," "," "," "," "," "," "," "," "," "]
[" "," "," "," "," "," "," "," "," "," "]
[" "," "," "," "," "," "," "," "," "," "]
[" "," "," "," "," "," "," "," "," "," "]
[" "," "," "," "," "," "," "," "," "," "]
[" "," "," "," "," "," "," "," "," "," "]
[" "," "," "," "," "," "," "," "," "," "]
[" "," "," "," "," "," "," "," "," "," "]
[" "," "," "," "," "," "," "," "," "," "]
[" "," "," "," "," "," "," "," "," "," "]
[" "," "," "," "," "," "," "," "," "," "]
[" "," "," "," "," "," "," "," "," "," "]
[" "," "," "," "," "," "," "," "," "," "]
[" "," "," "," "," "," "," "," "," "," "]
[" "," "," "," "," "," "," "," "," "," "]
[" "," "," "," "," "," "," "," "," "," "]
[" "," "," "," "," "," "," "," "," "," "]
[" "," "," "," "," "," "," "," "," "," "]
[" "," "," "," "," "," "," "," "," "," "]
[" "," "," "," "," "," "," "," "," "," "]
[" "," "," "," "," "," "," "," "," "," "]
[" "," "," "," "," "," "," "," "," "," "]
[" "," "," "," "," "," "," "," "," "," "]
[" "," "," "," "," "," "," "," "," "," "]
[" "," "," "," "," "," "," "," "," "," "]
[" "," "," "," "," "," "," "," "," "," "]
[" "," "," "," "," "," "," "," "," "," "]
[" "," "," "," "," "," "," "," "," "," "]
[" "," "," "," "," "," "," "," "," "," "]
[" "," "," "," "," "," "," "," "," "," "]
[" "," "," "," "," "," "," "," "," "," "]
[" "," "," "," "," "," "," "," "," "," "]
[" "," "," "," "," "," "," "," "," "," "]
[" "," "," "," "," "," "," "," "," "," "]
[" "," "," "," "," "," "," "," "," "," "]
[" "," "," "," "," "," "," "," "," "," "]
[" "," "," "," "," "," "," "," "," "," "]
[" "," "," "," "," "," "," "," "," "," "]
[" "," "," "," "," "," "," "," "," "," "]
[" "," "," "," "," "," "," "," "," "," "]
[" "," "," "," "," "," "," "," "," "," "]
[" "," "," "," "," "," "," "," "," "," "]
[" "," "," "," "," "," "," "," "," "," "]
[" "," "," "," "," "," "," "," "," "," "]
[" "," "," "," "," "," "," "," "," "," "]
[" "," "," "," "," "," "," "," "," "," "]
[" "," "," "," "," "," "," "," "," "," "]
[" "," "," "," "," "," "," "," "," "," "]
[" "," "," "," "," "," "," "," "," "," "]
[" "," "," "," "," "," "," "," "," "," "]
[" "," "," "," "," "," "," "," "," "," "]
[" "," "," "," "," "," "," "," "," "," "]
[" "," "," "," "," "," "," "," "," "," "]
[" "," "," "," "," "," "," "," "," "," "]
[" "," "," "," "," "," "," "," "," "," "]
[" "," "," "," "," "," "," "," "," "," "]
[" "," "," "," "," "," "," "," "," "," "]
[" "," "," "," "," "," "," "," "," "," "]
[" "," "," "," "," "," "," "," "," "," "]
[" "," "," "," "," "," "," "," "," "," "]
[" "," "," "," "," "," "," "," "," "," "]
[" "," "," "," "," "," "," "," "," "," "]
[" "," "," "," "," "," "," "," "," "," "]
[" "," "," "," "," "," "," "," "," "," "]
[" "," "," "," "," "," "," "," "," "," "]
[" "," "," "," "," "," "," "," "," "," "]
[" "," "," "," "," "," "," "," "," "," "]
[" "," "," "," "," "," "," "," "," "," "]
[" "," "," "," "," "," "," "," "," "," "]
[" "," "," "," "," "," "," "," "," "," "]
[" "," "," "," "," "," "," "," "," "," "]
[" "," "," "," "," "," "," "," "," "," "]
[" "," "," "," "," "," "," "," "," "," "]
[" "," "," "," "," "," "," "," "," "," "]
[" "," "," "," "," "," "," "," "," "," "]
[" "," "," "," "," "," "," "," "," "," "]
[" "," "," "," "," "," "," "," "," "," "]
[" "," "," "," "," "," "," "," "," "," "]
[" "," "," "," "," "," "," "," "," "," "]
[" "," "," "," "," "," "," "," "," "," "]
[" "," "," "," "," "," "," "," "," "," "]
[" "," "," "," "," "," "," "," "," "," "]
[" "," "," "," "," "," "," "," "," "," "]
[" "," "," "," "," "," "," "," "," "," "]
[" "," "," "," "," "," "," "," "," "," "]
[" "," "," "," "," "," "," "," "," "," "]
[" "," "," "," "," "," "," "," "," "," "]
[" "," "," "," "," "," "," "," "," "," "]
[" "," "," "," "," "," "," "," "," "," "]
[" "," "," "," "," "," "," "," "," "," "]
[" "," "," "," "," "," "," "," "," "," "]
[" "," "," "," "," "," "," "," "," "," "]
[" "," "," "," "," "," "," "," "," "," "]
[" "," "," "," "," "," "," "," "," "," "]
[" "," "," "," "," "," "," "," "," "," "]
[" "," "," "," "," "," "," "," "," "," "]
[" "," "," "," "," "," "," "," "," "," "]
[" "," "," "," "," "," "," "," "," "," "]
[" "," "," "," "," "," "," "," "," "," "]
[" "," "," "," "," "," "," "," "," "," "]
[" "," "," "," "," "," "," "," "," "," "]
[" "," "," "," "," "," "," "," "," "," "]
[" "," "," "," "," "," "," "," "," "," "]
[" "," "," "," "," "," "," "," "," "," "]
[" "," "," "," "," "," "," "," "," "," "]
[" "," "," "," "," "," "," "," "," "," "]
[" "," "," "," "," "," "," "," "," "," "]
[" "," "," "," "," "," "," "," "," "," "]
[" "," "," "," "," "," "," "," "," "," "]
[" "," "," "," "," "," "," "," "," "," "]
[" "," "," "," "," "," "," "," "," "," "]
[" "," "," "," "," "," "," "," "," "," "]
[" "," "," "," "," "," "," "," "," "," "]
[" "," "," "," "," "," "," "," "," "," "]
[" "," "," "," "," "," "," "," "," "," "]
[" "," "," "," "," "," "," "," "," "," "]
[" "," "," "," "," "," "," "," "," "," "]
[" "," "," "," "," "," "," "," "," "," "]
[" "," "," "," "," "," "," "," "," "," "]
[" "," "," "," "," "," "," "," "," "," "]
[" "," "," "," "," "," "," "," "," "," "]
[" "," "," "," "," "," "," "," "," "," "]
[" "," "," "," "," "," "," "," "," "," "]
[" "," "," "," "," "," "," "," "," "," "]
[" "," "," "," "," "," "," "," "," "," "]
[" "," "," "," "," "," "," "," "," "," "]
[" "," "," "," "," "," "," "," "," "," "]
[" "," "," "," "," "," "," "," "," "," "]
[" "," "," "," "," "," "," "," "," "," "]
[" "," "," "," "," "," "," "," "," "," "]
[" "," "," "," "," "," "," "," "," "," "]
[" "," "," "," "," "," "," "," "," "," "]
[" "," "," "," "," "," "," "," "," "," "]
[" "," "," "," "," "," "," "," "," "," "]
[" "," "," "," "," "," "," "," "," "," "]
[" "," "," "," "," "," "," "," "," "," "]
[" "," "," "," "," "," "," "," "," "," "]
[" "," "," "," "," "," "," "," "," "," "]
[" "," "," "," "," "," "," "," "," "," "]
[" "," "," "," "," "," "," "," "," "," "]
[" "," "," "," "," "," "," "," "," "," "]
[" "," "," "," "," "," "," "," "," "," "]
[" "," "," "," "," "," "," "," "," "," "]
[" "," "," "," "," "," "," "," "," "," "]
[" "," "," "," "," "," "," "," "," "," "]
[" "," "," "," "," "," "," "," "," "," "]
[" "," "," "," "," "," "," "," "," "," "]
[" "," "," "," "," "," "," "," "," "," "]
[" "," "," "," "," "," "," "," "," "," "]
[" "," "," "," "," "," "," "," "," "," "]
[" "," "," "," "," "," "," "," "," "," "]
[" "," "," "," "," "," "," "," "," "," "]
[" "," "," "," "," "," "," "," "," "," "]
[" "," "," "," "," "," "," "," "," "," "]
[" "," "," "," "," "," "," "," "," "," "]
[" "," "," "," "," "," "," "," "," "," "]
[" "," "," "," "," "," "," "," "," "," "]
[" "," "," "," "," "," "," "," "," "," "]
[" "," "," "," "," "," "," "," "," "," "]
[" "," "," "," "," "," "," "," "," "," "]
[" "," "," "," "," "," "," "," "," "," "]
[" "," "," "," "," "," "," "," "," "," "]
[" "," "," "," "," "," "," "," "," "," "]
[" "," "," "," "," "," "," "," "," "," "]
[" "," "," "," "," "," "," "," "," "," "]
[" "," "," "," "," "," "," "," "," "," "]
[" "," "," "," "," "," "," "," "," "," "]
[" "," "," "," "," "," "," "," "," "," "]
[" "," "," "," "," "," "," "," "," "," "]
[" "," "," "," "," "," "," "," "," "," "]
[" "," "," "," "," "," "," "," "," "," "]
[" "," "," "," "," "," "," "," "," "," "]
[" "," "," "," "," "," "," "," "," "," "]
[" "," "," "," "," "," "," "," "," "," "]
[" "," "," "," "," "," "," "," "," "," "]
[" "," "," "," "," "," "," "," "," "," "]
[" "," "," "," "," "," "," "," "," "," "]
[" "," "," "," "," "," "," "," "," "," "]
[" "," "," "," "," "," "," "," "," "," "]
[" "," "," "," "," "," "," "," "," "," "]
[" "," "," "," "," "," "," "," "," "," "]
[" "," "," "," "," "," "," "," "," "," "]
[" "," "," "," "," "," "," "," "," "," "]
[" "," "," "," "," "," "," "," "," "," "]
[" "," "," "," "," "," "," "," "," "," "]
[" "," "," "," "," "," "," "," "," "," "]
[" "," "," "," "," "," "," "," "," "," "]
[" "," "," "," "," "," "," "," "," "," "]
[" "," "," "," "," "," "," "," "," "," "]
[" "," "," "," "," "," "," "," "," "," "]
[" "," "," "," "," "," "," "," "," "," "]
[" "," "," "," "," "," "," "," "," "," "]
[" "," "," "," "," "," "," "," "," "," "]
[" "," "," "," "," "," "," "," "," "," "]
[" "," "," "," "," "," "," "," "," "," "]
[" "," "," "," "," "," "," "," "," "," "]
[" "," "," "," "," "," "," "," "," "," "]
[" "," "," "," "," "," "," "," "," "," "]
[" "," "," "," "," "," "," "," "," "," "]
[" "," "," "," "," "," "," "," "," "," "]
[" "," "," "," "," "," "," "," "," "," "]
[" "," "," "," "," "," "," "," "," "," "]
[" "," "," "," "," "," "," "," "," "," "]
[" "," "," "," "," "," "," "," "," "," "]
[" "," "," "," "," "," "," "," "," "," "]
[" "," "," "," "," "," "," "," "," "," "]
[" "," "," "," "," "," "," "," "," "," "]
[" "," "," "," "," "," "," "," "," "," "]
[" "," "," "," "," "," "," "," "," "," "]
[" "," "," "," "," "," "," "," "," "," "]
[" "," "," "," "," "," "," "," "," "," "]
[" "," "," "," "," "," "," "," "," "," "]
[" "," "," "," "," "," "," "," "," "," "]
[" "," "," "," "," "," "," "," "," "," "]
[" "," "," "," "," "," "," "," "," "," "]
[" "," "," "," "," "," "," "," "," "," "]
[" "," "," "," "," "," "," "," "," "," "]
[" "," "," "," "," "," "," "," "," "," "]
[" "," "," "," "," "," "," "," "," "," "]
[" "," "," "," "," "," "," "," "," "," "]
[" "," "," "," "," "," "," "," "," "," "]
[" "," "," "," "," "," "," "," "," "," "]
[" "," "," "," "," "," "," "," "," "," "]
[" "," "," "," "," "," "," "," "," "," "]
[" "," "," "," "," "," "," "," "," "," "]
[" "," "," "," "," "," "," "," "," "," "]
[" "," "," "," "," "," "," "," "," "," "]
[" "," "," "," "," "," "," "," "," "," "]
[" "," "," "," "," "," "," "," "," "," "]
[" "," "," "," "," "," "," "," "," "," "]
[" "," "," "," "," "," "," "," "," "," "]
[" "," "," "," "," "," "," "," "," "," "]
[" "," "," "," "," "," "," "," "," "," "]
[" "," "," "," "," "," "," "," "," "," "]
[" "," "," "," "," "," "," "," "," "," "]
[" "," "," "," "," "," "," "," "," "," "]
[" "," "," "," "," "," "," "," "," "," "]
[" "," "," "," "," "," "," "," "," "," "]
[" "," "," "," "," "," "," "," "," "," "]
[" "," "," "," "," "," "," "," "," "," "]
[" "," "," "," "," "," "," "," "," "," "]

{"sheet":"LV 4","index":4,"n_rows":1100,"n_cols":15,"rows_kept":1100,"cut":false,"hidden":false,"merged":[]}
[]
[" ","MODELLO PREDATORE-PREDA DI LOTKA VOLTERRA",null,null,null,null,null,null,null,null,null,null,null,null,"partenza al punto di equilibrio"]
["neq","to","tf","y0(1)","y0(2)","costa","costb","costc","costd","costk","nstep","imod"]
[2,0,120,12.86,3.32,0.3,0.09,7.0000000000000001E-3,0.09,null,500,1]
[" "," ",100," "," "," ",null,null," ",null,100]
[null,null,null,null,null,null,null,null,null,null,null," "]
[null,null,"y2fin","y1fin",null,"xeq","yeq"]
[null,null,{"$f":"C511","v":12.930889823024996},{"$f":"D511","v":3.3250235259169738},null,{"$f":"I4/H4","v":12.857142857142856},{"$f":"F4/G4","v":3.3333333333333335}]
[]
["n","t","x","y"," ","x = numero prede ( migliaia)",null,null,null," "]
[1,0,12.86,3.32," ","y = numero predatori ( migliaia)",null,null,null," "]
[2,0.24,12.863701042992323,3.3200262604686275," "," "," "," "," "," "]
[3,0.48,12.867392985609587,3.3200731417601848," "," "," "," "," "," "]
[4,0.72,12.871070094929976,3.3201405779936848," "," "," "," "," "," "]
[5,0.96,12.87472665424184,3.320228471728262," "," "," "," "," "," "]
[6,1.2,12.87835697192002,3.3203366940690513," "," "," "," "," "," "]
[7,1.44,12.881955390305675,3.3204650848197268," "," "," "," "," "," "]
[8,1.68,12.885516294575735,3.3206134526817541," "," "," "," "," "," "]
[9,1.92,12.889034121587807,3.320781575500348," "," "," "," "," "," "]
[10,2.16,12.892503368686162,3.3209692005570721," "," "," "," "," "," "]
[11,2.4,12.895918602454245,3.3211760449089449," "," "," "," "," "," "]
[12,2.6399999999999997,12.899274467398943,3.3214017957738582," "," "," "," "," "," "]
[13,2.88,12.902565694551734,3.3216461109620425," "," "," "," "," "," "]
[14,3.12,12.905787109971717,3.3219086193532514," "," "," "," "," "," "]
[15,3.36,12.908933643135445,3.3221889214192561," "," "," "," "," "," "]
[16,3.5999999999999996,12.912000335198432,3.3224865897911839," "," "," "," "," "," "]
[17,3.84,12.914982347113211,3.3228011698711479," "," "," "," "," "," "]
[18,4.08,12.917874967588823,3.3231321804875509," "," "," "," "," "," "]
[19,4.32,12.920673620876704,3.3234791145933635," "," "," "," "," "," "]
[20,4.5599999999999996,12.923373874368036,3.323841440006611," "," "," "," "," "," "]
[21,4.8,12.925971445987756,3.3242186001922089," "," "," "," "," "," "]
[22,5.04,12.92846221137064,3.3246100150842315," "," "," "," "," "," "]
[23,5.2799999999999994,12.930842210805059,3.3250150819475999," "," "," "," "," "," "]
[24,5.52,12.933107655930321,3.3254331762781097," "," "," "," "," "," "]
[25,5.76,12.935254936173793,3.3258636527396384," "," "," "," "," "," "]
[26,6,12.937280624914374,3.3263058461372865," "," "," "," "," "," "]
[27,6.24,12.939181485359271,3.3267590724251441," "," "," "," "," "," "]
[28,6.4799999999999995,12.940954476121485,3.3272226297472809," "," "," "," "," "," ",null,null," "," "," "]
[29,6.72,12.942596756485898,3.3276957995104941," "," "," "," "," "," ",null,null," "," "," "]
[30,6.96,12.94410569135235,3.3281778474872694," "," "," "," "," "," ",null,null," "," "," "]
[31,7.1999999999999993,12.945478855844694,3.3286680249473366," "," "," "," "," "," ",null,null," "," "," "]
[32,7.4399999999999995,12.946714039575406,3.3291655698161313," "," "," "," "," "," ",null,null," "," "," "]
[33,7.68,12.947809250555947,3.3296697078584057," "," "," "," "," "," ",null,null," "," "," "]
[34,7.92,12.948762718743785,3.3301796538851618," "," "," "," "," "," ",null,null," "," "," "]
[35,8.16,12.949572899217678,3.3306946129820227," "," "," "," "," "," ",null,null," "," "," "]
[36,8.4,12.950238474973547,3.3312137817570844," "," "," "," "," "," ",null,null," "," "," "]
[37,8.64,12.950758359334076,3.3317363496062469," "," "," "," "," "," ",null,null," "," "," "]
[38,8.879999999999999,12.951131697965941,3.3322614999939577," "," "," "," "," "," ",null,null," "," "," "]
[39,9.1199999999999992,12.951357870499425,3.3327884117472562," "," "," "," "," "," ",null,null," "," "," "]
[40,9.36,12.951436491746001,3.3333162603609559," "," "," "," "," "," ",null,null," "," "," "]
[41,9.6,12.951367412510344,3.3338442193117652," "," "," "," "," "," ",null,null," "," "," "]
[42,9.84,12.951150719994114,3.3343714613790998," "," "," "," "," "," ",null,null," "," "," "]
[43,10.08,12.950786737789777,3.3348971599703177," "," "," "," "," "," ",null,null," "," "," "]
[44,10.32,12.950276025463568,3.3354204904480689," "," "," "," "," "," ",null,null," "," "," "]
[45,10.559999999999999,12.949619377727718,3.3359406314574356," "," "," "," "," "," ",null,null," "," "," "]
[46,10.799999999999999,12.9488178232029,3.3364567662505169," "," "," "," "," "," ",null,null," "," "," "]
[47,11.04,12.947872622772813,3.3369680840061009," "," "," "," "," "," ",null,null," "," "," "]
[48,11.28,12.946785267533745,3.3374737811420561," "," "," "," "," "," ",null,null," "," "," "]
[49,11.52,12.94555747634284,3.3379730626180812," "," "," "," "," "," ",null,null," "," "," "]
[50,11.76,12.944191192969738,3.3384651432264469," "," "," "," "," "," ",null,null," "," "," "]
[51,12,12.942688582857105,3.338949248868377," "," "," "," "," "," ",null,null," "," "," "]
[52,12.24,12.941052029496483,3.3394246178137368," "," "," "," "," "," ",null,null," "," "," "]
[53,12.48,12.939284130426717,3.3398905019417122," "," "," "," "," "," ",null,null," "," "," "]
[54,12.719999999999999,12.937387692863087,3.3403461679601918," "," "," "," "," "," ",null,null," "," "," "]
[55,12.959999999999999,12.935365728966028,3.3407908986016008," "," "," "," "," "," ",null,null," "," "," "]
[56,13.2,12.93322145075917,3.3412239937929762," "," "," "," "," "," ",null,null," "," "," "]
[57,13.44,12.930958264707117,3.3416447717981108," "," "," "," "," "," ",null,null," "," "," "]
[58,13.68,12.928579765964148,3.3420525703296531," "," "," "," "," "," ",null,null," "," "," "]
[59,13.92,12.926089732305687,3.3424467476290998," "," "," "," "," "," ",null,null," "," "," "]
[60,14.16,12.923492117755037,3.3428266835126865," "," "," "," "," "," ",null,null," "," "," "]
[61,14.399999999999999,12.920791045918467,3.3431917803812401," "," "," "," "," "," ",null,null," "," "," "]
[62,14.639999999999999,12.917990803042334,3.3435414641921382," "," "," "," "," "," ",null,null," "," "," "]
[63,14.879999999999999,12.915095830806415,3.3438751853915898," "," "," "," "," "," ",null,null," "," "," "]
[64,15.12,12.912110718868103,3.3441924198055384," "," "," "," "," "," ",null,null," "," "," "]
[65,15.36,12.909040197172583,3.3444926694875701," "," "," "," "," "," ",null,null," "," "," "]
[66,15.6,12.905889128044437,3.3447754635223022," "," "," "," "," "," ",null,null," "," "," "]
[67,15.84,12.902662498076507,3.3450403587828181," "," "," "," "," "," ",null,null," "," "," "]
[68,16.079999999999998,12.89936540983213,3.3452869406408157," "," "," "," "," "," ",null,null," "," "," "]
[69,16.32,12.89600307337707,3.3455148236282302," "," "," "," "," "," ",null,null," "," "," "]
[70,16.559999999999999,12.892580797657702,3.3457236520491991," "," "," "," "," "," ",null,null," "," "," "]
[71,16.8,12.889103981742139,3.3459131005413409," "," "," "," "," "," ",null,null," "," "," "]
[72,17.04,12.885578105941077,3.3460828745854281," "," "," "," "," "," ",null,null," "," "," "]
[73,17.28,12.882008722825217,3.3462327109626369," "," "," "," "," "," ",null,null," "," "," "]
[74,17.52,12.878401448156097,3.3463623781586778," "," "," "," "," "," ",null,null," "," "," "]
[75,17.759999999999998,12.874761951747161,3.3464716767142084," "," "," "," "," "," ",null,null," "," "," "]
[76,18,12.87109594827179,3.3465604395210553," "," "," "," "," "," ",null,null," "," "," "]
[77,18.239999999999998,12.867409188034925,3.3466285320638733," "," "," "," "," "," ",null,null," "," "," "]
[78,18.48,12.86370744772471,3.3466758526069857," "," "," "," "," "," ",null,null," "," "," "]
[79,18.72,12.859996521160431,3.3467023323262635," "," "," "," "," "," ",null,null," "," "," "]
[80,18.96,12.856282210052759,3.3467079353860081," "," "," "," "," "," ",null,null," "," "," "]
[81,19.2,12.85257031479205,3.3466926589609138," "," "," "," "," "," ",null,null," "," "," "]
[82,19.439999999999998,12.848866625280136,3.3466565332032925," "," "," "," "," "," ",null,null," "," "," "]
[83,19.68,12.845176911820742,3.3465996211558515," "," "," "," "," "," ",null,null," "," "," "]
[84,19.919999999999998,12.841506916083256,3.3465220186104192," "," "," "," "," "," ",null,null," "," "," "]
[85,20.16,12.837862342154244,3.3464238539131137," "," "," "," "," "," ",null,null," "," "," "]
[86,20.399999999999999,12.834248847690644,3.3463052877165507," "," "," "," "," "," ",null,null," "," "," "]
[87,20.64,12.830672035188188,3.3461665126797815," "," "," "," "," "," ",null,null," "," "," "]
[88,20.88,12.82713744337812,3.3460077531167496," "," "," "," "," "," ",null,null," "," "," "]
[89,21.119999999999997,12.823650538764824,3.345829264594137," "," "," "," "," "," ",null,null," "," "," "]
[90,21.36,12.820216707316506,3.3456313334795653," "," "," "," "," "," ",null,null," "," "," "]
[91,21.599999999999998,12.81684124632058,3.3454142764411974," "," "," "," "," "," ",null,null," "," "," "]
[92,21.84,12.813529356414897,3.3451784398998612," "," "," "," "," "," ",null,null," "," "," "]
[93,22.08,12.810286133805468,3.3449241994348982," "," "," "," "," "," ",null,null," "," "," "]
[94,22.32,12.807116562680825,3.3446519591450041," "," "," "," "," "," ",null,null," "," "," "]
[95,22.56,12.804025507832625,3.3443621509654036," "," "," "," "," "," ",null,null," "," "," "]
[96,22.8,12.801017707491622,3.3440552339427536," "," "," "," "," "," ",null,null," "," "," "]
[97,23.04,12.798097766387599,3.3437316934692416," "," "," "," "," "," ",null,null," "," "," "]
[98,23.279999999999998,12.795270149041352,3.3433920404773829," "," "," "," "," "," ",null,null," "," "," "]
[99,23.52,12.792539173296317,3.3430368105970896," "," "," "," "," "," ",null,null," "," "," "]
[100,23.759999999999998,12.789909004096916,3.3426665632766119," "," "," "," "," "," ",null,null," "," "," "]
[101,24,12.787383647520246,3.3422818808690047," "," "," "," "," "," ",null,null," "," "," "]
[102,24.24,12.784966945067197,3.3418833676858046," "," "," "," "," "," ",null,null," "," "," "]
[103,24.48,12.782662568218694,3.3414716490196406," "," "," "," "," "," ",null,null," "," "," "]
[104,24.72,12.780474013262198,3.3410473701375194," "," "," "," "," "," ",null,null," "," "," "]
[105,24.96,12.778404596393258,3.3406111952465638," "," "," "," "," "," ",null,null," "," "," "]
[106,25.2,12.776457449096396,3.3401638064339956," "," "," "," "," "," ",null,null," "," "," "]
[107,25.439999999999998,12.774635513809208,3.3397059025831708," "," "," "," "," "," ",null,null," "," "," "]
[108,25.68,12.772941539873189,3.3392381982674917," "," "," "," "," "," ",null,null," "," "," "]
[109,25.919999999999998,12.771378079774331,3.3387614226240303," "," "," "," "," "," ",null,null," "," "," "]
[110,26.16,12.769947485676234,3.3382763182086963," "," "," "," "," "," ",null,null," "," "," "]
[111,26.4,12.768651906248051,3.3377836398347966," "," "," "," "," "," ",null,null," "," "," "]
[112,26.64,12.767493283789273,3.3372841533968227," "," "," "," "," "," ",null,null," "," "," "]
[113,26.88,12.766473351653,3.3367786346813064," "," "," "," "," "," ",null,null," "," "," "]
[114,27.119999999999997,12.76559363196904,3.3362678681665723," "," "," "," "," "," ",null,null," "," "," "]
[115,27.36,12.764855433667854,3.3357526458132121," "," "," "," "," "," ",null,null," "," "," "]
[116,27.599999999999998,12.764259850806084,3.3352337658470916," "," "," "," "," "," ",null,null," "," "," "]
[117,27.84,12.763807761194091,3.3347120315366854," "," "," "," "," "," ",null,null," "," "," "]
[118,28.08,12.763499825325701,3.3341882499665232," "," "," "," "," "," ",null,null," "," "," "]
[119,28.32,12.763336485610042,3.3336632308085128," "," "," "," "," "," ",null,null," "," "," "]
[120,28.56,12.763317965905152,3.3331377850928812," "," "," "," "," "," ",null,null," "," "," "]
[121,28.799999999999997,12.763444271352757,3.3326127239804593," "," "," "," "," "," ",null,null," "," "," "]
[122,29.04,12.763715188513418,3.3320888575380105," "," "," "," "," "," ",null,null," "," "," "]
[123,29.279999999999998,12.764130285800981,3.3315669935182797," "," "," "," "," "," ",null,null," "," "," "]
[124,29.52,12.764688914215089,3.3310479361464131," "," "," "," "," "," ",null,null," "," "," "]
[125,29.759999999999998,12.765390208370238,3.3305324849143769," "," "," "," "," "," ",null,null," "," "," "]
[126,30,12.766233087819723,3.3300214333849696," "," "," "," "," "," ",null,null," "," "," "]
[127,30.24,12.767216258672525,3.3295155680069977," "," "," "," "," "," ",null,null," "," "," "]
[128,30.48,12.768338215501068,3.3290156669431612," "," "," "," "," "," ",null,null," "," "," "]
[129,30.72,12.769597243537492,3.3285224989121529," "," "," "," "," "," ",null,null," "," "," "]
[130,30.959999999999997,12.770991421155939,3.3280368220464611," "," "," "," "," "," ",null,null," "," "," "]
[131,31.2,12.772518622638104,3.3275593827673222," "," "," "," "," "," ",null,null," "," "," "]
[132,31.439999999999998,12.774176521219102,3.3270909146782492," "," "," "," "," "," ",null,null," "," "," "]
[133,31.68,12.775962592410501,3.3266321374785215," "," "," "," "," "," ",null,null," "," "," "]
[134,31.919999999999998,12.777874117597122,3.3261837558980027," "," "," "," "," "," ",null,null," "," "," "]
[135,32.159999999999997,12.779908187904027,3.3257464586546068," "," "," "," "," "," ",null,null," "," "," "]
[136,32.4,12.782061708329831,3.3253209174357177," "," "," "," "," "," ",null,null," "," "," "]
[137,32.64,12.784331402142278,3.3249077859048222," "," "," "," "," "," ",null,null," "," "," "]
[138,32.879999999999995,12.78671381553178,3.3245076987345947," "," "," "," "," "," ",null,null," "," "," "]
[139,33.119999999999997,12.789205322518315,3.3241212706676349," "," "," "," "," "," ",null,null," "," "," "]
[140,33.36,12.7918021301069,3.3237490956060274," "," "," "," "," "," ",null,null," "," "," "]
[141,33.6,12.794500283686492,3.3233917457308673," "," "," "," "," "," ",null,null," "," "," "]
[142,33.839999999999996,12.797295672666982,3.323049770652855," "," "," "," "," "," ",null,null," "," "," "]
[143,34.08,12.800184036348588,3.3227236965950384," "," "," "," "," "," ",null,null," "," "," "]
[144,34.32,12.803160970017705,3.3224140256087429," "," "," "," "," "," ",null,null," "," "," "]
[145,34.56,12.806221931262934,3.322121234823701," "," "," "," "," "," ",null,null," "," "," "]
[146,34.799999999999997,12.809362246504707,3.3218457757333595," "," "," "," "," "," ",null,null," "," "," "]
[147,35.04,12.812577117731601,3.3215880735163066," "," "," "," "," "," ",null,null," "," "," "]
[148,35.28,12.815861629436117,3.3213485263947304," "," "," "," "," "," ",null,null," "," "," "]
[149,35.519999999999996,12.819210755742311,3.3211275050307862," "," "," "," "," "," ",null,null," "," "," "]
[150,35.76,12.822619367717381,3.3209253519617095," "," "," "," "," "," ",null,null," "," "," "]
[151,36,12.826082240858911,3.3207423810744858," "," "," "," "," "," ",null,null," "," "," "]
[152,36.24,12.829594062749131,3.3205788771208411," "," "," "," "," "," ",null,null," "," "," "]
[153,36.479999999999997,12.833149440867189,3.3204350952732891," "," "," "," "," "," ",null,null," "," "," "]
[154,36.72,12.836742910550058,3.3203112607229257," "," "," "," "," "," ",null,null," "," "," "]
[155,36.96,12.840368943092329,3.3202075683196277," "," "," "," "," "," ",null,null," "," "," "]
[156,37.199999999999996,12.844021953974783,3.3201241822552672," "," "," "," "," "," ",null,null," "," "," "]
[157,37.44,12.847696311211221,3.3200612357905168," "," "," "," "," "," ",null,null," "," "," "]
[158,37.68,12.851386343802739,3.3200188310257728," "," "," "," "," "," ",null,null," "," "," "]
[159,37.92,12.855086350288177,3.3199970387166822," "," "," "," "," "," ",null,null," "," "," "]
[160,38.159999999999997,12.858790607379179,3.3199958981347146," "," "," "," "," "," ",null,null," "," "," "]
[161,38.4,12.862493378667919,3.3200154169731673," "," "," "," "," "," ",null,null," "," "," "]
[162,38.64,12.866188923395196,3.3200555712989517," "," "," "," "," "," ",null,null," "," "," "]
[163,38.879999999999995,12.869871505266282,3.320116305550449," "," "," "," "," "," ",null,null," "," "," "]
[164,39.119999999999997,12.873535401301574,3.320197532581679," "," "," "," "," "," ",null,null," "," "," "]
[165,39.36,12.877174910708792,3.3202991337529668," "," "," "," "," "," ",null,null," "," "," "]
[166,39.6,12.880784363763185,3.320420959068239," "," "," "," "," "," ",null,null," "," "," "]
[167,39.839999999999996,12.884358130681912,3.3205628273590206," "," "," "," "," "," ",null,null," "," "," "]
[168,40.08,12.887890630478532,3.3207245265151486," "," "," "," "," "," ",null,null," "," "," "]
[169,40.32,12.891376339783298,3.3209058137621548," "," "," "," "," "," ",null,null," "," "," "]
[170,40.559999999999995,12.894809801614731,3.3211064159852053," "," "," "," "," "," ",null,null," "," "," "]
[171,40.799999999999997,12.898185634087804,3.3213260300994234," "," "," "," "," "," ",null,null," "," "," "]
[172,41.04,12.901498539043875,3.3215643234663554," "," "," "," "," "," ",null,null," "," "," "]
[173,41.28,12.904743310587405,3.3218209343562664," "," "," "," "," "," ",null,null," "," "," "]
[174,41.519999999999996,12.907914843514412,3.3220954724558909," "," "," "," "," "," ",null,null," "," "," "]
[175,41.76,12.911008141617542,3.3223875194211874," "," "," "," "," "," ",null,null," "," "," "]
[176,42,12.914018325852618,3.322696629474569," "," "," "," "," "," ",null,null," "," "," "]
[177,42.239999999999995,12.916940642351571,3.3230223300460229," "," "," "," "," "," ",null,null," "," "," "]
[178,42.48,12.91977047026665,3.3233641224574382," "," "," "," "," "," ",null,null," "," "," "]
[179,42.72,12.922503329430963,3.3237214826494004," "," "," "," "," "," ",null,null," "," "," "]
[180,42.96,12.925134887820494,3.3240938619496254," "," "," "," "," "," ",null,null," "," "," "]
[181,43.199999999999996,12.927660968802932,3.3244806878821334," "," "," "," "," "," ",null,null," "," "," "]
[182,43.44,12.930077558158848,3.3248813650161821," "," "," "," "," "," ",null,null," "," "," "]
[183,43.68,12.932380810861018,3.3252952758539007," "," "," "," "," "," ",null,null," "," "," "]
[184,43.92,12.934567057598009,3.3257217817554889," "," "," "," "," "," ",null,null," "," "," "]
[185,44.16,12.936632811028451,3.3261602239007693," "," "," "," "," "," ",null,null," "," "," "]
[186,44.4,12.938574771752821,3.3266099242857963," "," "," "," "," "," ",null,null," "," "," "]
[187,44.64,12.940389833990011,3.3270701867531574," "," "," "," "," "," ",null,null," "," "," "]
[188,44.879999999999995,12.942075090946382,3.3275402980545192," "," "," "," "," "," ",null,null," "," "," "]
[189,45.12,12.943627839865544,3.3280195289438965," "," "," "," "," "," ",null,null," "," "," "]
[190,45.36,12.945045586747645,3.3285071353000557," "," "," "," "," "," ",null,null," "," "," "]
[191,45.6,12.946326050727555,3.3290023592763802," "," "," "," "," "," ",null,null," "," "," "]
[192,45.839999999999996,12.947467168101916,3.3295044304764683," "," "," "," "," "," ",null,null," "," "," "]
[193,46.08,12.948467095995762,3.3300125671536569," "," "," "," "," "," ",null,null," "," "," "]
[194,46.32,12.949324215660043,3.3305259774326035," "," "," "," "," "," ",null,null," "," "," "]
[195,46.559999999999995,12.950037135392177,3.331043860550996," "," "," "," "," "," ",null,null," "," "," "]
[196,46.8,12.950604693072474,3.3315654081194013," "," "," "," "," "," ",null,null," "," "," "]
[197,47.04,12.95102595831009,3.3320898053972066," "," "," "," "," "," ",null,null," "," "," "]
[198,47.28,12.951300234192994,3.3326162325825566," "," "," "," "," "," ",null,null," "," "," "]
[199,47.519999999999996,12.951427058637238,3.3331438661141402," "," "," "," "," "," ",null,null," "," "," "]
[200,47.76,12.951406205331725,3.333671879982635," "," "," "," "," "," ",null,null," "," "," "]
[201,48,12.951237684275526,3.3341994470495862," "," "," "," "," "," ",null,null," "," "," "]
[202,48.239999999999995,12.950921741905674,3.3347257403714479," "," "," "," "," "," ",null,null," "," "," "]
[203,48.48,12.950458860814319,3.3352499345264985," "," "," "," "," "," ",null,null," "," "," "]
[204,48.72,12.949849759054993,3.3357712069423053," "," "," "," "," "," ",null,null," "," "," "]
[205,48.96,12.949095389038687,3.3362887392214029," "," "," "," "," "," ",null,null," "," "," "]
[206,49.199999999999996,12.948196936021329,3.3368017184628282," "," "," "," "," "," ",null,null," "," "," "]
[207,49.44,12.947155816185221,3.3373093385771502," "," "," "," "," "," ",null,null," "," "," "]
[208,49.68,12.945973674317864,3.3378108015926271," "," "," "," "," "," ",null,null," "," "," "]
[209,49.92,12.944652381092526,3.3383053189501277," "," "," "," "," "," ",null,null," "," "," "]
[210,50.16,12.94319402995581,3.3387921127844606," "," "," "," "," "," ",null,null," "," "," "]
[211,50.4,12.941600933628338,3.3392704171897667," "," "," "," "," "," ",null,null," "," "," "]
[212,50.64,12.939875620225564,3.3397394794666577," "," "," "," "," "," ",null,null," "," "," "]
[213,50.879999999999995,12.938020829006529,3.3401985613488021," "," "," "," "," "," ",null,null," "," "," "]
[214,51.12,12.936039505759233,3.3406469402066921," "," "," "," "," "," ",null,null," "," "," "]
[215,51.36,12.933934797832054,3.3410839102263701," "," "," "," "," "," ",null,null," "," "," "]
[216,51.6,12.931710048821433,3.341508783560927," "," "," "," "," "," ",null,null," "," "," "]
[217,51.839999999999996,12.929368792926745,3.3419208914526415," "," "," "," "," "," ",null,null," "," "," "]
[218,52.08,12.926914748984004,3.3423195853236778," "," "," "," "," "," ",null,null," "," "," "]
[219,52.32,12.924351814190675,3.3427042378333267," "," "," "," "," "," ",null,null," "," "," "]
[220,52.559999999999995,12.921684057534518,3.343074243899832," "," "," "," "," "," ",null,null," "," "," "]
[221,52.8,12.918915712939921,3.3434290216849223," "," "," "," "," "," ",null,null," "," "," "]
[222,53.04,12.916051172145771,3.3437680135392371," "," "," "," "," "," ",null,null," "," "," "]
[223,53.28,12.913094977329358,3.3440906869069229," "," "," "," "," "," ",null,null," "," "," "]
[224,53.519999999999996,12.91005181349127,3.3443965351877498," "," "," "," "," "," ",null,null," "," "," "]
[225,53.76,12.906926500616638,3.344685078555198," "," "," "," "," "," ",null,null," "," "," "]
[226,54,12.90372398562844,3.3449558647290489," "," "," "," "," "," ",null,null," "," "," "]
[227,54.239999999999995,12.900449334148878,3.3452084697011126," "," "," "," "," "," ",null,null," "," "," "]
[228,54.48,12.897107722085106,3.345442498412825," "," "," "," "," "," ",null,null," "," "," "]
[229,54.72,12.893704427055788,3.3456575853835422," "," "," "," "," "," ",null,null," "," "," "]
[230,54.96,12.890244819675123,3.3458533952884766," "," "," "," "," "," ",null,null," "," "," "]
[231,55.199999999999996,12.886734354711123,3.3460296234853133," "," "," "," "," "," ",null,null," "," "," "]
[232,55.44,12.88317856213494,3.346185996488658," "," "," "," "," "," ",null,null," "," "," "]
[233,55.68,12.879583038078122,3.346322272391582," "," "," "," "," "," ",null,null," "," "," "]
[234,55.919999999999995,12.875953435714615,3.3464382412336313," "," "," "," "," "," ",null,null," "," "," "]
[235,56.16,12.872295456084279,3.3465337253147887," "," "," "," "," "," ",null,null," "," "," "]
[236,56.4,12.868614838874576,3.3466085794549802," "," "," "," "," "," ",null,null," "," "," "]
[237,56.64,12.864917353176942,3.3466626911988353," "," "," "," "," "," ",null,null," "," "," "]
[238,56.879999999999995,12.861208788234164,3.3466959809655203," "," "," "," "," "," ",null,null," "," "," "]
[239,57.12,12.857494944194857,3.346708402143574," "," "," "," "," "," ",null,null," "," "," "]
[240,57.36,12.853781622890889,3.3466999411307863," "," "," "," "," "," ",null,null," "," "," "]
[241,57.599999999999994,12.850074618653299,3.3466706173192682," "," "," "," "," "," ",null,null," "," "," "]
[242,57.839999999999996,12.846379709181928,3.3466204830259683," "," "," "," "," "," ",null,null," "," "," "]
[243,58.08,12.842702646483644,3.3465496233689969," "," "," "," "," "," ",null,null," "," "," "]
[244,58.32,12.839049147893649,3.3464581560902196," "," "," "," "," "," ",null,null," "," "," "]
[245,58.559999999999995,12.83542488719397,3.3463462313246861," "," "," "," "," "," ",null,null," "," "," "]
[246,58.8,12.831835485842799,3.3462140313175524," "," "," "," "," "," ",null,null," "," "," "]
[247,59.04,12.828286504327908,3.3460617700892525," "," "," "," "," "," ",null,null," "," "," "]
[248,59.28,12.824783433656918,3.3458896930497697," "," "," "," "," "," ",null,null," "," "," "]
[249,59.519999999999996,12.821331686996704,3.3456980765629338," "," "," "," "," "," ",null,null," "," "," "]
[250,59.76,12.817936591473748,3.3454872274617715," "," "," "," "," "," ",null,null," "," "," "]
[251,60,12.814603380146769,3.3452574825160033," "," "," "," "," "," ",null,null," "," "," "]
[252,60.239999999999995,12.811337184162413,3.3450092078528644," "," "," "," "," "," ",null,null," "," "," "]
[253,60.48,12.808143025104329,3.3447427983324962," "," "," "," "," "," ",null,null," "," "," "]
[254,60.72,12.805025807545407,3.3444586768792277," "," "," "," "," "," ",null,null," "," "," "]
[255,60.96,12.801990311812467,3.3441572937701221," "," "," "," "," "," ",null,null," "," "," "]
[256,61.199999999999996,12.799041186972149,3.3438391258822331," "," "," "," "," "," ",null,null," "," "," "]
[257,61.44,12.796182944046276,3.3435046759000664," "," "," "," "," "," ",null,null," "," "," "]
[258,61.68,12.793419949464436,3.3431544714847918," "," "," "," "," "," ",null,null," "," "," "]
[259,61.919999999999995,12.790756418761022,3.3427890644067988," "," "," "," "," "," ",null,null," "," "," "]
[260,62.16,12.788196410523513,3.3424090296432376," "," "," "," "," "," ",null,null," "," "," "]
[261,62.4,12.78574382059824,3.3420149644422135," "," "," "," "," "," ",null,null," "," "," "]
[262,62.64,12.783402376559476,3.3416074873553496," "," "," "," "," "," ",null,null," "," "," "]
[263,62.879999999999995,12.781175632447153,3.3411872372404536," "," "," "," "," "," ",null,null," "," "," "]
[264,63.12,12.779066963778121,3.3407548722360536," "," "," "," "," "," ",null,null," "," "," "]
[265,63.36,12.777079562835372,3.340311068709592," "," "," "," "," "," ",null,null," "," "," "]
[266,63.599999999999994,12.775216434239281,3.3398565201810793," "," "," "," "," "," ",null,null," "," "," "]
[267,63.839999999999996,12.773480390804455,3.3393919362240294," "," "," "," "," "," ",null,null," "," "," "]
[268,64.08,12.771874049685399,3.3389180413455044," "," "," "," "," "," ",null,null," "," "," "]
[269,64.319999999999993,12.770399828813854,3.3384355738471063," "," "," "," "," "," ",null,null," "," "," "]
[270,64.56,12.769059943630239,3.3379452846687561," "," "," "," "," "," ",null,null," "," "," "]
[271,64.8,12.767856404111321,3.337447936217103," "," "," "," "," "," ",null,null," "," "," "]
[272,65.039999999999992,12.766791012095865,3.3369443011803996," "," "," "," "," "," ",null,null," "," "," "]
[273,65.28,12.765865358909723,3.3364351613316798," "," "," "," "," "," ",null,null," "," "," "]
[274,65.52,12.765080823291449,3.3359213063220614," "," "," "," "," "," ",null,null," "," "," "]
[275,65.759999999999991,12.764438569619298,3.3354035324659939," "," "," "," "," "," ",null,null," "," "," "]
[276,66,12.763939546440131,3.3348826415202479," "," "," "," "," "," ",null,null," "," "," "]
[277,66.239999999999995,12.763584485300489,3.3343594394584368," "," "," "," "," "," ",null,null," "," "," "]
[278,66.48,12.763373899879817,3.3338347352428395," "," "," "," "," "," ",null,null," "," "," "]
[279,66.72,12.763308085425599,3.3333093395952758," "," "," "," "," "," ",null,null," "," "," "]
[280,66.959999999999994,12.763387118489888,3.3327840637687642," "," "," "," "," "," ",null,null," "," "," "]
[281,67.2,12.763610856966478,3.332259718321672," "," "," "," "," "," ",null,null," "," "," "]
[282,67.44,12.763978940427769,3.3317371118960395," "," "," "," "," "," ",null,null," "," "," "]
[283,67.679999999999993,12.764490790760112,3.3312170500017397," "," "," "," "," "," ",null,null," "," "," "]
[284,67.92,12.765145613096216,3.3307003338081089," "," "," "," "," "," ",null,null," "," "," "]
[285,68.16,12.765942397043018,3.3301877589446516," "," "," "," "," "," ",null,null," "," "," "]
[286,68.399999999999991,12.766879918203143,3.3296801143124024," "," "," "," "," "," ",null,null," "," "," "]
[287,68.64,12.767956739987941,3.3291781809074923," "," "," "," "," "," ",null,null," "," "," "]
[288,68.88,12.769171215719826,3.3286827306584441," "," "," "," "," "," ",null,null," "," "," "]
[289,69.12,12.770521491021467,3.3281945252786853," "," "," "," "," "," ",null,null," "," "," "]
[290,69.36,12.772005506489171,3.3277143151357453," "," "," "," "," "," ",null,null," "," "," "]
[291,69.599999999999994,12.773621000647561,3.327242838138563," "," "," "," "," "," "]
[292,69.84,12.775365513182479,3.3267808186443095," "," "," "," "," "," "]
[293,70.08,12.777236388448786,3.3263289663860935," "," "," "," "," "," "]
[294,70.319999999999993,12.779230779249543,3.3258879754228898," "," "," "," "," "," "]
[295,70.56,12.781345650882802,3.3254585231129967," "," "," "," "," "," "]
[296,70.8,12.783577785452021,3.3250412691122997," "," "," "," "," "," "]
[297,71.039999999999992,12.785923786435866,3.3246368543985865," "," "," "," "," "," "]
[298,71.28,12.788380083512909,3.3242459003231244," "," "," "," "," "," "]
[299,71.52,12.790942937636478,3.3238690076906843," "," "," "," "," "," "]
[300,71.759999999999991,12.793608446354671,3.323506755869158," "," "," "," "," "," "]
[301,72,12.796372549370211,3.3231597019298902," "," "," "," "," "," "]
[302,72.239999999999995,12.799231034334607,3.3228283798198075," "," "," "," "," "," "]
[303,72.48,12.802179542870739,3.3225132995664," "," "," "," "," "," "]
[304,72.72,12.805213576817705,3.322214946516576," "," "," "," "," "," "]
[305,72.959999999999994,12.808328504691451,3.3219337806103781," "," "," "," "," "," "]
[306,73.2,12.811519568354386,3.3216702356905166," "," "," "," "," "," "]
[307,73.44,12.814781889886849,3.3214247188486374," "," "," "," "," "," "]
[308,73.679999999999993,12.818110478652949,3.3211976098092193," "," "," "," "," "," "]
[309,73.92,12.821500238552998,3.3209892603519453," "," "," "," "," "," "]
[310,74.16,12.824945975454321,3.3207999937733721," "," "," "," "," "," "]
[311,74.399999999999991,12.82844240479197,3.3206301043886723," "," "," "," "," "," "]
[312,74.64,12.831984159330409,3.3204798570741993," "," "," "," "," "," "]
[313,74.88,12.835565797076951,3.320349486851577," "," "," "," "," "," "]
[314,75.11999999999999,12.839181809337301,3.3202391985139847," "," "," "," "," "," "]
[315,75.36,12.842826628903206,3.3201491662952618," "," "," "," "," "," "]
[316,75.599999999999994,12.846494638361863,3.3200795335824194," "," "," "," "," "," "]
[317,75.84,12.850180178516323,3.3200304126721045," "," "," "," "," "," "]
[318,76.08,12.8538775569058,3.3200018845715138," "," "," "," "," "," "]
[319,76.319999999999993,12.857581056414395,3.3199939988442115," "," "," "," "," "," "]
[320,76.56,12.861284943956438,3.3200067735012615," "," "," "," "," "," "]
[321,76.8,12.86498347922624,3.3200401949380307," "," "," "," "," "," "]
[322,77.039999999999992,12.86867092349976,3.3200942179169757," "," "," "," "," "," "]
[323,77.28,12.872341548475335,3.3201687655966658," "," "," "," "," "," "]
[324,77.52,12.875989645140322,3.3202637296072517," "," "," "," "," "," "]
[325,77.759999999999991,12.879609532650189,3.3203789701725261," "," "," "," "," "," "]
[326,78,12.883195567206343,3.3205143162786683," "," "," "," "," "," "]
[327,78.239999999999995,12.886742150918666,3.3206695658897081," "," "," "," "," "," "]
[328,78.48,12.890243740638565,3.3208444862096789," "," "," "," "," "," "]
[329,78.72,12.893694856748066,3.3210388139913731," "," "," "," "," "," "]
[330,78.959999999999994,12.897090091890311,3.3212522558915443," "," "," "," "," "," "]
[331,79.2,12.900424119626681,3.3214844888723376," "," "," "," "," "," "]
[332,79.44,12.903691703005608,3.3217351606486614," "," "," "," "," "," "]
[333,79.679999999999993,12.906887703028024,3.3220038901811417," "," "," "," "," "," "]
[334,79.92,12.910007086994392,3.3222902682142377," "," "," "," "," "," "]
[335,80.16,12.913044936718142,3.3225938578590131," "," "," "," "," "," "]
[336,80.399999999999991,12.915996456590413,3.3229141952199956," "," "," "," "," "," "]
[337,80.64,12.91885698148101,3.3232507900654755," "," "," "," "," "," "]
[338,80.88,12.921621984460545,3.3236031265405224," "," "," "," "," "," "]
[339,81.11999999999999,12.924287084328901,3.3239706639219193," "," "," "," "," "," "]
[340,81.36,12.926848052935259,3.3243528374141387," "," "," "," "," "," "]
[341,81.599999999999994,12.929300822275186,3.3247490589854065," "," "," "," "," "," "]
[342,81.84,12.931641491350462,3.3251587182428222," "," "," "," "," "," "]
[343,82.08,12.93386633277767,3.3255811833454216," "," "," "," "," "," "]
[344,82.32,12.935971799131876,3.3260158019539992," "," "," "," "," "," "]
[345,82.56,12.937954529012053,3.3264619022164168," "," "," "," "," "," "]
[346,82.8,12.939811352815429,3.3269187937870615," "," "," "," "," "," "]
[347,83.039999999999992,12.941539298208244,3.3273857688790249," "," "," "," "," "," "]
[348,83.28,12.943135595281046,3.3278621033475151," "," "," "," "," "," "]
[349,83.52,12.944597681377081,3.3283470578029251," "," "," "," "," "," "]
[350,83.759999999999991,12.945923205582975,3.3288398787519213," "," "," "," "," "," "]
[351,84,12.947110032871491,3.3293397997648344," "," "," "," "," "," "]
[352,84.24,12.948156247886807,3.3298460426675724," "," "," "," "," "," "]
[353,84.47999999999999,12.949060158363464,3.3303578187562115," "," "," "," "," "," "]
[354,84.72,12.949820298170811,3.3308743300323496," "," "," "," "," "," "]
[355,84.96,12.950435429975592,3.3313947704572544," "," "," "," "," "," "]
[356,85.2,12.950904547516027,3.331918327222779," "," "," "," "," "," "]
[357,85.44,12.951226877481634,3.3324441820369635," "," "," "," "," "," "]
[358,85.679999999999993,12.951401880993787,3.3329715124221901," "," "," "," "," "," "]
[359,85.92,12.951429254682914,3.3334994930237198," "," "," "," "," "," "]
[360,86.16,12.951308931359122,3.3340272969263895," "," "," "," "," "," "]
[361,86.399999999999991,12.951041080273869,3.3345540969772194," "," "," "," "," "," "]
[362,86.64,12.95062610697126,3.3350790671116437," "," "," "," "," "," "]
[363,86.88,12.950064652728438,3.3356013836810532," "," "," "," "," "," "]
[364,87.11999999999999,12.94935759358545,3.3361202267793137," "," "," "," "," "," "]
[365,87.36,12.948506038965908,3.3366347815659143," "," "," "," "," "," "]
[366,87.6,12.947511329890654,3.3371442395833806," "," "," "," "," "," "]
[367,87.84,12.946375036787607,3.3376478000665903," "," "," "," "," "," "]
[368,88.08,12.945098956901829,3.3381446712416212," "," "," "," "," "," "]
[369,88.32,12.943685111310771,3.3386340716117764," "," "," "," "," "," "]
[370,88.56,12.942135741550549,3.3391152312284378," "," "," "," "," "," "]
[371,88.8,12.940453305859965,3.3395873929444173," "," "," "," "," "," "]
[372,89.039999999999992,12.938640475049823,3.3400498136475041," "," "," "," "," "," "]
[373,89.28,12.936700128005947,3.3405017654719282," "," "," "," "," "," "]
[374,89.52,12.934635346835082,3.3409425369855064," "," "," "," "," "," "]
[375,89.759999999999991,12.932449411663631,3.3413714343502656," "," "," "," "," "," "]
[376,90,12.930145795099955,3.3417877824544004," "," "," "," "," "," "]
[377,90.24,12.927728156371609,3.3421909260134615," "," "," "," "," "," "]
[378,90.47999999999999,12.925200335149624,3.3425802306387382," "," "," "," "," "," "]
[379,90.72,12.922566345072523,3.3429550838708586," "," "," "," "," "," "]
[380,90.96,12.919830366983383,3.3433148961766994," "," "," "," "," "," "]
[381,91.2,12.916996741893783,3.3436591019077757," "," "," "," "," "," "]
[382,91.44,12.914069963689006,3.3439871602183513," "," "," "," "," "," "]
[383,91.679999999999993,12.911054671589294,3.3442985559416014," "," "," "," "," "," "]
[384,91.92,12.907955642382415,3.3445928004222396," "," "," "," "," "," "]
[385,92.16,12.9047777824431,3.3448694323041188," "," "," "," "," "," "]
[386,92.399999999999991,12.901526119555315,3.3451280182714038," "," "," "," "," "," "]
[387,92.64,12.898205794553533,3.3453681537420161," "," "," "," "," "," "]
[388,92.88,12.894822052799435,3.3455894635121477," "," "," "," "," "," "]
[389,93.11999999999999,12.891380235510638,3.3457916023507495," "," "," "," "," "," "]
[390,93.36,12.887885770958176,3.3459742555430019," "," "," "," "," "," "]
[391,93.6,12.884344165549551,3.3461371393818822," "," "," "," "," "," "]
[392,93.84,12.880760994814198,3.3462800016070573," "," "," "," "," "," "]
[393,94.08,12.877141894308206,3.3464026217904341," "," "," "," "," "," "]
[394,94.32,12.873492550455095,3.3465048116678173," "," "," "," "," "," "]
[395,94.56,12.869818691339338,3.3465864154162337," "," "," "," "," "," "]
[396,94.8,12.866126077469191,3.3466473098765919," "," "," "," "," "," "]
[397,95.039999999999992,12.86242049252523,3.3466874047214628," "," "," "," "," "," "]
[398,95.28,12.858707734110748,3.346706642567872," "," "," "," "," "," "]
[399,95.52,12.854993604519974,3.3467049990351123," "," "," "," "," "," "]
[400,95.759999999999991,12.851283901539722,3.346682482747684," "," "," "," "," "," "]
[401,96,12.847584409299836,3.3466391352835889," "," "," "," "," "," "]
[402,96.24,12.84390088918741,3.3465750310683036," "," "," "," "," "," "]
[403,96.47999999999999,12.840239070839393,3.3464902772148566," "," "," "," "," "," "]
[404,96.72,12.836604643227831,3.3463850133105493," "," "," "," "," "," "]
[405,96.96,12.833003245851534,3.3462594111509416," "," "," "," "," "," "]
[406,97.2,12.829440460047559,3.3461136744218334," "," "," "," "," "," "]
[407,97.44,12.825921800435417,3.3459480383300528," "," "," "," "," "," "]
[408,97.679999999999993,12.822452706506464,3.3457627691839655," "," "," "," "," "," "]
[409,97.92,12.81903853437044,3.3455581639246876," "," "," "," "," "," "]
[410,98.16,12.815684548670633,3.3453345496090807," "," "," "," "," "," "]
[411,98.399999999999991,12.812395914678648,3.3450922828456795," "," "," "," "," "," "]
[412,98.64,12.809177690579233,3.3448317491847739," "," "," "," "," "," "]
[413,98.88,12.806034819955148,3.3445533624639436," "," "," "," "," "," "]
[414,99.11999999999999,12.802972124481498,3.3442575641104018," "," "," "," "," "," "]
[415,99.36,12.799994296838465,3.3439448224015722," "," "," "," "," "," "]
[416,99.6,12.79710589385088,3.3436156316853745," "," "," "," "," "," "]
[417,99.84,12.794311329862524,3.3432705115617516," "," "," "," "," "," "]
[418,100.08,12.791614870352587,3.3429100060270169," "," "," "," "," "," "]
[419,100.32,12.789020625801209,3.3425346825826439," "," "," "," "," "," "]
[420,100.56,12.786532545810516,3.3421451313101618," "," "," "," "," "," "]
[421,100.8,12.784154413487126,3.3417419639138579," "," "," "," "," "," "]
[422,101.03999999999999,12.781889840091599,3.3413258127330101," "," "," "," "," "," "]
[423,101.28,12.779742259959875,3.3408973297254132," "," "," "," "," "," "]
[424,101.52,12.777714925701279,3.340457185423976," "," "," "," "," "," "]
[425,101.75999999999999,12.775810903677272,3.3400060678681878," "," "," "," "," "," "]
[426,102,12.77403306976467,3.3395446815122702," "," "," "," "," "," "]
[427,102.24,12.77238410540669,3.3390737461118407," "," "," "," "," "," "]
[428,102.47999999999999,12.770866493954761,3.3385939955909243," "," "," "," "," "," "]
[429,102.72,12.769482517303699,3.3381061768911486," "," "," "," "," "," "]
[430,102.96,12.768234252822444,3.3376110488049697," "," "," "," "," "," "]
[431,103.2,12.767123570582253,3.337109380794764," "," "," "," "," "," "]
[432,103.44,12.76615213088388,3.3366019517996239," "," "," "," "," "," "]
[433,103.67999999999999,12.765321382084958,3.3360895490316853," "," "," "," "," "," "]
[434,103.92,12.764632558728538,3.3355729667638059," "," "," "," "," "," "]
[435,104.16,12.764086679973371,3.3350530051104004," "," "," "," "," "," "]
[436,104.39999999999999,12.76368454832631,3.334530468803226," "," "," "," "," "," "]
[437,104.64,12.763426748676908,3.3340061659638929," "," "," "," "," "," "]
[438,104.88,12.763313647634016,3.3334809068748572," "," "," "," "," "," "]
[439,105.11999999999999,12.763345393163979,3.3329555027506346," "," "," "," "," "," "]
[440,105.36,12.763521914529747,3.3324307645109501," "," "," "," "," "," "]
[441,105.6,12.763842922530012,3.3319075015575161," "," "," "," "," "," "]
[442,105.83999999999999,12.764307910037241,3.331386520556106," "," "," "," "," "," "]
[443,106.08,12.764916152833264,3.330868624225567," "," "," "," "," "," "]
[444,106.32,12.765666710740865,3.3303546101353874," "," "," "," "," "," "]
[445,106.56,12.766558429049603,3.3298452695134073," "," "," "," "," "," "]
[446,106.8,12.767589940233885,3.3293413860652317," "," "," "," "," "," "]
[447,107.03999999999999,12.768759665961108,3.3288437348068771," "," "," "," "," "," "]
[448,107.28,12.770065819387479,3.3283530809121542," "," "," "," "," "," "]
[449,107.52,12.771506407738915,3.3278701785762594," "," "," "," "," "," "]
[450,107.75999999999999,12.773079235174205,3.3273957698970129," "," "," "," "," "," "]
[451,108,12.774781905927426,3.3269305837751579," "," "," "," "," "," "]
[452,108.24,12.776611827726375,3.3264753348350995," "," "," "," "," "," "]
[453,108.47999999999999,12.778566215483538,3.3260307223674319," "," "," "," "," "," "]
[454,108.72,12.780642095255935,3.3255974292945711," "," "," "," "," "," "]
[455,108.96,12.782836308469919,3.3251761211607822," "," "," "," "," "," "]
[456,109.2,12.78514551640677,3.3247674451478533," "," "," "," "," "," "]
[457,109.44,12.787566204944671,3.3243720291176402," "," "," "," "," "," "]
[458,109.67999999999999,12.790094689552433,3.3239904806826743," "," "," "," "," "," "]
[459,109.92,12.792727120530023,3.3236233863059943," "," "," "," "," "," "]
[460,110.16,12.795459488490708,3.3232713104313278," "," "," "," "," "," "]
[461,110.39999999999999,12.798287630079354,3.3229347946447221," "," "," "," "," "," "]
[462,110.64,12.801207233921083,3.322614356868685," "," "," "," "," "," "]
[463,110.88,12.804213846794259,3.3223104905898704," "," "," "," "," "," "]
[464,111.11999999999999,12.807302880021389,3.3220236641213048," "," "," "," "," "," "]
[465,111.36,12.810469616071281,3.321754319900124," "," "," "," "," "," "]
[466,111.6,12.8137092153654,3.3215028738217476," "," "," "," "," "," "]
[467,111.83999999999999,12.817016723281096,3.321269714611395," "," "," "," "," "," "]
[468,112.08,12.820387077343995,3.3210552032338043," "," "," "," "," "," "]
[469,112.32,12.823815114601482,3.3208596723419821," "," "," "," "," "," "]
[470,112.56,12.827295579168908,3.3206834257657789," "," "," "," "," "," "]
[471,112.8,12.830823129939715,3.3205267380410453," "," "," "," "," "," "]
[472,113.03999999999999,12.834392348450368,3.3203898539800902," "," "," "," "," "," "]
[473,113.28,12.837997746890577,3.3202729882841164," "," "," "," "," "," "]
[474,113.52,12.841633776248944,3.3201763251982794," "," "," "," "," "," "]
[475,113.75999999999999,12.845294834583772,3.3201000182099638," "," "," "," "," "," "]
[476,114,12.848975275408437,3.320044189790841," "," "," "," "," "," "]
[477,114.24,12.852669416180319,3.3200089311832173," "," "," "," "," "," "]
[478,114.47999999999999,12.856371546881947,3.3199943022311431," "," "," "," "," "," "]
[479,114.72,12.860075938682641,3.3200003312567095," "," "," "," "," "," "]
[480,114.96,12.863776852668597,3.3200270149819029," "," "," "," "," "," "]
[481,115.19999999999999,12.867468548628999,3.3200743184963466," "," "," "," "," "," "]
[482,115.44,12.871145293885428,3.320142175271203," "," "," "," "," "," "]
[483,115.67999999999999,12.874801372151509,3.3202304872194599," "," "," "," "," "," "]
[484,115.92,12.878431092409432,3.3203391248027638," "," "," "," "," "," "]
[485,116.16,12.882028797789719,3.320467927184918," "," "," "," "," "," "]
[486,116.39999999999999,12.885588874440309,3.3206167024320905," "," "," "," "," "," "]
[487,116.64,12.889105760370814,3.3207852277597318," "," "," "," "," "," "]
[488,116.88,12.892573954257559,3.3209732498261273," "," "," "," "," "," "]
[489,117.11999999999999,12.895988024194835,3.3211804850724556," "," "," "," "," "," "]
[490,117.36,12.89934261637762,3.3214066201091548," "," "," "," "," "," "]
[491,117.6,12.902632463700858,3.3216513121483286," "," "," "," "," "," "]
[492,117.83999999999999,12.905852394260327,3.3219141894818627," "," "," "," "," "," "]
[493,118.08,12.90899733973999,3.3221948520048463," "," "," "," "," "," "]
[494,118.32,12.912062343670714,3.3224928717838216," "," "," "," "," "," "]
[495,118.56,12.915042569545223,3.3228077936693179," "," "," "," "," "," "]
[496,118.8,12.917933308774185,3.3231391359520415," "," "," "," "," "," "]
[497,119.03999999999999,12.920729988468381,3.3234863910620303," "," "," "," "," "," "]
[498,119.28,12.92342817903203,3.3238490263099942," "," "," "," "," "," "]
[499,119.52,12.926023601552483,3.3242264846699912," "," "," "," "," "," "]
[500,119.75999999999999,12.92851213497168,3.3246181856025134," "," "," "," "," "," "]
[501,120,12.930889823024996,3.3250235259169738," "," "," "," "," "," "]
[" "," "," "," "," "," "," "," "," "," "]
[" "," "," "," "," "," "," "," "," "," "]
[" "," "," "," "," "," "," "," "," "," "]
[" "," "," "," "," "," "," "," "," "," "]
[" "," "," "," "," "," "," "," "," "," "]
[" "," "," "," "," "," "," "," "," "," "]
[" "," "," "," "," "," "," "," "," "," "]
[" "," "," "," "," "," "," "," "," "," "]
[" "," "," "," "," "," "," "," "," "," "]
[" "," "," "," "," "," "," "," "," "," "]
[" "," "," "," "," "," "," "," "," "," "]
[" "," "," "," "," "," "," "," "," "," "]
[" "," "," "," "," "," "," "," "," "," "]
[" "," "," "," "," "," "," "," "," "," "]
[" "," "," "," "," "," "," "," "," "," "]
[" "," "," "," "," "," "," "," "," "," "]
[" "," "," "," "," "," "," "," "," "," "]
[" "," "," "," "," "," "," "," "," "," "]
[" "," "," "," "," "," "," "," "," "," "]
[" "," "," "," "," "," "," "," "," "," "]
[" "," "," "," "," "," "," "," "," "," "]
[" "," "," "," "," "," "," "," "," "," "]
[" "," "," "," "," "," "," "," "," "," "]
[" "," "," "," "," "," "," "," "," "," "]
[" "," "," "," "," "," "," "," "," "," "]
[" "," "," "," "," "," "," "," "," "," "]
[" "," "," "," "," "," "," "," "," "," "]
[" "," "," "," "," "," "," "," "," "," "]
[" "," "," "," "," "," "," "," "," "," "]
[" "," "," "," "," "," "," "," "," "," "]
[" "," "," "," "," "," "," "," "," "," "]
[" "," "," "," "," "," "," "," "," "," "]
[" "," "," "," "," "," "," "," "," "," "]
[" "," "," "," "," "," "," "," "," "," "]
[" "," "," "," "," "," "," "," "," "," "]
[" "," "," "," "," "," "," "," "," "," "]
[" "," "," "," "," "," "," "," "," "," "]
[" "," "," "," "," "," "," "," "," "," "]
[" "," "," "," "," "," "," "," "," "," "]
[" "," "," "," "," "," "," "," "," "," "]
[" "," "," "," "," "," "," "," "," "," "]
[" "," "," "," "," "," "," "," "," "," "]
[" "," "," "," "," "," "," "," "," "," "]
[" "," "," "," "," "," "," "," "," "," "]
[" "," "," "," "," "," "," "," "," "," "]
[" "," "," "," "," "," "," "," "," "," "]
[" "," "," "," "," "," "," "," "," "," "]
[" "," "," "," "," "," "," "," "," "," "]
[" "," "," "," "," "," "," "," "," "," "]
[" "," "," "," "," "," "," "," "," "," "]
[" "," "," "," "," "," "," "," "," "," "]
[" "," "," "," "," "," "," "," "," "," "]
[" "," "," "," "," "," "," "," "," "," "]
[" "," "," "," "," "," "," "," "," "," "]
[" "," "," "," "," "," "," "," "," "," "]
[" "," "," "," "," "," "," "," "," "," "]
[" "," "," "," "," "," "," "," "," "," "]
[" "," "," "," "," "," "," "," "," "," "]
[" "," "," "," "," "," "," "," "," "," "]
[" "," "," "," "," "," "," "," "," "," "]
[" "," "," "," "," "," "," "," "," "," "]
[" "," "," "," "," "," "," "," "," "," "]
[" "," "," "," "," "," "," "," "," "," "]
[" "," "," "," "," "," "," "," "," "," "]
[" "," "," "," "," "," "," "," "," "," "]
[" "," "," "," "," "," "," "," "," "," "]
[" "," "," "," "," "," "," "," "," "," "]
[" "," "," "," "," "," "," "," "," "," "]
[" "," "," "," "," "," "," "," "," "," "]
[" "," "," "," "," "," "," "," "," "," "]
[" "," "," "," "," "," "," "," "," "," "]
[" "," "," "," "," "," "," "," "," "," "]
[" "," "," "," "," "," "," "," "," "," "]
[" "," "," "," "," "," "," "," "," "," "]
[" "," "," "," "," "," "," "," "," "," "]
[" "," "," "," "," "," "," "," "," "," "]
[" "," "," "," "," "," "," "," "," "," "]
[" "," "," "," "," "," "," "," "," "," "]
[" "," "," "," "," "," "," "," "," "," "]
[" "," "," "," "," "," "," "," "," "," "]
[" "," "," "," "," "," "," "," "," "," "]
[" "," "," "," "," "," "," "," "," "," "]
[" "," "," "," "," "," "," "," "," "," "]
[" "," "," "," "," "," "," "," "," "," "]
[" "," "," "," "," "," "," "," "," "," "]
[" "," "," "," "," "," "," "," "," "," "]
[" "," "," "," "," "," "," "," "," "," "]
[" "," "," "," "," "," "," "," "," "," "]
[" "," "," "," "," "," "," "," "," "," "]
[" "," "," "," "," "," "," "," "," "," "]
[" "," "," "," "," "," "," "," "," "," "]
[" "," "," "," "," "," "," "," "," "," "]
[" "," "," "," "," "," "," "," "," "," "]
[" "," "," "," "," "," "," "," "," "," "]
[" "," "," "," "," "," "," "," "," "," "]
[" "," "," "," "," "," "," "," "," "," "]
[" "," "," "," "," "," "," "," "," "," "]
[" "," "," "," "," "," "," "," "," "," "]
[" "," "," "," "," "," "," "," "," "," "]
[" "," "," "," "," "," "," "," "," "," "]
[" "," "," "," "," "," "," "," "," "," "]
[" "," "," "," "," "," "," "," "," "," "]
[" "," "," "," "," "," "," "," "," "," "]
[" "," "," "," "," "," "," "," "," "," "]
[" "," "," "," "," "," "," "," "," "," "]
[" "," "," "," "," "," "," "," "," "," "]
[" "," "," "," "," "," "," "," "," "," "]
[" "," "," "," "," "," "," "," "," "," "]
[" "," "," "," "," "," "," "," "," "," "]
[" "," "," "," "," "," "," "," "," "," "]
[" "," "," "," "," "," "," "," "," "," "]
[" "," "," "," "," "," "," "," "," "," "]
[" "," "," "," "," "," "," "," "," "," "]
[" "," "," "," "," "," "," "," "," "," "]
[" "," "," "," "," "," "," "," "," "," "]
[" "," "," "," "," "," "," "," "," "," "]
[" "," "," "," "," "," "," "," "," "," "]
[" "," "," "," "," "," "," "," "," "," "]
[" "," "," "," "," "," "," "," "," "," "]
[" "," "," "," "," "," "," "," "," "," "]
[" "," "," "," "," "," "," "," "," "," "]
[" "," "," "," "," "," "," "," "," "," "]
[" "," "," "," "," "," "," "," "," "," "]
[" "," "," "," "," "," "," "," "," "," "]
[" "," "," "," "," "," "," "," "," "," "]
[" "," "," "," "," "," "," "," "," "," "]
[" "," "," "," "," "," "," "," "," "," "]
[" "," "," "," "," "," "," "," "," "," "]
[" "," "," "," "," "," "," "," "," "," "]
[" "," "," "," "," "," "," "," "," "," "]
[" "," "," "," "," "," "," "," "," "," "]
[" "," "," "," "," "," "," "," "," "," "]
[" "," "," "," "," "," "," "," "," "," "]
[" "," "," "," "," "," "," "," "," "," "]
[" "," "," "," "," "," "," "," "," "," "]
[" "," "," "," "," "," "," "," "," "," "]
[" "," "," "," "," "," "," "," "," "," "]
[" "," "," "," "," "," "," "," "," "," "]
[" "," "," "," "," "," "," "," "," "," "]
[" "," "," "," "," "," "," "," "," "," "]
[" "," "," "," "," "," "," "," "," "," "]
[" "," "," "," "," "," "," "," "," "," "]
[" "," "," "," "," "," "," "," "," "," "]
[" "," "," "," "," "," "," "," "," "," "]
[" "," "," "," "," "," "," "," "," "," "]
[" "," "," "," "," "," "," "," "," "," "]
[" "," "," "," "," "," "," "," "," "," "]
[" "," "," "," "," "," "," "," "," "," "]
[" "," "," "," "," "," "," "," "," "," "]
[" "," "," "," "," "," "," "," "," "," "]
[" "," "," "," "," "," "," "," "," "," "]
[" "," "," "," "," "," "," "," "," "," "]
[" "," "," "," "," "," "," "," "," "," "]
[" "," "," "," "," "," "," "," "," "," "]
[" "," "," "," "," "," "," "," "," "," "]
[" "," "," "," "," "," "," "," "," "," "]
[" "," "," "," "," "," "," "," "," "," "]
[" "," "," "," "," "," "," "," "," "," "]
[" "," "," "," "," "," "," "," "," "," "]
[" "," "," "," "," "," "," "," "," "," "]
[" "," "," "," "," "," "," "," "," "," "]
[" "," "," "," "," "," "," "," "," "," "]
[" "," "," "," "," "," "," "," "," "," "]
[" "," "," "," "," "," "," "," "," "," "]
[" "," "," "," "," "," "," "," "," "," "]
[" "," "," "," "," "," "," "," "," "," "]
[" "," "," "," "," "," "," "," "," "," "]
[" "," "," "," "," "," "," "," "," "," "]
[" "," "," "," "," "," "," "," "," "," "]
[" "," "," "," "," "," "," "," "," "," "]
[" "," "," "," "," "," "," "," "," "," "]
[" "," "," "," "," "," "," "," "," "," "]
[" "," "," "," "," "," "," "," "," "," "]
[" "," "," "," "," "," "," "," "," "," "]
[" "," "," "," "," "," "," "," "," "," "]
[" "," "," "," "," "," "," "," "," "," "]
[" "," "," "," "," "," "," "," "," "," "]
[" "," "," "," "," "," "," "," "," "," "]
[" "," "," "," "," "," "," "," "," "," "]
[" "," "," "," "," "," "," "," "," "," "]
[" "," "," "," "," "," "," "," "," "," "]
[" "," "," "," "," "," "," "," "," "," "]
[" "," "," "," "," "," "," "," "," "," "]
[" "," "," "," "," "," "," "," "," "," "]
[" "," "," "," "," "," "," "," "," "," "]
[" "," "," "," "," "," "," "," "," "," "]
[" "," "," "," "," "," "," "," "," "," "]
[" "," "," "," "," "," "," "," "," "," "]
[" "," "," "," "," "," "," "," "," "," "]
[" "," "," "," "," "," "," "," "," "," "]
[" "," "," "," "," "," "," "," "," "," "]
[" "," "," "," "," "," "," "," "," "," "]
[" "," "," "," "," "," "," "," "," "," "]
[" "," "," "," "," "," "," "," "," "," "]
[" "," "," "," "," "," "," "," "," "," "]
[" "," "," "," "," "," "," "," "," "," "]
[" "," "," "," "," "," "," "," "," "," "]
[" "," "," "," "," "," "," "," "," "," "]
[" "," "," "," "," "," "," "," "," "," "]
[" "," "," "," "," "," "," "," "," "," "]
[" "," "," "," "," "," "," "," "," "," "]
[" "," "," "," "," "," "," "," "," "," "]
[" "," "," "," "," "," "," "," "," "," "]
[" "," "," "," "," "," "," "," "," "," "]
[" "," "," "," "," "," "," "," "," "," "]
[" "," "," "," "," "," "," "," "," "," "]
[" "," "," "," "," "," "," "," "," "," "]
[" "," "," "," "," "," "," "," "," "," "]
[" "," "," "," "," "," "," "," "," "," "]
[" "," "," "," "," "," "," "," "," "," "]
[" "," "," "," "," "," "," "," "," "," "]
[" "," "," "," "," "," "," "," "," "," "]
[" "," "," "," "," "," "," "," "," "," "]
[" "," "," "," "," "," "," "," "," "," "]
[" "," "," "," "," "," "," "," "," "," "]
[" "," "," "," "," "," "," "," "," "," "]
[" "," "," "," "," "," "," "," "," "," "]
[" "," "," "," "," "," "," "," "," "," "]
[" "," "," "," "," "," "," "," "," "," "]
[" "," "," "," "," "," "," "," "," "," "]
[" "," "," "," "," "," "," "," "," "," "]
[" "," "," "," "," "," "," "," "," "," "]
[" "," "," "," "," "," "," "," "," "," "]
[" "," "," "," "," "," "," "," "," "," "]
[" "," "," "," "," "," "," "," "," "," "]
[" "," "," "," "," "," "," "," "," "," "]
[" "," "," "," "," "," "," "," "," "," "]
[" "," "," "," "," "," "," "," "," "," "]
[" "," "," "," "," "," "," "," "," "," "]
[" "," "," "," "," "," "," "," "," "," "]
[" "," "," "," "," "," "," "," "," "," "]
[" "," "," "," "," "," "," "," "," "," "]
[" "," "," "," "," "," "," "," "," "," "]
[" "," "," "," "," "," "," "," "," "," "]
[" "," "," "," "," "," "," "," "," "," "]
[" "," "," "," "," "," "," "," "," "," "]
[" "," "," "," "," "," "," "," "," "," "]
[" "," "," "," "," "," "," "," "," "," "]
[" "," "," "," "," "," "," "," "," "," "]
[" "," "," "," "," "," "," "," "," "," "]
[" "," "," "," "," "," "," "," "," "," "]
[" "," "," "," "," "," "," "," "," "," "]
[" "," "," "," "," "," "," "," "," "," "]
[" "," "," "," "," "," "," "," "," "," "]
[" "," "," "," "," "," "," "," "," "," "]
[" "," "," "," "," "," "," "," "," "," "]
[" "," "," "," "," "," "," "," "," "," "]
[" "," "," "," "," "," "," "," "," "," "]
[" "," "," "," "," "," "," "," "," "," "]
[" "," "," "," "," "," "," "," "," "," "]
[" "," "," "," "," "," "," "," "," "," "]
[" "," "," "," "," "," "," "," "," "," "]
[" "," "," "," "," "," "," "," "," "," "]
[" "," "," "," "," "," "," "," "," "," "]
[" "," "," "," "," "," "," "," "," "," "]
[" "," "," "," "," "," "," "," "," "," "]
[" "," "," "," "," "," "," "," "," "," "]
[" "," "," "," "," "," "," "," "," "," "]
[" "," "," "," "," "," "," "," "," "," "]
[" "," "," "," "," "," "," "," "," "," "]
[" "," "," "," "," "," "," "," "," "," "]
[" "," "," "," "," "," "," "," "," "," "]
[" "," "," "," "," "," "," "," "," "," "]
[" "," "," "," "," "," "," "," "," "," "]
[" "," "," "," "," "," "," "," "," "," "]
[" "," "," "," "," "," "," "," "," "," "]
[" "," "," "," "," "," "," "," "," "," "]
[" "," "," "," "," "," "," "," "," "," "]
[" "," "," "," "," "," "," "," "," "," "]
[" "," "," "," "," "," "," "," "," "," "]
[" "," "," "," "," "," "," "," "," "," "]
[" "," "," "," "," "," "," "," "," "," "]
[" "," "," "," "," "," "," "," "," "," "]
[" "," "," "," "," "," "," "," "," "," "]
[" "," "," "," "," "," "," "," "," "," "]
[" "," "," "," "," "," "," "," "," "," "]
[" "," "," "," "," "," "," "," "," "," "]
[" "," "," "," "," "," "," "," "," "," "]
[" "," "," "," "," "," "," "," "," "," "]
[" "," "," "," "," "," "," "," "," "," "]
[" "," "," "," "," "," "," "," "," "," "]
[" "," "," "," "," "," "," "," "," "," "]
[" "," "," "," "," "," "," "," "," "," "]
[" "," "," "," "," "," "," "," "," "," "]
[" "," "," "," "," "," "," "," "," "," "]
[" "," "," "," "," "," "," "," "," "," "]
[" "," "," "," "," "," "," "," "," "," "]
[" "," "," "," "," "," "," "," "," "," "]
[" "," "," "," "," "," "," "," "," "," "]
[" "," "," "," "," "," "," "," "," "," "]
[" "," "," "," "," "," "," "," "," "," "]
[" "," "," "," "," "," "," "," "," "," "]
[" "," "," "," "," "," "," "," "," "," "]
[" "," "," "," "," "," "," "," "," "," "]
[" "," "," "," "," "," "," "," "," "," "]
[" "," "," "," "," "," "," "," "," "," "]
[" "," "," "," "," "," "," "," "," "," "]
[" "," "," "," "," "," "," "," "," "," "]
[" "," "," "," "," "," "," "," "," "," "]
[" "," "," "," "," "," "," "," "," "," "]
[" "," "," "," "," "," "," "," "," "," "]
[" "," "," "," "," "," "," "," "," "," "]
[" "," "," "," "," "," "," "," "," "," "]
[" "," "," "," "," "," "," "," "," "," "]
[" "," "," "," "," "," "," "," "," "," "]
[" "," "," "," "," "," "," "," "," "," "]
[" "," "," "," "," "," "," "," "," "," "]
[" "," "," "," "," "," "," "," "," "," "]
[" "," "," "," "," "," "," "," "," "," "]
[" "," "," "," "," "," "," "," "," "," "]
[" "," "," "," "," "," "," "," "," "," "]
[" "," "," "," "," "," "," "," "," "," "]
[" "," "," "," "," "," "," "," "," "," "]
[" "," "," "," "," "," "," "," "," "," "]
[" "," "," "," "," "," "," "," "," "," "]
[" "," "," "," "," "," "," "," "," "," "]
[" "," "," "," "," "," "," "," "," "," "]
[" "," "," "," "," "," "," "," "," "," "]
[" "," "," "," "," "," "," "," "," "," "]
[" "," "," "," "," "," "," "," "," "," "]
[" "," "," "," "," "," "," "," "," "," "]
[" "," "," "," "," "," "," "," "," "," "]
[" "," "," "," "," "," "," "," "," "," "]
[" "," "," "," "," "," "," "," "," "," "]
[" "," "," "," "," "," "," "," "," "," "]
[" "," "," "," "," "," "," "," "," "," "]
[" "," "," "," "," "," "," "," "," "," "]
[" "," "," "," "," "," "," "," "," "," "]
[" "," "," "," "," "," "," "," "," "," "]
[" "," "," "," "," "," "," "," "," "," "]
[" "," "," "," "," "," "," "," "," "," "]
[" "," "," "," "," "," "," "," "," "," "]
[" "," "," "," "," "," "," "," "," "," "]
[" "," "," "," "," "," "," "," "," "," "]
[" "," "," "," "," "," "," "," "," "," "]
[" "," "," "," "," "," "," "," "," "," "]
[" "," "," "," "," "," "," "," "," "," "]
[" "," "," "," "," "," "," "," "," "," "]
[" "," "," "," "," "," "," "," "," "," "]
[" "," "," "," "," "," "," "," "," "," "]
[" "," "," "," "," "," "," "," "," "," "]
[" "," "," "," "," "," "," "," "," "," "]
[" "," "," "," "," "," "," "," "," "," "]
[" "," "," "," "," "," "," "," "," "," "]
[" "," "," "," "," "," "," "," "," "," "]
[" "," "," "," "," "," "," "," "," "," "]
[" "," "," "," "," "," "," "," "," "," "]
[" "," "," "," "," "," "," "," "," "," "]
[" "," "," "," "," "," "," "," "," "," "]
[" "," "," "," "," "," "," "," "," "," "]
[" "," "," "," "," "," "," "," "," "," "]
[" "," "," "," "," "," "," "," "," "," "]
[" "," "," "," "," "," "," "," "," "," "]
[" "," "," "," "," "," "," "," "," "," "]
[" "," "," "," "," "," "," "," "," "," "]
[" "," "," "," "," "," "," "," "," "," "]
[" "," "," "," "," "," "," "," "," "," "]
[" "," "," "," "," "," "," "," "," "," "]
[" "," "," "," "," "," "," "," "," "," "]
[" "," "," "," "," "," "," "," "," "," "]
[" "," "," "," "," "," "," "," "," "," "]
[" "," "," "," "," "," "," "," "," "," "]
[" "," "," "," "," "," "," "," "," "," "]
[" "," "," "," "," "," "," "," "," "," "]
[" "," "," "," "," "," "," "," "," "," "]
[" "," "," "," "," "," "," "," "," "," "]
[" "," "," "," "," "," "," "," "," "," "]
[" "," "," "," "," "," "," "," "," "," "]
[" "," "," "," "," "," "," "," "," "," "]
[" "," "," "," "," "," "," "," "," "," "]
[" "," "," "," "," "," "," "," "," "," "]
[" "," "," "," "," "," "," "," "," "," "]
[" "," "," "," "," "," "," "," "," "," "]
[" "," "," "," "," "," "," "," "," "," "]
[" "," "," "," "," "," "," "," "," "," "]
[" "," "," "," "," "," "," "," "," "," "]
[" "," "," "," "," "," "," "," "," "," "]
[" "," "," "," "," "," "," "," "," "," "]
[" "," "," "," "," "," "," "," "," "," "]
[" "," "," "," "," "," "," "," "," "," "]
[" "," "," "," "," "," "," "," "," "," "]
[" "," "," "," "," "," "," "," "," "," "]
[" "," "," "," "," "," "," "," "," "," "]
[" "," "," "," "," "," "," "," "," "," "]
[" "," "," "," "," "," "," "," "," "," "]
[" "," "," "," "," "," "," "," "," "," "]
[" "," "," "," "," "," "," "," "," "," "]
[" "," "," "," "," "," "," "," "," "," "]
[" "," "," "," "," "," "," "," "," "," "]
[" "," "," "," "," "," "," "," "," "," "]
[" "," "," "," "," "," "," "," "," "," "]
[" "," "," "," "," "," "," "," "," "," "]
[" "," "," "," "," "," "," "," "," "," "]
[" "," "," "," "," "," "," "," "," "," "]
[" "," "," "," "," "," "," "," "," "," "]
[" "," "," "," "," "," "," "," "," "," "]
[" "," "," "," "," "," "," "," "," "," "]
[" "," "," "," "," "," "," "," "," "," "]
[" "," "," "," "," "," "," "," "," "," "]
[" "," "," "," "," "," "," "," "," "," "]
[" "," "," "," "," "," "," "," "," "," "]
[" "," "," "," "," "," "," "," "," "," "]
[" "," "," "," "," "," "," "," "," "," "]
[" "," "," "," "," "," "," "," "," "," "]
[" "," "," "," "," "," "," "," "," "," "]
[" "," "," "," "," "," "," "," "," "," "]
[" "," "," "," "," "," "," "," "," "," "]
[" "," "," "," "," "," "," "," "," "," "]
[" "," "," "," "," "," "," "," "," "," "]
[" "," "," "," "," "," "," "," "," "," "]
[" "," "," "," "," "," "," "," "," "," "]
[" "," "," "," "," "," "," "," "," "," "]
[" "," "," "," "," "," "," "," "," "," "]
[" "," "," "," "," "," "," "," "," "," "]
[" "," "," "," "," "," "," "," "," "," "]
[" "," "," "," "," "," "," "," "," "," "]
[" "," "," "," "," "," "," "," "," "," "]
[" "," "," "," "," "," "," "," "," "," "]
[" "," "," "," "," "," "," "," "," "," "]
[" "," "," "," "," "," "," "," "," "," "]
[" "," "," "," "," "," "," "," "," "," "]
[" "," "," "," "," "," "," "," "," "," "]
[" "," "," "," "," "," "," "," "," "," "]
[" "," "," "," "," "," "," "," "," "," "]
[" "," "," "," "," "," "," "," "," "," "]
[" "," "," "," "," "," "," "," "," "," "]
[" "," "," "," "," "," "," "," "," "," "]
[" "," "," "," "," "," "," "," "," "," "]
[" "," "," "," "," "," "," "," "," "," "]
[" "," "," "," "," "," "," "," "," "," "]
[" "," "," "," "," "," "," "," "," "," "]
[" "," "," "," "," "," "," "," "," "," "]
[" "," "," "," "," "," "," "," "," "," "]
[" "," "," "," "," "," "," "," "," "," "]
[" "," "," "," "," "," "," "," "," "," "]
[" "," "," "," "," "," "," "," "," "," "]
[" "," "," "," "," "," "," "," "," "," "]
[" "," "," "," "," "," "," "," "," "," "]
[" "," "," "," "," "," "," "," "," "," "]
[" "," "," "," "," "," "," "," "," "," "]
[" "," "," "," "," "," "," "," "," "," "]
[" "," "," "," "," "," "," "," "," "," "]
[" "," "," "," "," "," "," "," "," "," "]
[" "," "," "," "," "," "," "," "," "," "]
[" "," "," "," "," "," "," "," "," "," "]
[" "," "," "," "," "," "," "," "," "," "]
[" "," "," "," "," "," "," "," "," "," "]
[" "," "," "," "," "," "," "," "," "," "]
[" "," "," "," "," "," "," "," "," "," "]
[" "," "," "," "," "," "," "," "," "," "]
[" "," "," "," "," "," "," "," "," "," "]
[" "," "," "," "," "," "," "," "," "," "]
[" "," "," "," "," "," "," "," "," "," "]
[" "," "," "," "," "," "," "," "," "," "]
[" "," "," "," "," "," "," "," "," "," "]
[" "," "," "," "," "," "," "," "," "," "]
[" "," "," "," "," "," "," "," "," "," "]
[" "," "," "," "," "," "," "," "," "," "]
[" "," "," "," "," "," "," "," "," "," "]
[" "," "," "," "," "," "," "," "," "," "]
[" "," "," "," "," "," "," "," "," "," "]
[" "," "," "," "," "," "," "," "," "," "]
[" "," "," "," "," "," "," "," "," "," "]
[" "," "," "," "," "," "," "," "," "," "]
[" "," "," "," "," "," "," "," "," "," "]
[" "," "," "," "," "," "," "," "," "," "]
[" "," "," "," "," "," "," "," "," "," "]
[" "," "," "," "," "," "," "," "," "," "]
[" "," "," "," "," "," "," "," "," "," "]
[" "," "," "," "," "," "," "," "," "," "]
[" "," "," "," "," "," "," "," "," "," "]
[" "," "," "," "," "," "," "," "," "," "]
[" "," "," "," "," "," "," "," "," "," "]
[" "," "," "," "," "," "," "," "," "," "]
[" "," "," "," "," "," "," "," "," "," "]
[" "," "," "," "," "," "," "," "," "," "]
[" "," "," "," "," "," "," "," "," "," "]
[" "," "," "," "," "," "," "," "," "," "]
[" "," "," "," "," "," "," "," "," "," "]
[" "," "," "," "," "," "," "," "," "," "]
[" "," "," "," "," "," "," "," "," "," "]
[" "," "," "," "," "," "," "," "," "," "]
[" "," "," "," "," "," "," "," "," "," "]
[" "," "," "," "," "," "," "," "," "," "]
[" "," "," "," "," "," "," "," "," "," "]
[" "," "," "," "," "," "," "," "," "," "]
[" "," "," "," "," "," "," "," "," "," "]
[" "," "," "," "," "," "," "," "," "," "]
[" "," "," "," "," "," "," "," "," "," "]
[" "," "," "," "," "," "," "," "," "," "]
[" "," "," "," "," "," "," "," "," "," "]
[" "," "," "," "," "," "," "," "," "," "]
[" "," "," "," "," "," "," "," "," "," "]
[" "," "," "," "," "," "," "," "," "," "]
[" "," "," "," "," "," "," "," "," "," "]
[" "," "," "," "," "," "," "," "," "," "]
[" "," "," "," "," "," "," "," "," "," "]
[" "," "," "," "," "," "," "," "," "," "]
[" "," "," "," "," "," "," "," "," "," "]
[" "," "," "," "," "," "," "," "," "," "]
[" "," "," "," "," "," "," "," "," "," "]
[" "," "," "," "," "," "," "," "," "," "]
[" "," "," "," "," "," "," "," "," "," "]
[" "," "," "," "," "," "," "," "," "," "]
[" "," "," "," "," "," "," "," "," "," "]
[" "," "," "," "," "," "," "," "," "," "]
[" "," "," "," "," "," "," "," "," "," "]
[" "," "," "," "," "," "," "," "," "," "]
[" "," "," "," "," "," "," "," "," "," "]
[" "," "," "," "," "," "," "," "," "," "]
[" "," "," "," "," "," "," "," "," "," "]
[" "," "," "," "," "," "," "," "," "," "]
[" "," "," "," "," "," "," "," "," "," "]
[" "," "," "," "," "," "," "," "," "," "]
[" "," "," "," "," "," "," "," "," "," "]
[" "," "," "," "," "," "," "," "," "," "]
[" "," "," "," "," "," "," "," "," "," "]
[" "," "," "," "," "," "," "," "," "," "]
[" "," "," "," "," "," "," "," "," "," "]
[" "," "," "," "," "," "," "," "," "," "]
[" "," "," "," "," "," "," "," "," "," "]
[" "," "," "," "," "," "," "," "," "," "]
[" "," "," "," "," "," "," "," "," "," "]
[" "," "," "," "," "," "," "," "," "," "]
[" "," "," "," "," "," "," "," "," "," "]
[" "," "," "," "," "," "," "," "," "," "]
[" "," "," "," "," "," "," "," "," "," "]
[" "," "," "," "," "," "," "," "," "," "]
[" "," "," "," "," "," "," "," "," "," "]
[" "," "," "," "," "," "," "," "," "," "]
[" "," "," "," "," "," "," "," "," "," "]
[" "," "," "," "," "," "," "," "," "," "]
[" "," "," "," "," "," "," "," "," "," "]
[" "," "," "," "," "," "," "," "," "," "]
[" "," "," "," "," "," "," "," "," "," "]
[" "," "," "," "," "," "," "," "," "," "]
[" "," "," "," "," "," "," "," "," "," "]
[" "," "," "," "," "," "," "," "," "," "]
[" "," "," "," "," "," "," "," "," "," "]
[" "," "," "," "," "," "," "," "," "," "]
[" "," "," "," "," "," "," "," "," "," "]
[" "," "," "," "," "," "," "," "," "," "]
[" "," "," "," "," "," "," "," "," "," "]
[" "," "," "," "," "," "," "," "," "," "]
[" "," "," "," "," "," "," "," "," "," "]
[" "," "," "," "," "," "," "," "," "," "]
[" "," "," "," "," "," "," "," "," "," "]
[" "," "," "," "," "," "," "," "," "," "]
[" "," "," "," "," "," "," "," "," "," "]
[" "," "," "," "," "," "," "," "," "," "]
[" "," "," "," "," "," "," "," "," "," "]
[" "," "," "," "," "," "," "," "," "," "]
[" "," "," "," "," "," "," "," "," "," "]
[" "," "," "," "," "," "," "," "," "," "]
[" "," "," "," "," "," "," "," "," "," "]
[" "," "," "," "," "," "," "," "," "," "]
[" "," "," "," "," "," "," "," "," "," "]
[" "," "," "," "," "," "," "," "," "," "]
[" "," "," "," "," "," "," "," "," "," "]
[" "," "," "," "," "," "," "," "," "," "]
[" "," "," "," "," "," "," "," "," "," "]
[" "," "," "," "," "," "," "," "," "," "]
[" "," "," "," "," "," "," "," "," "," "]
[" "," "," "," "," "," "," "," "," "," "]
[" "," "," "," "," "," "," "," "," "," "]
[" "," "," "," "," "," "," "," "," "," "]
[" "," "," "," "," "," "," "," "," "," "]
[" "," "," "," "," "," "," "," "," "," "]
[" "," "," "," "," "," "," "," "," "," "]
[" "," "," "," "," "," "," "," "," "," "]
[" "," "," "," "," "," "," "," "," "," "]
[" "," "," "," "," "," "," "," "," "," "]
[" "," "," "," "," "," "," "," "," "," "]
[" "," "," "," "," "," "," "," "," "," "]
[" "," "," "," "," "," "," "," "," "," "]
[" "," "," "," "," "," "," "," "," "," "]
[" "," "," "," "," "," "," "," "," "," "]
[" "," "," "," "," "," "," "," "," "," "]
[" "," "," "," "," "," "," "," "," "," "]
[" "," "," "," "," "," "," "," "," "," "]
[" "," "," "," "," "," "," "," "," "," "]
[" "," "," "," "," "," "," "," "," "," "]
[" "," "," "," "," "," "," "," "," "," "]
[" "," "," "," "," "," "," "," "," "," "]
[" "," "," "," "," "," "," "," "," "," "]
[" "," "," "," "," "," "," "," "," "," "]
[" "," "," "," "," "," "," "," "," "," "]
[" "," "," "," "," "," "," "," "," "," "]
[" "," "," "," "," "," "," "," "," "," "]

{"sheet":"SINTESI L-V 1234","index":5,"n_rows":2248,"n_cols":6,"rows_kept":2248,"cut":false,"hidden":false,"merged":[]}
[]
[null,"DATI PER DIAGRAMMA DI SINTESI LV1 LV2 LV3 LV4"]
[]
[]
[]
[]
[{"$f":"'LV 1'!A11","v":1},{"$f":"'LV 1'!C11","v":20},{"$f":"'LV 1'!D11","v":3.5}]
[{"$f":"'LV 1'!A12","v":2},{"$f":"'LV 1'!C12","v":19.919088371536358},{"$f":"'LV 1'!D12","v":3.5420210867311819}]
[{"$f":"'LV 1'!A13","v":3},{"$f":"'LV 1'!C13","v":19.820509215484783},{"$f":"'LV 1'!D13","v":3.5840061408403607}]
[{"$f":"'LV 1'!A14","v":4},{"$f":"'LV 1'!C14","v":19.704569099144045},{"$f":"'LV 1'!D14","v":3.6258352606457471}]
[{"$f":"'LV 1'!A15","v":5},{"$f":"'LV 1'!C15","v":19.571670595720533},{"$f":"'LV 1'!D15","v":3.667385686005459}]
[{"$f":"'LV 1'!A16","v":6},{"$f":"'LV 1'!C16","v":19.42230962052901},{"$f":"'LV 1'!D16","v":3.7085325895526173}]
[{"$f":"'LV 1'!A17","v":7},{"$f":"'LV 1'!C17","v":19.257071567844566},{"$f":"'LV 1'!D17","v":3.7491499251929352}]
[{"$f":"'LV 1'!A18","v":8},{"$f":"'LV 1'!C18","v":19.076626297569568},{"$f":"'LV 1'!D18","v":3.7891113223339312}]
[{"$f":"'LV 1'!A19","v":9},{"$f":"'LV 1'!C19","v":18.881722048285727},{"$f":"'LV 1'!D19","v":3.8282910128018286}]
[{"$f":"'LV 1'!A20","v":10},{"$f":"'LV 1'!C20","v":18.673178378947451},{"$f":"'LV 1'!D20","v":3.866564776201483}]
[{"$f":"'LV 1'!A21","v":11},{"$f":"'LV 1'!C21","v":18.451878264455697},{"$f":"'LV 1'!D21","v":3.9038108886429477}]
[{"$f":"'LV 1'!A22","v":12},{"$f":"'LV 1'!C22","v":18.218759489749772},{"$f":"'LV 1'!D22","v":3.9399110593379985}]
[{"$f":"'LV 1'!A23","v":13},{"$f":"'LV 1'!C23","v":17.974805502137382},{"$f":"'LV 1'!D23","v":3.9747513395865375}]
[{"$f":"'LV 1'!A24","v":14},{"$f":"'LV 1'!C24","v":17.721035891810825},{"$f":"'LV 1'!D24","v":4.0082229891329275}]
[{"$f":"'LV 1'!A25","v":15},{"$f":"'LV 1'!C25","v":17.458496675551025},{"$f":"'LV 1'!D25","v":4.0402232857631128}]
[{"$f":"'LV 1'!A26","v":16},{"$f":"'LV 1'!C26","v":17.188250558417508},{"$f":"'LV 1'!D26","v":4.0706562653030272}]
[{"$f":"'LV 1'!A27","v":17},{"$f":"'LV 1'!C27","v":16.911367342913707},{"$f":"'LV 1'!D27","v":4.099433380818204}]
[{"$f":"'LV 1'!A28","v":18},{"$f":"'LV 1'!C28","v":16.628914645076158},{"$f":"'LV 1'!D28","v":4.1264740717401578}]
[{"$f":"'LV 1'!A29","v":19},{"$f":"'LV 1'!C29","v":16.341949062728734},{"$f":"'LV 1'!D29","v":4.1517062357825774}]
[{"$f":"'LV 1'!A30","v":20},{"$f":"'LV 1'!C30","v":16.051507923489336},{"$f":"'LV 1'!D30","v":4.1750665987786197}]
[{"$f":"'LV 1'!A31","v":21},{"$f":"'LV 1'!C31","v":15.758601719844055},{"$f":"'LV 1'!D31","v":4.1965009798862445}]
[{"$f":"'LV 1'!A32","v":22},{"$f":"'LV 1'!C32","v":15.4642073165995},{"$f":"'LV 1'!D32","v":4.2159644518902759}]
[{"$f":"'LV 1'!A33","v":23},{"$f":"'LV 1'!C33","v":15.16926199318295},{"$f":"'LV 1'!D33","v":4.2334213985025499}]
[{"$f":"'LV 1'!A34","v":24},{"$f":"'LV 1'!C34","v":14.874658360440389},{"$f":"'LV 1'!D34","v":4.2488454725590525}]
[{"$f":"'LV 1'!A35","v":25},{"$f":"'LV 1'!C35","v":14.581240169565872},{"$f":"'LV 1'!D35","v":4.2622194607814645}]
[{"$f":"'LV 1'!A36","v":26},{"$f":"'LV 1'!C36","v":14.289799010255132},{"$f":"'LV 1'!D36","v":4.2735350622694135}]
[{"$f":"'LV 1'!A37","v":27},{"$f":"'LV 1'!C37","v":14.001071876656072},{"$f":"'LV 1'!D37","v":4.2827925890926748}]
[{"$f":"'LV 1'!A38","v":28},{"$f":"'LV 1'!C38","v":13.715739563591075},{"$f":"'LV 1'!D38","v":4.2900005982473548}]
[{"$f":"'LV 1'!A39","v":29},{"$f":"'LV 1'!C39","v":13.434425842110334},{"$f":"'LV 1'!D39","v":4.2951754648275475}]
[{"$f":"'LV 1'!A40","v":30},{"$f":"'LV 1'!C40","v":13.157697352823227},{"$f":"'LV 1'!D40","v":4.298340906556577}]
[{"$f":"'LV 1'!A41","v":31},{"$f":"'LV 1'!C41","v":12.886064147643335},{"$f":"'LV 1'!D41","v":4.2995274698418475}]
[{"$f":"'LV 1'!A42","v":32},{"$f":"'LV 1'!C42","v":12.619980805462001},{"$f":"'LV 1'!D42","v":4.2987719872940708}]
[{"$f":"'LV 1'!A43","v":33},{"$f":"'LV 1'!C43","v":12.359848044639044},{"$f":"'LV 1'!D43","v":4.2961170162199203}]
[{"$f":"'LV 1'!A44","v":34},{"$f":"'LV 1'!C44","v":12.106014754806521},{"$f":"'LV 1'!D44","v":4.2916102669946588}]
[{"$f":"'LV 1'!A45","v":35},{"$f":"'LV 1'!C45","v":11.85878037201862},{"$f":"'LV 1'!D45","v":4.2853040294865234}]
[{"$f":"'LV 1'!A46","v":36},{"$f":"'LV 1'!C46","v":11.618397524421338},{"$f":"'LV 1'!D46","v":4.2772546048754165}]
[{"$f":"'LV 1'!A47","v":37},{"$f":"'LV 1'!C47","v":11.385074880028212},{"$f":"'LV 1'!D47","v":4.2675217493201503}]
[{"$f":"'LV 1'!A48","v":38},{"$f":"'LV 1'!C48","v":11.158980133550941},{"$f":"'LV 1'!D48","v":4.2561681350134126}]
[{"$f":"'LV 1'!A49","v":39},{"$f":"'LV 1'!C49","v":10.940243075245974},{"$f":"'LV 1'!D49","v":4.243258833249735}]
[{"$f":"'LV 1'!A50","v":40},{"$f":"'LV 1'!C50","v":10.728958691128494},{"$f":"'LV 1'!D50","v":4.2288608232428473}]
[{"$f":"'LV 1'!A51","v":41},{"$f":"'LV 1'!C51","v":10.525190250437751},{"$f":"'LV 1'!D51","v":4.2130425295838609}]
[{"$f":"'LV 1'!A52","v":42},{"$f":"'LV 1'!C52","v":10.328972342713156},{"$f":"'LV 1'!D52","v":4.1958733904453851}]
[{"$f":"'LV 1'!A53","v":43},{"$f":"'LV 1'!C53","v":10.140313833098006},{"$f":"'LV 1'!D53","v":4.1774234579192653}]
[{"$f":"'LV 1'!A54","v":44},{"$f":"'LV 1'!C54","v":9.9592007104026106},{"$f":"'LV 1'!D54","v":4.1577630312336753}]
[{"$f":"'LV 1'!A55","v":45},{"$f":"'LV 1'!C55","v":9.7855988079400511},{"$f":"'LV 1'!D55","v":4.1369623230320292}]
[{"$f":"'LV 1'!A56","v":46},{"$f":"'LV 1'!C56","v":9.6194563821355228},{"$f":"'LV 1'!D56","v":4.1150911584119525}]
[{"$f":"'LV 1'!A57","v":47},{"$f":"'LV 1'!C57","v":9.4607065383699371},{"$f":"'LV 1'!D57","v":4.0922187060154744}]
[{"$f":"'LV 1'!A58","v":48},{"$f":"'LV 1'!C58","v":9.3092694974380059},{"$f":"'LV 1'!D58","v":4.0684132401280042}]
[{"$f":"'LV 1'!A59","v":49},{"$f":"'LV 1'!C59","v":9.1650546993861912},{"$f":"'LV 1'!D59","v":4.0437419324785102}]
[{"$f":"'LV 1'!A60","v":50},{"$f":"'LV 1'!C60","v":9.0279627443661656},{"$f":"'LV 1'!D60","v":4.0182706722307753}]
[{"$f":"'LV 1'!A61","v":51},{"$f":"'LV 1'!C61","v":8.8978871725246904},{"$f":"'LV 1'!D61","v":3.9920639125092299}]
[{"$f":"'LV 1'!A62","v":52},{"$f":"'LV 1'!C62","v":8.7747160868880822},{"$f":"'LV 1'!D62","v":3.9651845417060478}]
[{"$f":"'LV 1'!A63","v":53},{"$f":"'LV 1'!C63","v":8.6583336247300338},{"$f":"'LV 1'!D63","v":3.9376937777622847}]
[{"$f":"'LV 1'!A64","v":54},{"$f":"'LV 1'!C64","v":8.5486212840791218},{"$f":"'LV 1'!D64","v":3.9096510835984915}]
[{"$f":"'LV 1'!A65","v":55},{"$f":"'LV 1'!C65","v":8.4454591128706173},{"$f":"'LV 1'!D65","v":3.8811141018833566}]
[{"$f":"'LV 1'!A66","v":56},{"$f":"'LV 1'!C66","v":8.3487267688192457},{"$f":"'LV 1'!D66","v":3.8521386073669466}]
[{"$f":"'LV 1'!A67","v":57},{"$f":"'LV 1'!C67","v":8.2583044584260268},{"$f":"'LV 1'!D67","v":3.8227784750629286}]
[{"$f":"'LV 1'!A68","v":58},{"$f":"'LV 1'!C68","v":8.1740737636712257},{"$f":"'LV 1'!D68","v":3.7930856626372345}]
[{"$f":"'LV 1'!A69","v":59},{"$f":"'LV 1'!C69","v":8.0959183649216797},{"$f":"'LV 1'!D69","v":3.7631102054449488}]
[{"$f":"'LV 1'!A70","v":60},{"$f":"'LV 1'!C70","v":8.0237246684254639},{"$f":"'LV 1'!D70","v":3.7329002227493389}]
[{"$f":"'LV 1'!A71","v":61},{"$f":"'LV 1'!C71","v":7.957382346507865},{"$f":"'LV 1'!D71","v":3.7025019337539176}]
[{"$f":"'LV 1'!A72","v":62},{"$f":"'LV 1'!C72","v":7.8967847982441013},{"$f":"'LV 1'!D72","v":3.6719596821777851}]
[{"$f":"'LV 1'!A73","v":63},{"$f":"'LV 1'!C73","v":7.8418295379870866},{"$f":"'LV 1'!D73","v":3.6413159682041916}]
[{"$f":"'LV 1'!A74","v":64},{"$f":"'LV 1'!C74","v":7.7924185186904928},{"$f":"'LV 1'!D74","v":3.6106114867306363}]
[{"$f":"'LV 1'!A75","v":65},{"$f":"'LV 1'!C75","v":7.7484583965032989},{"$f":"'LV 1'!D75","v":3.5798851709446096}]
[{"$f":"'LV 1'!A76","v":66},{"$f":"'LV 1'!C76","v":7.7098607426341568},{"$f":"'LV 1'!D76","v":3.5491742403412498}]
[{"$f":"'LV 1'!A77","v":67},{"$f":"'LV 1'!C77","v":7.6765422080022088},{"$f":"'LV 1'!D77","v":3.5185142523870319}]
[{"$f":"'LV 1'!A78","v":68},{"$f":"'LV 1'!C78","v":7.648424645713348},{"$f":"'LV 1'!D78","v":3.4879391571165859}]
[{"$f":"'LV 1'!A79","v":69},{"$f":"'LV 1'!C79","v":7.6254351959334548},{"$f":"'LV 1'!D79","v":3.4574813540275646}]
[{"$f":"'LV 1'!A80","v":70},{"$f":"'LV 1'!C80","v":7.6075063372774894},{"$f":"'LV 1'!D80","v":3.4271717507109241}]
[{"$f":"'LV 1'!A81","v":71},{"$f":"'LV 1'!C81","v":7.5945759083988174},{"$f":"'LV 1'!D81","v":3.3970398227210428}]
[{"$f":"'LV 1'!A82","v":72},{"$f":"'LV 1'!C82","v":7.5865871030490588},{"$f":"'LV 1'!D82","v":3.3671136742518044}]
[{"$f":"'LV 1'!A83","v":73},{"$f":"'LV 1'!C83","v":7.5834884414864749},{"$f":"'LV 1'!D83","v":3.3374200992412284}]
[{"$f":"'LV 1'!A84","v":74},{"$f":"'LV 1'!C84","v":7.5852337207411153},{"$f":"'LV 1'!D84","v":3.3079846425786643}]
[{"$f":"'LV 1'!A85","v":75},{"$f":"'LV 1'!C85","v":7.591781945897754},{"$f":"'LV 1'!D85","v":3.2788316611351531}]
[{"$f":"'LV 1'!A86","v":76},{"$f":"'LV 1'!C86","v":7.6030972442327061},{"$f":"'LV 1'!D86","v":3.2499843843795917}]
[{"$f":"'LV 1'!A87","v":77},{"$f":"'LV 1'!C87","v":7.6191487637372539},{"$f":"'LV 1'!D87","v":3.2214649743810666}]
[{"$f":"'LV 1'!A88","v":78},{"$f":"'LV 1'!C88","v":7.6399105572777266},{"$f":"'LV 1'!D88","v":3.1932945850314298}]
[{"$f":"'LV 1'!A89","v":79},{"$f":"'LV 1'!C89","v":7.6653614533791279},{"$f":"'LV 1'!D89","v":3.1654934203521687}]
[{"$f":"'LV 1'!A90","v":80},{"$f":"'LV 1'!C90","v":7.6954849143744575},{"$f":"'LV 1'!D90","v":3.1380807917761304}]
[{"$f":"'LV 1'!A91","v":81},{"$f":"'LV 1'!C91","v":7.7302688824341974},{"$f":"'LV 1'!D91","v":3.1110751743179939}]
[{"$f":"'LV 1'!A92","v":82},{"$f":"'LV 1'!C92","v":7.7697056137786209},{"$f":"'LV 1'!D92","v":3.0844942615677646}]
[{"$f":"'LV 1'!A93","v":83},{"$f":"'LV 1'!C93","v":7.8137915011783576},{"$f":"'LV 1'!D93","v":3.058355019459273}]
[{"$f":"'LV 1'!A94","v":84},{"$f":"'LV 1'!C94","v":7.8625268846648071},{"$f":"'LV 1'!D94","v":3.0326737387808893}]
[{"$f":"'LV 1'!A95","v":85},{"$f":"'LV 1'!C95","v":7.9159158502004701},{"$f":"'LV 1'!D95","v":3.0074660864086531}]
[{"$f":"'LV 1'!A96","v":86},{"$f":"'LV 1'!C96","v":7.9739660158989762},{"$f":"'LV 1'!D96","v":2.9827471552529286}]
[{"$f":"'LV 1'!A97","v":87},{"$f":"'LV 1'!C97","v":8.0366883052346623},{"$f":"'LV 1'!D97","v":2.9585315129187362}]
[{"$f":"'LV 1'!A98","v":88},{"$f":"'LV 1'!C98","v":8.104096706541208},{"$f":"'LV 1'!D98","v":2.9348332490871973}]
[{"$f":"'LV 1'!A99","v":89},{"$f":"'LV 1'!C99","v":8.176208017967415},{"$f":"'LV 1'!D99","v":2.9116660216312393}]
[{"$f":"'LV 1'!A100","v":90},{"$f":"'LV 1'!C100","v":8.2530415769351979},{"$f":"'LV 1'!D100","v":2.8890431014829332}]
[{"$f":"'LV 1'!A101","v":91},{"$f":"'LV 1'!C101","v":8.3346189730299898},{"$f":"'LV 1'!D101","v":2.8669774162726891}]
[{"$f":"'LV 1'!A102","v":92},{"$f":"'LV 1'!C102","v":8.4209637431467641},{"$f":"'LV 1'!D102","v":2.8454815927621078}]
[{"$f":"'LV 1'!A103","v":93},{"$f":"'LV 1'!C103","v":8.5121010476158432},{"$f":"'LV 1'!D103","v":2.824567998092637}]
[{"$f":"'LV 1'!A104","v":94},{"$f":"'LV 1'!C104","v":8.6080573259417914},{"$f":"'LV 1'!D104","v":2.8042487798713842}]
[{"$f":"'LV 1'!A105","v":95},{"$f":"'LV 1'!C105","v":8.7088599307063195},{"$f":"'LV 1'!D105","v":2.7845359051134984}]
[{"$f":"'LV 1'!A106","v":96},{"$f":"'LV 1'!C106","v":8.8145367381129773},{"$f":"'LV 1'!D106","v":2.7654411980575273}]
[{"$f":"'LV 1'!A107","v":97},{"$f":"'LV 1'!C107","v":8.9251157335882318},{"$f":"'LV 1'!D107","v":2.746976376866038}]
[{"$f":"'LV 1'!A108","v":98},{"$f":"'LV 1'!C108","v":9.0406245708014605},{"$f":"'LV 1'!D108","v":2.7291530892186038}]
[{"$f":"'LV 1'!A109","v":99},{"$f":"'LV 1'!C109","v":9.1610901024268081},{"$f":"'LV 1'!D109","v":2.7119829467979675}]
[{"$f":"'LV 1'!A110","v":100},{"$f":"'LV 1'!C110","v":9.2865378809442749},{"$f":"'LV 1'!D110","v":2.6954775586627644}]
[{"$f":"'LV 1'!A111","v":101},{"$f":"'LV 1'!C111","v":9.4169916277678354},{"$f":"'LV 1'!D111","v":2.6796485634915999}]
[{"$f":"'LV 1'!A112","v":102},{"$f":"'LV 1'!C112","v":9.5524726689970088},{"$f":"'LV 1'!D112","v":2.6645076606734692}]
[{"$f":"'LV 1'!A113","v":103},{"$f":"'LV 1'!C113","v":9.6929993361175839},{"$f":"'LV 1'!D113","v":2.6500666402084097}]
[{"$f":"'LV 1'!A114","v":104},{"$f":"'LV 1'!C114","v":9.8385863300301324},{"$f":"'LV 1'!D114","v":2.6363374113698383}]
[{"$f":"'LV 1'!A115","v":105},{"$f":"'LV 1'!C115","v":9.9892440468646182},{"$f":"'LV 1'!D115","v":2.6233320300661553}]
[{"$f":"'LV 1'!A116","v":106},{"$f":"'LV 1'!C116","v":10.144977864149514},{"$f":"'LV 1'!D116","v":2.6110627248237996}]
[{"$f":"'LV 1'!A117","v":107},{"$f":"'LV 1'!C117","v":10.305787386048245},{"$f":"'LV 1'!D117","v":2.5995419212969426}]
[{"$f":"'LV 1'!A118","v":108},{"$f":"'LV 1'!C118","v":10.471665646558861},{"$f":"'LV 1'!D118","v":2.5887822651903054}]
[{"$f":"'LV 1'!A119","v":109},{"$f":"'LV 1'!C119","v":10.642598269799295},{"$f":"'LV 1'!D119","v":2.5787966434610587}]
[{"$f":"'LV 1'!A120","v":110},{"$f":"'LV 1'!C120","v":10.8185625867754},{"$f":"'LV 1'!D120","v":2.5695982036433676}]
[{"$f":"'LV 1'!A121","v":111},{"$f":"'LV 1'!C121","v":10.999526708357658},{"$f":"'LV 1'!D121","v":2.5612003711147238}]
[{"$f":"'LV 1'!A122","v":112},{"$f":"'LV 1'!C122","v":11.185448554580596},{"$f":"'LV 1'!D122","v":2.5536168640967367}]
[{"$f":"'LV 1'!A123","v":113},{"$f":"'LV 1'!C123","v":11.376274840832588},{"$f":"'LV 1'!D123","v":2.546861706154429}]
[{"$f":"'LV 1'!A124","v":114},{"$f":"'LV 1'!C124","v":11.571940022028922},{"$f":"'LV 1'!D124","v":2.5409492359272745}]
[{"$f":"'LV 1'!A125","v":115},{"$f":"'LV 1'!C125","v":11.772365196463989},{"$f":"'LV 1'!D125","v":2.535894113792204}]
[{"$f":"'LV 1'!A126","v":116},{"$f":"'LV 1'!C126","v":11.97745697172542},{"$f":"'LV 1'!D126","v":2.5317113251236014}]
[{"$f":"'LV 1'!A127","v":117},{"$f":"'LV 1'!C127","v":12.187106295829929},{"$f":"'LV 1'!D127","v":2.5284161797780023}]
[{"$f":"'LV 1'!A128","v":118},{"$f":"'LV 1'!C128","v":12.401187257613083},{"$f":"'LV 1'!D128","v":2.5260243073918915}]
[{"$f":"'LV 1'!A129","v":119},{"$f":"'LV 1'!C129","v":12.619555861378338},{"$f":"'LV 1'!D129","v":2.5245516480399135}]
[{"$f":"'LV 1'!A130","v":120},{"$f":"'LV 1'!C130","v":12.842048781888458},{"$f":"'LV 1'!D130","v":2.5240144377582001}]
[{"$f":"'LV 1'!A131","v":121},{"$f":"'LV 1'!C131","v":13.068482106967904},{"$f":"'LV 1'!D131","v":2.5244291883938303}]
[{"$f":"'LV 1'!A132","v":122},{"$f":"'LV 1'!C132","v":13.29865007627915},{"$f":"'LV 1'!D132","v":2.5258126611971599}]
[{"$f":"'LV 1'!A133","v":123},{"$f":"'LV 1'!C133","v":13.532323826238622},{"$f":"'LV 1'!D133","v":2.5281818335295543}]
[{"$f":"'LV 1'!A134","v":124},{"$f":"'LV 1'!C134","v":13.769250152545675},{"$f":"'LV 1'!D134","v":2.5315538580158132}]
[{"$f":"'LV 1'!A135","v":125},{"$f":"'LV 1'!C135","v":14.009150303404521},{"$f":"'LV 1'!D135","v":2.5359460134292484}]
[{"$f":"'LV 1'!A136","v":126},{"$f":"'LV 1'!C136","v":14.251718818214247},{"$f":"'LV 1'!D136","v":2.5413756465592963}]
[{"$f":"'LV 1'!A137","v":127},{"$f":"'LV 1'!C137","v":14.496622428271632},{"$f":"'LV 1'!D137","v":2.5478601042781444}]
[{"$f":"'LV 1'!A138","v":128},{"$f":"'LV 1'!C138","v":14.743499037855948},{"$f":"'LV 1'!D138","v":2.5554166549959141}]
[{"$f":"'LV 1'!A139","v":129},{"$f":"'LV 1'!C139","v":14.991956805919052},{"$f":"'LV 1'!D139","v":2.5640623986755084}]
[{"$f":"'LV 1'!A140","v":130},{"$f":"'LV 1'!C140","v":15.241573350456042},{"$f":"'LV 1'!D140","v":2.573814164570646}]
[{"$f":"'LV 1'!A141","v":131},{"$f":"'LV 1'!C141","v":15.491895099442539},{"$f":"'LV 1'!D141","v":2.5846883958565128}]
[{"$f":"'LV 1'!A142","v":132},{"$f":"'LV 1'!C142","v":15.742436813947499},{"$f":"'LV 1'!D142","v":2.5967010203448386}]
[{"$f":"'LV 1'!A143","v":133},{"$f":"'LV 1'!C143","v":15.992681310609877},{"$f":"'LV 1'!D143","v":2.6098673065173115}]
[{"$f":"'LV 1'!A144","v":134},{"$f":"'LV 1'!C144","v":16.242079412039903},{"$f":"'LV 1'!D144","v":2.6242017041765999}]
[{"$f":"'LV 1'!A145","v":135},{"$f":"'LV 1'!C145","v":16.490050154798173},{"$f":"'LV 1'!D145","v":2.6397176691066186}]
[{"$f":"'LV 1'!A146","v":136},{"$f":"'LV 1'!C146","v":16.73598128533725},{"$f":"'LV 1'!D146","v":2.6564274712569476}]
[{"$f":"'LV 1'!A147","v":137},{"$f":"'LV 1'!C147","v":16.979230074571991},{"$f":"'LV 1'!D147","v":2.6743419861244235}]
[{"$f":"'LV 1'!A148","v":138},{"$f":"'LV 1'!C148","v":17.219124481480758},{"$f":"'LV 1'!D148","v":2.6934704692017508}]
[{"$f":"'LV 1'!A149","v":139},{"$f":"'LV 1'!C149","v":17.454964695229592},{"$f":"'LV 1'!D149","v":2.7138203136020809}]
[{"$f":"'LV 1'!A150","v":140},{"$f":"'LV 1'!C150","v":17.686025083652851},{"$f":"'LV 1'!D150","v":2.7353967912530748}]
[{"$f":"'LV 1'!A151","v":141},{"$f":"'LV 1'!C151","v":17.911556573414895},{"$f":"'LV 1'!D151","v":2.7582027783863454}]
[{"$f":"'LV 1'!A152","v":142},{"$f":"'LV 1'!C152","v":18.130789483721816},{"$f":"'LV 1'!D152","v":2.7822384664298436}]
[{"$f":"'LV 1'!A153","v":143},{"$f":"'LV 1'!C153","v":18.342936830963591},{"$f":"'LV 1'!D153","v":2.8075010598417722}]
[{"$f":"'LV 1'!A154","v":144},{"$f":"'LV 1'!C154","v":18.547198116075215},{"$f":"'LV 1'!D154","v":2.8339844629034134}]
[{"$f":"'LV 1'!A155","v":145},{"$f":"'LV 1'!C155","v":18.742763599662627},{"$f":"'LV 1'!D155","v":2.8616789580112192}]
[{"$f":"'LV 1'!A156","v":146},{"$f":"'LV 1'!C156","v":18.928819062027628},{"$f":"'LV 1'!D156","v":2.8905708785696396}]
[{"$f":"'LV 1'!A157","v":147},{"$f":"'LV 1'!C157","v":19.10455103616507},{"$f":"'LV 1'!D157","v":2.9206422801766854}]
[{"$f":"'LV 1'!A158","v":148},{"$f":"'LV 1'!C158","v":19.26915249165932},{"$f":"'LV 1'!D158","v":2.951870614402361}]
[{"$f":"'LV 1'!A159","v":149},{"$f":"'LV 1'!C159","v":19.421828936291075},{"$f":"'LV 1'!D159","v":2.9842284100708651}]
[{"$f":"'LV 1'!A160","v":150},{"$f":"'LV 1'!C160","v":19.561804890253701},{"$f":"'LV 1'!D160","v":3.0176829675525085}]
[{"$f":"'LV 1'!A161","v":151},{"$f":"'LV 1'!C161","v":19.688330675405147},{"$f":"'LV 1'!D161","v":3.0521960721290875}]
[{"$f":"'LV 1'!A162","v":152},{"$f":"'LV 1'!C162","v":19.800689449246384},{"$f":"'LV 1'!D162","v":3.0877237329924623}]
[{"$f":"'LV 1'!A163","v":153},{"$f":"'LV 1'!C163","v":19.898204400681237},{"$f":"'LV 1'!D163","v":3.1242159548433741}]
[{"$f":"'LV 1'!A164","v":154},{"$f":"'LV 1'!C164","v":19.98024601249444},{"$f":"'LV 1'!D164","v":3.1616165493474178}]
[{"$f":"'LV 1'!A165","v":155},{"$f":"'LV 1'!C165","v":20.046239284351397},{"$f":"'LV 1'!D165","v":3.1998629938483241}]
[{"$f":"'LV 1'!A166","v":156},{"$f":"'LV 1'!C166","v":20.095670800476153},{"$f":"'LV 1'!D166","v":3.2388863447066671}]
[{"$f":"'LV 1'!A167","v":157},{"$f":"'LV 1'!C167","v":20.12809551852034},{"$f":"'LV 1'!D167","v":3.278611212398431}]
[{"$f":"'LV 1'!A168","v":158},{"$f":"'LV 1'!C168","v":20.143143151005393},{"$f":"'LV 1'!D168","v":3.3189558050501411}]
[{"$f":"'LV 1'!A169","v":159},{"$f":"'LV 1'!C169","v":20.140524008579494},{"$f":"'LV 1'!D169","v":3.3598320463889153}]
[{"$f":"'LV 1'!A170","v":160},{"$f":"'LV 1'!C170","v":20.120034175592448},{"$f":"'LV 1'!D170","v":3.4011457731379098}]
[{"$f":"'LV 1'!A171","v":161},{"$f":"'LV 1'!C171","v":20.081559893476694},{"$f":"'LV 1'!D171","v":3.4427970156907373}]
[{"$f":"'LV 1'!A172","v":162},{"$f":"'LV 1'!C172","v":20.025081036328562},{"$f":"'LV 1'!D172","v":3.4846803644638373}]
[{"$f":"'LV 1'!A173","v":163},{"$f":"'LV 1'!C173","v":19.950673575961442},{"$f":"'LV 1'!D173","v":3.5266854226766586}]
[{"$f":"'LV 1'!A174","v":164},{"$f":"'LV 1'!C174","v":19.858510950433963},{"$f":"'LV 1'!D174","v":3.5686973444812686}]
[{"$f":"'LV 1'!A175","v":165},{"$f":"'LV 1'!C175","v":19.748864270343724},{"$f":"'LV 1'!D175","v":3.610597455403036}]
[{"$f":"'LV 1'!A176","v":166},{"$f":"'LV 1'!C176","v":19.62210132054091},{"$f":"'LV 1'!D176","v":3.6522639500205045}]
[{"$f":"'LV 1'!A177","v":167},{"$f":"'LV 1'!C177","v":19.478684340702397},{"$f":"'LV 1'!D177","v":3.6935726597727396}]
[{"$f":"'LV 1'!A178","v":168},{"$f":"'LV 1'!C178","v":19.319166595609879},{"$f":"'LV 1'!D178","v":3.7343978818096426}]
[{"$f":"'LV 1'!A179","v":169},{"$f":"'LV 1'!C179","v":19.144187774068524},{"$f":"'LV 1'!D179","v":3.7746132579713172}]
[{"$f":"'LV 1'!A180","v":170},{"$f":"'LV 1'!C180","v":18.954468283181157},{"$f":"'LV 1'!D180","v":3.8140926913718438}]
[{"$f":"'LV 1'!A181","v":171},{"$f":"'LV 1'!C181","v":18.750802531124258},{"$f":"'LV 1'!D181","v":3.8527112867409001}]
[{"$f":"'LV 1'!A182","v":172},{"$f":"'LV 1'!C182","v":18.534051315650036},{"$f":"'LV 1'!D182","v":3.8903462997045657}]
[{"$f":"'LV 1'!A183","v":173},{"$f":"'LV 1'!C183","v":18.30513345633889},{"$f":"'LV 1'!D183","v":3.9268780796123193}]
[{"$f":"'LV 1'!A184","v":174},{"$f":"'LV 1'!C184","v":18.06501682535739},{"$f":"'LV 1'!D184","v":3.9621909903726302}]
[{"$f":"'LV 1'!A185","v":175},{"$f":"'LV 1'!C185","v":17.814708943525329},{"$f":"'LV 1'!D185","v":3.9961742940582932}]
[{"$f":"'LV 1'!A186","v":176},{"$f":"'LV 1'!C186","v":17.555247315459287},{"$f":"'LV 1'!D186","v":4.0287229827790147}]
[{"$f":"'LV 1'!A187","v":177},{"$f":"'LV 1'!C187","v":17.287689679269683},{"$f":"'LV 1'!D187","v":4.0597385454676953}]
[{"$f":"'LV 1'!A188","v":178},{"$f":"'LV 1'!C188","v":17.013104342810347},{"$f":"'LV 1'!D188","v":4.0891296577453105}]
[{"$f":"'LV 1'!A189","v":179},{"$f":"'LV 1'!C189","v":16.732560770109451},{"$f":"'LV 1'!D189","v":4.1168127848586158}]
[{"$f":"'LV 1'!A190","v":180},{"$f":"'LV 1'!C190","v":16.447120568847424},{"$f":"'LV 1'!D190","v":4.142712689754239}]
[{"$f":"'LV 1'!A191","v":181},{"$f":"'LV 1'!C191","v":16.15782901326002},{"$f":"'LV 1'!D191","v":4.1667628405828641}]
[{"$f":"'LV 1'!A192","v":182},{"$f":"'LV 1'!C192","v":15.865707217427115},{"$f":"'LV 1'!D192","v":4.1889057142351893}]
[{"$f":"'LV 1'!A193","v":183},{"$f":"'LV 1'!C193","v":15.571745052431165},{"$f":"'LV 1'!D193","v":4.2090929948145863}]
[{"$f":"'LV 1'!A194","v":184},{"$f":"'LV 1'!C194","v":15.276894878231225},{"$f":"'LV 1'!D194","v":4.2272856681720414}]
[{"$f":"'LV 1'!A195","v":185},{"$f":"'LV 1'!C195","v":14.982066138175643},{"$f":"'LV 1'!D195","v":4.243454015697349}]
[{"$f":"'LV 1'!A196","v":186},{"$f":"'LV 1'!C196","v":14.688120841682608},{"$f":"'LV 1'!D196","v":4.2575775124180497}]
[{"$f":"'LV 1'!A197","v":187},{"$f":"'LV 1'!C197","v":14.395869939468412},{"$f":"'LV 1'!D197","v":4.2696446360586728}]
[{"$f":"'LV 1'!A198","v":188},{"$f":"'LV 1'!C198","v":14.106070576391561},{"$f":"'LV 1'!D198","v":4.2796525950259277}]
[{"$f":"'LV 1'!A199","v":189},{"$f":"'LV 1'!C199","v":13.819424189961607},{"$f":"'LV 1'!D199","v":4.2876069842932942}]
[{"$f":"'LV 1'!A200","v":190},{"$f":"'LV 1'!C200","v":13.536575408146058},{"$f":"'LV 1'!D200","v":4.2935213788571813}]
[{"$f":"'LV 1'!A201","v":191},{"$f":"'LV 1'!C201","v":13.258111688467624},{"$f":"'LV 1'!D201","v":4.2974168748349415}]
[{"$f":"'LV 1'!A202","v":192},{"$f":"'LV 1'!C202","v":12.984563631558139},{"$f":"'LV 1'!D202","v":4.2993215883913676}]
[{"$f":"'LV 1'!A203","v":193},{"$f":"'LV 1'!C203","v":12.716405896251619},{"$f":"'LV 1'!D203","v":4.2992701225419765}]
[{"$f":"'LV 1'!A204","v":194},{"$f":"'LV 1'!C204","v":12.454058639789704},{"$f":"'LV 1'!D204","v":4.2973030115214792}]
[{"$f":"'LV 1'!A205","v":195},{"$f":"'LV 1'!C205","v":12.197889405538364},{"$f":"'LV 1'!D205","v":4.2934661518611952}]
[{"$f":"'LV 1'!A206","v":196},{"$f":"'LV 1'!C206","v":11.948215381484742},{"$f":"'LV 1'!D206","v":4.2878102286282136}]
[{"$f":"'LV 1'!A207","v":197},{"$f":"'LV 1'!C207","v":11.705305955376994},{"$f":"'LV 1'!D207","v":4.2803901444800916}]
[{"$f":"'LV 1'!A208","v":198},{"$f":"'LV 1'!C208","v":11.469385496356525},{"$f":"'LV 1'!D208","v":4.2712644583182025}]
[{"$f":"'LV 1'!A209","v":199},{"$f":"'LV 1'!C209","v":11.240636297984082},{"$f":"'LV 1'!D209","v":4.2604948394140605}]
[{"$f":"'LV 1'!A210","v":200},{"$f":"'LV 1'!C210","v":11.019201623369488},{"$f":"'LV 1'!D210","v":4.2481455419656475}]
[{"$f":"'LV 1'!A211","v":201},{"$f":"'LV 1'!C211","v":10.805188799396454},{"$f":"'LV 1'!D211","v":4.2342829041402847}]
[{"$f":"'LV 1'!A212","v":202},{"$f":"'LV 1'!C212","v":10.598672313539629},{"$f":"'LV 1'!D212","v":4.2189748747977118}]
[{"$f":"'LV 1'!A213","v":203},{"$f":"'LV 1'!C213","v":10.399696873287947},{"$f":"'LV 1'!D213","v":4.2022905702778806}]
[{"$f":"'LV 1'!A214","v":204},{"$f":"'LV 1'!C214","v":10.208280394541694},{"$f":"'LV 1'!D214","v":4.184299862894461}]
[{"$f":"'LV 1'!A215","v":205},{"$f":"'LV 1'!C215","v":10.02441689140279},{"$f":"'LV 1'!D215","v":4.1650730021050331}]
[{"$f":"'LV 1'!A216","v":206},{"$f":"'LV 1'!C216","v":9.8480792454259927},{"$f":"'LV 1'!D216","v":4.1446802687367734}]
[{"$f":"'LV 1'!A217","v":207},{"$f":"'LV 1'!C217","v":9.679221837571804},{"$f":"'LV 1'!D217","v":4.1231916621334852}]
[{"$f":"'LV 1'!A218","v":208},{"$f":"'LV 1'!C218","v":9.5177830307567888},{"$f":"'LV 1'!D218","v":4.1006766196549389}]
[{"$f":"'LV 1'!A219","v":209},{"$f":"'LV 1'!C219","v":9.3636874950138118},{"$f":"'LV 1'!D219","v":4.0772037675996025}]
[{"$f":"'LV 1'!A220","v":210},{"$f":"'LV 1'!C220","v":9.2168483708532989},{"$f":"'LV 1'!D220","v":4.0528407023323432}]
[{"$f":"'LV 1'!A221","v":211},{"$f":"'LV 1'!C221","v":9.0771692694717387},{"$f":"'LV 1'!D221","v":4.0276538001740372}]
[{"$f":"'LV 1'!A222","v":212},{"$f":"'LV 1'!C222","v":8.9445461110119258},{"$f":"'LV 1'!D222","v":4.0017080544439123}]
[{"$f":"'LV 1'!A223","v":213},{"$f":"'LV 1'!C223","v":8.8188688041755832},{"$f":"'LV 1'!D223","v":3.9750669379313019}]
[{"$f":"'LV 1'!A224","v":214},{"$f":"'LV 1'!C224","v":8.7000227721629884},{"$f":"'LV 1'!D224","v":3.9477922890047079}]
[{"$f":"'LV 1'!A225","v":215},{"$f":"'LV 1'!C225","v":8.5878903312091879},{"$f":"'LV 1'!D225","v":3.919944219536089}]
[{"$f":"'LV 1'!A226","v":216},{"$f":"'LV 1'!C226","v":8.4823519289461125},{"$f":"'LV 1'!D226","v":3.8915810428209738}]
[{"$f":"'LV 1'!A227","v":217},{"$f":"'LV 1'!C227","v":8.3832872504878981},{"$f":"'LV 1'!D227","v":3.8627592197045395}]
[{"$f":"'LV 1'!A228","v":218},{"$f":"'LV 1'!C228","v":8.2905762005545807},{"$f":"'LV 1'!D228","v":3.8335333211749556}]
[{"$f":"'LV 1'!A229","v":219},{"$f":"'LV 1'!C229","v":8.2040997701561231},{"$f":"'LV 1'!D229","v":3.803956005753276}]
[{"$f":"'LV 1'!A230","v":220},{"$f":"'LV 1'!C230","v":8.123740796390539},{"$f":"'LV 1'!D230","v":3.7740780100898217}]
[{"$f":"'LV 1'!A231","v":221},{"$f":"'LV 1'!C231","v":8.0493846237991242},{"$f":"'LV 1'!D231","v":3.7439481512666442}]
[{"$f":"'LV 1'!A232","v":222},{"$f":"'LV 1'!C232","v":7.9809196754977103},{"$f":"'LV 1'!D232","v":3.7136133394011761}]
[{"$f":"'LV 1'!A233","v":223},{"$f":"'LV 1'!C233","v":7.9182379419907196},{"$f":"'LV 1'!D233","v":3.6831185992449278}]
[{"$f":"'LV 1'!A234","v":224},{"$f":"'LV 1'!C234","v":7.8612353951968554},{"$f":"'LV 1'!D234","v":3.6525070995708599}]
[{"$f":"'LV 1'!A235","v":225},{"$f":"'LV 1'!C235","v":7.8098123347902613},{"$f":"'LV 1'!D235","v":3.6218201892420936}]
[{"$f":"'LV 1'!A236","v":226},{"$f":"'LV 1'!C236","v":7.7638736735048655},{"$f":"'LV 1'!D236","v":3.5910974389514827}]
[{"$f":"'LV 1'!A237","v":227},{"$f":"'LV 1'!C237","v":7.7233291675755389},{"$f":"'LV 1'!D237","v":3.560376687715153}]
[{"$f":"'LV 1'!A238","v":228},{"$f":"'LV 1'!C238","v":7.6880935980083764},{"$f":"'LV 1'!D238","v":3.529694093292616}]
[{"$f":"'LV 1'!A239","v":229},{"$f":"'LV 1'!C239","v":7.6580869078924954},{"$f":"'LV 1'!D239","v":3.499084185790855}]
[{"$f":"'LV 1'!A240","v":230},{"$f":"'LV 1'!C240","v":7.6332343004939585},{"$f":"'LV 1'!D240","v":3.4685799237895267}]
[{"$f":"'LV 1'!A241","v":231},{"$f":"'LV 1'!C241","v":7.6134663024139231},{"$f":"'LV 1'!D241","v":3.4382127523988242}]
[{"$f":"'LV 1'!A242","v":232},{"$f":"'LV 1'!C242","v":7.598718795651684},{"$f":"'LV 1'!D242","v":3.4080126627305911}]
[{"$f":"'LV 1'!A243","v":233},{"$f":"'LV 1'!C243","v":7.5889330219915232},{"$f":"'LV 1'!D243","v":3.3780082523269006}]
[{"$f":"'LV 1'!A244","v":234},{"$f":"'LV 1'!C244","v":7.5840555627319448},{"$f":"'LV 1'!D244","v":3.3482267861486865}]
[{"$f":"'LV 1'!A245","v":235},{"$f":"'LV 1'!C245","v":7.5840382963978277},{"$f":"'LV 1'!D245","v":3.3186942577802401}]
[{"$f":"'LV 1'!A246","v":236},{"$f":"'LV 1'!C246","v":7.5888383367206194},{"$f":"'LV 1'!D246","v":3.2894354505537233}]
[{"$f":"'LV 1'!A247","v":237},{"$f":"'LV 1'!C247","v":7.5984179528386839},{"$f":"'LV 1'!D247","v":3.2604739983415061}]
[{"$f":"'LV 1'!A248","v":238},{"$f":"'LV 1'!C248","v":7.6127444733587861},{"$f":"'LV 1'!D248","v":3.2318324458034087}]
[{"$f":"'LV 1'!A249","v":239},{"$f":"'LV 1'!C249","v":7.6317901756295807},{"$f":"'LV 1'!D249","v":3.2035323079110687}]
[{"$f":"'LV 1'!A250","v":240},{"$f":"'LV 1'!C250","v":7.6555321613078329},{"$f":"'LV 1'!D250","v":3.175594128602961}]
[{"$f":"'LV 1'!A251","v":241},{"$f":"'LV 1'!C251","v":7.6839522190467768},{"$f":"'LV 1'!D251","v":3.1480375384513435}]
[{"$f":"'LV 1'!A252","v":242},{"$f":"'LV 1'!C252","v":7.7170366749022552},{"$f":"'LV 1'!D252","v":3.1208813112468574}]
[{"$f":"'LV 1'!A253","v":243},{"$f":"'LV 1'!C253","v":7.7547762308348425},{"$f":"'LV 1'!D253","v":3.094143419427946}]
[{"$f":"'LV 1'!A254","v":244},{"$f":"'LV 1'!C254","v":7.797165791483728},{"$f":"'LV 1'!D254","v":3.0678410883009102}]
[{"$f":"'LV 1'!A255","v":245},{"$f":"'LV 1'!C255","v":7.8442042791995652},{"$f":"'LV 1'!D255","v":3.0419908490125236}]
[{"$f":"'LV 1'!A256","v":246},{"$f":"'LV 1'!C256","v":7.8958944371475823},{"$f":"'LV 1'!D256","v":3.0166085902509199}]
[{"$f":"'LV 1'!A257","v":247},{"$f":"'LV 1'!C257","v":7.9522426201279783},{"$f":"'LV 1'!D257","v":2.9917096086621076}]
[{"$f":"'LV 1'!A258","v":248},{"$f":"'LV 1'!C258","v":8.0132585726070236},{"$f":"'LV 1'!D258","v":2.967308657979169}]
[{"$f":"'LV 1'!A259","v":249},{"$f":"'LV 1'!C259","v":8.0789551933085182},{"$f":"'LV 1'!D259","v":2.9434199968691206}]
[{"$f":"'LV 1'!A260","v":250},{"$f":"'LV 1'!C260","v":8.1493482855806434},{"$f":"'LV 1'!D260","v":2.9200574355086695}]
[{"$f":"'LV 1'!A261","v":251},{"$f":"'LV 1'!C261","v":8.2244562926272256},{"$f":"'LV 1'!D261","v":2.8972343809048611}]
[{"$f":"'LV 1'!A262","v":252},{"$f":"'LV 1'!C262","v":8.3043000165745902},{"$f":"'LV 1'!D262","v":2.8749638809799585}]
[{"$f":"'LV 1'!A263","v":253},{"$f":"'LV 1'!C263","v":8.3889023202353545},{"$f":"'LV 1'!D263","v":2.853258667441918}]
[{"$f":"'LV 1'!A264","v":254},{"$f":"'LV 1'!C264","v":8.4782878103285206},{"$f":"'LV 1'!D264","v":2.8321311974626209}]
[{"$f":"'LV 1'!A265","v":255},{"$f":"'LV 1'!C265","v":8.5724825008213745},{"$f":"'LV 1'!D265","v":2.8115936941856363}]
[{"$f":"'LV 1'!A266","v":256},{"$f":"'LV 1'!C266","v":8.6715134549731498},{"$f":"'LV 1'!D266","v":2.7916581860837613}]
[{"$f":"'LV 1'!A267","v":257},{"$f":"'LV 1'!C267","v":8.7754084045838034},{"$f":"'LV 1'!D267","v":2.7723365451839674}]
[{"$f":"'LV 1'!A268","v":258},{"$f":"'LV 1'!C268","v":8.8841953448843451},{"$f":"'LV 1'!D268","v":2.7536405241736728}]
[{"$f":"'LV 1'!A269","v":259},{"$f":"'LV 1'!C269","v":8.9979021034488724},{"$f":"'LV 1'!D269","v":2.7355817923974572}]
[{"$f":"'LV 1'!A270","v":260},{"$f":"'LV 1'!C270","v":9.1165558814641798},{"$f":"'LV 1'!D270","v":2.7181719707474601}]
[{"$f":"'LV 1'!A271","v":261},{"$f":"'LV 1'!C271","v":9.2401827656618813},{"$f":"'LV 1'!D271","v":2.7014226654436824}]
[{"$f":"'LV 1'!A272","v":262},{"$f":"'LV 1'!C272","v":9.3688072092023713},{"$f":"'LV 1'!D272","v":2.6853455006922671}]
[{"$f":"'LV 1'!A273","v":263},{"$f":"'LV 1'!C273","v":9.5024514798016284},{"$f":"'LV 1'!D273","v":2.6699521502004608}]
[{"$f":"'LV 1'!A274","v":264},{"$f":"'LV 1'!C274","v":9.6411350734133112},{"$f":"'LV 1'!D274","v":2.6552543675163554}]
[{"$f":"'LV 1'!A275","v":265},{"$f":"'LV 1'!C275","v":9.7848740918225303},{"$f":"'LV 1'!D275","v":2.6412640151495603}]
[{"$f":"'LV 1'!A276","v":266},{"$f":"'LV 1'!C276","v":9.9336805825772174},{"$f":"'LV 1'!D276","v":2.6279930924156192}]
[{"$f":"'LV 1'!A277","v":267},{"$f":"'LV 1'!C277","v":10.087561839781563},{"$f":"'LV 1'!D277","v":2.6154537619321552}]
[{"$f":"'LV 1'!A278","v":268},{"$f":"'LV 1'!C278","v":10.246519664407382},{"$f":"'LV 1'!D278","v":2.6036583746783286}]
[{"$f":"'LV 1'!A279","v":269},{"$f":"'LV 1'!C279","v":10.41054958294777},{"$f":"'LV 1'!D279","v":2.5926194935111195}]
[{"$f":"'LV 1'!A280","v":270},{"$f":"'LV 1'!C280","v":10.579640023447402},{"$f":"'LV 1'!D280","v":2.5823499150120997}]
[{"$f":"'LV 1'!A281","v":271},{"$f":"'LV 1'!C281","v":10.753771448200455},{"$f":"'LV 1'!D281","v":2.572862689516656}]
[{"$f":"'LV 1'!A282","v":272},{"$f":"'LV 1'!C282","v":10.932915442715512},{"$f":"'LV 1'!D282","v":2.564171139153951}]
[{"$f":"'LV 1'!A283","v":273},{"$f":"'LV 1'!C283","v":11.117033760912568},{"$f":"'LV 1'!D283","v":2.5562888737002045}]
[{"$f":"'LV 1'!A284","v":274},{"$f":"'LV 1'!C284","v":11.306077326946339},{"$f":"'LV 1'!D284","v":2.5492298040200287}]
[{"$f":"'LV 1'!A285","v":275},{"$f":"'LV 1'!C285","v":11.499985194548398},{"$f":"'LV 1'!D285","v":2.5430081528405615}]
[{"$f":"'LV 1'!A286","v":276},{"$f":"'LV 1'!C286","v":11.698683465354568},{"$f":"'LV 1'!D286","v":2.5376384625709179}]
[{"$f":"'LV 1'!A287","v":277},{"$f":"'LV 1'!C287","v":11.902084168339613},{"$f":"'LV 1'!D287","v":2.5331355998450822}]
[{"$f":"'LV 1'!A288","v":278},{"$f":"'LV 1'!C288","v":12.11008410322467},{"$f":"'LV 1'!D288","v":2.5295147564298035}]
[{"$f":"'LV 1'!A289","v":279},{"$f":"'LV 1'!C289","v":12.322563651559905},{"$f":"'LV 1'!D289","v":2.5267914461004595}]
[{"$f":"'LV 1'!A290","v":280},{"$f":"'LV 1'!C290","v":12.539385560120669},{"$f":"'LV 1'!D290","v":2.5249814970473832}]
[{"$f":"'LV 1'!A291","v":281},{"$f":"'LV 1'!C291","v":12.760393702294651},{"$f":"'LV 1'!D291","v":2.5241010393330567}]
[{"$f":"'LV 1'!A292","v":282},{"$f":"'LV 1'!C292","v":12.985411824283441},{"$f":"'LV 1'!D292","v":2.5241664868772284}]
[{"$f":"'LV 1'!A293","v":283},{"$f":"'LV 1'!C293","v":13.214242284196491},{"$f":"'LV 1'!D293","v":2.5251945134028739}]
[{"$f":"'LV 1'!A294","v":284},{"$f":"'LV 1'!C294","v":13.446664793478929},{"$f":"'LV 1'!D294","v":2.5272020217316102}]
[{"$f":"'LV 1'!A295","v":285},{"$f":"'LV 1'!C295","v":13.682435171584601},{"$f":"'LV 1'!D295","v":2.5302061057734564}]
[{"$f":"'LV 1'!A296","v":286},{"$f":"'LV 1'!C296","v":13.921284126377147},{"$f":"'LV 1'!D296","v":2.5342240045136881}]
[{"$f":"'LV 1'!A297","v":287},{"$f":"'LV 1'!C297","v":14.162916074406185},{"$f":"'LV 1'!D297","v":2.5392730472601008}]
[{"$f":"'LV 1'!A298","v":288},{"$f":"'LV 1'!C298","v":14.40700801695008},{"$f":"'LV 1'!D298","v":2.5453705893786962}]
[{"$f":"'LV 1'!A299","v":289},{"$f":"'LV 1'!C299","v":14.653208489523829},{"$f":"'LV 1'!D299","v":2.5525339377162974}]
[{"$f":"'LV 1'!A300","v":290},{"$f":"'LV 1'!C300","v":14.901136604397227},{"$f":"'LV 1'!D300","v":2.5607802648867981}]
[{"$f":"'LV 1'!A301","v":291},{"$f":"'LV 1'!C301","v":15.150381207525323},{"$f":"'LV 1'!D301","v":2.5701265115859191}]
[{"$f":"'LV 1'!A302","v":292},{"$f":"'LV 1'!C302","v":15.400500173124058},{"$f":"'LV 1'!D302","v":2.5805892761000031}]
[{"$f":"'LV 1'!A303","v":293},{"$f":"'LV 1'!C303","v":15.651019860884782},{"$f":"'LV 1'!D303","v":2.5921846901903804}]
[{"$f":"'LV 1'!A304","v":294},{"$f":"'LV 1'!C304","v":15.901434762460109},{"$f":"'LV 1'!D304","v":2.6049282805693528}]
[{"$f":"'LV 1'!A305","v":295},{"$f":"'LV 1'!C305","v":16.151207365309471},{"$f":"'LV 1'!D305","v":2.6188348152402847}]
[{"$f":"'LV 1'!A306","v":296},{"$f":"'LV 1'!C306","v":16.399768263196293},{"$f":"'LV 1'!D306","v":2.6339181340563669}]
[{"$f":"'LV 1'!A307","v":297},{"$f":"'LV 1'!C307","v":16.646516543501882},{"$f":"'LV 1'!D307","v":2.6501909629641407}]
[{"$f":"'LV 1'!A308","v":298},{"$f":"'LV 1'!C308","v":16.890820481977563},{"$f":"'LV 1'!D308","v":2.6676647115428285}]
[{"$f":"'LV 1'!A309","v":299},{"$f":"'LV 1'!C309","v":17.132018575503029},{"$f":"'LV 1'!D309","v":2.686349253632772}]
[{"$f":"'LV 1'!A310","v":300},{"$f":"'LV 1'!C310","v":17.36942094275641},{"$f":"'LV 1'!D310","v":2.7062526910695679}]
[{"$f":"'LV 1'!A311","v":301},{"$f":"'LV 1'!C311","v":17.602311121328043},{"$f":"'LV 1'!D311","v":2.7273811008081412}]
[{"$f":"'LV 1'!A312","v":302},{"$f":"'LV 1'!C312","v":17.829948287622766},{"$f":"'LV 1'!D312","v":2.7497382660357044}]
[{"$f":"'LV 1'!A313","v":303},{"$f":"'LV 1'!C313","v":18.051569922796123},{"$f":"'LV 1'!D313","v":2.7733253922361509}]
[{"$f":"'LV 1'!A314","v":304},{"$f":"'LV 1'!C314","v":18.266394943867358},{"$f":"'LV 1'!D314","v":2.7981408095815277}]
[{"$f":"'LV 1'!A315","v":305},{"$f":"'LV 1'!C315","v":18.473627313969605},{"$f":"'LV 1'!D315","v":2.8241796634878931}]
[{"$f":"'LV 1'!A316","v":306},{"$f":"'LV 1'!C316","v":18.672460139378771},{"$f":"'LV 1'!D316","v":2.8514335956802936}]
[{"$f":"'LV 1'!A317","v":307},{"$f":"'LV 1'!C317","v":18.862080253477359},{"$f":"'LV 1'!D317","v":2.8798904186596426}]
[{"$f":"'LV 1'!A318","v":308},{"$f":"'LV 1'!C318","v":19.041673279163096},{"$f":"'LV 1'!D318","v":2.9095337870452807}]
[{"$f":"'LV 1'!A319","v":309},{"$f":"'LV 1'!C319","v":19.210429151451351},{"$f":"'LV 1'!D319","v":2.9403428698702845}]
[{"$f":"'LV 1'!A320","v":310},{"$f":"'LV 1'!C320","v":19.367548071241391},{"$f":"'LV 1'!D320","v":2.9722920285183263}]
[{"$f":"'LV 1'!A321","v":311},{"$f":"'LV 1'!C321","v":19.512246849571117},{"$f":"'LV 1'!D321","v":3.0053505055940191}]
[{"$f":"'LV 1'!A322","v":312},{"$f":"'LV 1'!C322","v":19.643765589385279},{"$f":"'LV 1'!D322","v":3.0394821305927455}]
[{"$f":"'LV 1'!A323","v":313},{"$f":"'LV 1'!C323","v":19.761374639164075},{"$f":"'LV 1'!D323","v":3.074645048757549}]
[{"$f":"'LV 1'!A324","v":314},{"$f":"'LV 1'!C324","v":19.864381740041193},{"$f":"'LV 1'!D324","v":3.1107914799535603}]
[{"$f":"'LV 1'!A325","v":315},{"$f":"'LV 1'!C325","v":19.952139275681397},{"$f":"'LV 1'!D325","v":3.1478675147265491}]
[{"$f":"'LV 1'!A326","v":316},{"$f":"'LV 1'!C326","v":20.024051522638533},{"$f":"'LV 1'!D326","v":3.1858129549123215}]
[{"$f":"'LV 1'!A327","v":317},{"$f":"'LV 1'!C327","v":20.07958178866587},{"$f":"'LV 1'!D327","v":3.2245612061988096}]
[{"$f":"'LV 1'!A328","v":318},{"$f":"'LV 1'!C328","v":20.118259318015998},{"$f":"'LV 1'!D328","v":3.2640392298854457}]
[{"$f":"'LV 1'!A329","v":319},{"$f":"'LV 1'!C329","v":20.13968583666237},{"$f":"'LV 1'!D329","v":3.3041675607107077}]
[{"$f":"'LV 1'!A330","v":320},{"$f":"'LV 1'!C330","v":20.143541607090892},{"$f":"'LV 1'!D330","v":3.3448603970096529}]
[{"$f":"'LV 1'!A331","v":321},{"$f":"'LV 1'!C331","v":20.129590862287539},{"$f":"'LV 1'!D331","v":3.3860257686068964}]
[{"$f":"'LV 1'!A332","v":322},{"$f":"'LV 1'!C332","v":20.097686492144277},{"$f":"'LV 1'!D332","v":3.4275657867437577}]
[{"$f":"'LV 1'!A333","v":323},{"$f":"'LV 1'!C333","v":20.047773862966611},{"$f":"'LV 1'!D333","v":3.4693769789883797}]
[{"$f":"'LV 1'!A334","v":324},{"$f":"'LV 1'!C334","v":19.979893662198869},{"$f":"'LV 1'!D334","v":3.5113507105033386}]
[{"$f":"'LV 1'!A335","v":325},{"$f":"'LV 1'!C335","v":19.894183675833155},{"$f":"'LV 1'!D335","v":3.5533736912775025}]
[{"$f":"'LV 1'!A336","v":326},{"$f":"'LV 1'!C336","v":19.790879425004032},{"$f":"'LV 1'!D336","v":3.5953285670107888}]
[{"$f":"'LV 1'!A337","v":327},{"$f":"'LV 1'!C337","v":19.670313610578962},{"$f":"'LV 1'!D337","v":3.6370945893264195}]
[{"$f":"'LV 1'!A338","v":328},{"$f":"'LV 1'!C338","v":19.532914339542835},{"$f":"'LV 1'!D338","v":3.6785483589395001}]
[{"$f":"'LV 1'!A339","v":329},{"$f":"'LV 1'!C339","v":19.379202133889795},{"$f":"'LV 1'!D339","v":3.7195646334047159}]
[{"$f":"'LV 1'!A340","v":330},{"$f":"'LV 1'!C340","v":19.209785750689939},{"$f":"'LV 1'!D340","v":3.7600171891753571}]
[{"$f":"'LV 1'!A341","v":331},{"$f":"'LV 1'!C341","v":19.025356870011141},{"$f":"'LV 1'!D341","v":3.7997797260068586}]
[{"$f":"'LV 1'!A342","v":332},{"$f":"'LV 1'!C342","v":18.826683734418236},{"$f":"'LV 1'!D342","v":3.838726800303101}]
[{"$f":"'LV 1'!A343","v":333},{"$f":"'LV 1'!C343","v":18.614603848821208},{"$f":"'LV 1'!D343","v":3.876734772897656}]
[{"$f":"'LV 1'!A344","v":334},{"$f":"'LV 1'!C344","v":18.39001587153987},{"$f":"'LV 1'!D344","v":3.9136827560380714}]
[{"$f":"'LV 1'!A345","v":335},{"$f":"'LV 1'!C345","v":18.153870845749569},{"$f":"'LV 1'!D345","v":3.949453544037298}]
[{"$f":"'LV 1'!A346","v":336},{"$f":"'LV 1'!C346","v":17.907162934287776},{"$f":"'LV 1'!D346","v":3.9839345121929646}]
[{"$f":"'LV 1'!A347","v":337},{"$f":"'LV 1'!C347","v":17.650919829652867},{"$f":"'LV 1'!D347","v":4.0170184691537703}]
[{"$f":"'LV 1'!A348","v":338},{"$f":"'LV 1'!C348","v":17.386193014657962},{"$f":"'LV 1'!D348","v":4.0486044489147437}]
[{"$f":"'LV 1'!A349","v":339},{"$f":"'LV 1'!C349","v":17.114048047595098},{"$f":"'LV 1'!D349","v":4.0785984300127573}]
[{"$f":"'LV 1'!A350","v":340},{"$f":"'LV 1'!C350","v":16.835555039132291},{"$f":"'LV 1'!D350","v":4.1069139712172369}]
[{"$f":"'LV 1'!A351","v":341},{"$f":"'LV 1'!C351","v":16.551779476936453},{"$f":"'LV 1'!D351","v":4.1334727550015788}]
[{"$f":"'LV 1'!A352","v":342},{"$f":"'LV 1'!C352","v":16.263773538800177},{"$f":"'LV 1'!D352","v":4.1582050322617734}]
[{"$f":"'LV 1'!A353","v":343},{"$f":"'LV 1'!C353","v":15.972568016604109},{"$f":"'LV 1'!D353","v":4.181049964037979}]
[{"$f":"'LV 1'!A354","v":344},{"$f":"'LV 1'!C354","v":15.679164952617668},{"$f":"'LV 1'!D354","v":4.2019558583091214}]
[{"$f":"'LV 1'!A355","v":345},{"$f":"'LV 1'!C355","v":15.384531067322911},{"$f":"'LV 1'!D355","v":4.2208803021899675}]
[{"$f":"'LV 1'!A356","v":346},{"$f":"'LV 1'!C356","v":15.089592035029094},{"$f":"'LV 1'!D356","v":4.23779019199148}]
[{"$f":"'LV 1'!A357","v":347},{"$f":"'LV 1'!C357","v":14.795227640869802},{"$f":"'LV 1'!D357","v":4.252661665545749}]
[{"$f":"'LV 1'!A358","v":348},{"$f":"'LV 1'!C358","v":14.502267831095416},{"$f":"'LV 1'!D358","v":4.2654799428958379}]
[{"$f":"'LV 1'!A359","v":349},{"$f":"'LV 1'!C359","v":14.211489648531217},{"$f":"'LV 1'!D359","v":4.2762390828718022}]
[{"$f":"'LV 1'!A360","v":350},{"$f":"'LV 1'!C360","v":13.923615027172008},{"$f":"'LV 1'!D360","v":4.2849416641944789}]
[{"$f":"'LV 1'!A361","v":351},{"$f":"'LV 1'!C361","v":13.639309404491435},{"$f":"'LV 1'!D361","v":4.2915984005597672}]
[{"$f":"'LV 1'!A362","v":352},{"$f":"'LV 1'!C362","v":13.359181097379441},{"$f":"'LV 1'!D362","v":4.296227699662265}]
[{"$f":"'LV 1'!A363","v":353},{"$f":"'LV 1'!C363","v":13.083781377770986},{"$f":"'LV 1'!D363","v":4.2988551763335208}]
[{"$f":"'LV 1'!A364","v":354},{"$f":"'LV 1'!C364","v":12.813605176959554},{"$f":"'LV 1'!D364","v":4.2995131299212037}]
[{"$f":"'LV 1'!A365","v":355},{"$f":"'LV 1'!C365","v":12.549092343164714},{"$f":"'LV 1'!D365","v":4.2982399957523247}]
[{"$f":"'LV 1'!A366","v":356},{"$f":"'LV 1'!C366","v":12.290629374928114},{"$f":"'LV 1'!D366","v":4.2950797800420011}]
[{"$f":"'LV 1'!A367","v":357},{"$f":"'LV 1'!C367","v":12.038551553072221},{"$f":"'LV 1'!D367","v":4.2900814869672148}]
[{"$f":"'LV 1'!A368","v":358},{"$f":"'LV 1'!C368","v":11.793145395959252},{"$f":"'LV 1'!D368","v":4.2832985458610811}]
[{"$f":"'LV 1'!A369","v":359},{"$f":"'LV 1'!C369","v":11.554651366304537},{"$f":"'LV 1'!D369","v":4.2747882456345678}]
[{"$f":"'LV 1'!A370","v":360},{"$f":"'LV 1'!C370","v":11.323266762498823},{"$f":"'LV 1'!D370","v":4.2646111826340638}]
[{"$f":"'LV 1'!A371","v":361},{"$f":"'LV 1'!C371","v":11.099148732960742},{"$f":"'LV 1'!D371","v":4.2528307272258381}]
[{"$f":"'LV 1'!A372","v":362},{"$f":"'LV 1'!C372","v":10.88241735818033},{"$f":"'LV 1'!D372","v":4.2395125134891618}]
[{"$f":"'LV 1'!A373","v":363},{"$f":"'LV 1'!C373","v":10.673158751565115},{"$f":"'LV 1'!D373","v":4.2247239555211555}]
[{"$f":"'LV 1'!A374","v":364},{"$f":"'LV 1'!C374","v":10.471428136735343},{"$f":"'LV 1'!D374","v":4.2085337930260511}]
[{"$f":"'LV 1'!A375","v":365},{"$f":"'LV 1'!C375","v":10.277252865345833},{"$f":"'LV 1'!D375","v":4.191011668093009}]
[{"$f":"'LV 1'!A376","v":366},{"$f":"'LV 1'!C376","v":10.090635345687653},{"$f":"'LV 1'!D376","v":4.1722277343690815}]
[{"$f":"'LV 1'!A377","v":367},{"$f":"'LV 1'!C377","v":9.9115558581282013},{"$f":"'LV 1'!D377","v":4.1522522992130613}]
[{"$f":"'LV 1'!A378","v":368},{"$f":"'LV 1'!C378","v":9.73997523880114},{"$f":"'LV 1'!D378","v":4.1311554988740777}]
[{"$f":"'LV 1'!A379","v":369},{"$f":"'LV 1'!C379","v":9.5758374178050492},{"$f":"'LV 1'!D379","v":4.1090070062757205}]
[{"$f":"'LV 1'!A380","v":370},{"$f":"'LV 1'!C380","v":9.4190718024838027},{"$f":"'LV 1'!D380","v":4.0858757705996576}]
[{"$f":"'LV 1'!A381","v":371},{"$f":"'LV 1'!C381","v":9.269595500135658},{"$f":"'LV 1'!D381","v":4.0618297875481533}]
[{"$f":"'LV 1'!A382","v":372},{"$f":"'LV 1'!C382","v":9.1273153777416294},{"$f":"'LV 1'!D382","v":4.0369358989172648}]
[{"$f":"'LV 1'!A383","v":373},{"$f":"'LV 1'!C383","v":8.9921299590396533},{"$f":"'LV 1'!D383","v":4.0112596199257853}]
[{"$f":"'LV 1'!A384","v":374},{"$f":"'LV 1'!C384","v":8.8639311615313972},{"$f":"'LV 1'!D384","v":3.9848649926126614}]
[{"$f":"'LV 1'!A385","v":375},{"$f":"'LV 1'!C385","v":8.7426058778317284},{"$f":"'LV 1'!D385","v":3.9578144635310513}]
[{"$f":"'LV 1'!A386","v":376},{"$f":"'LV 1'!C386","v":8.6280374071990575},{"$f":"'LV 1'!D386","v":3.9301687839237687}]
[{"$f":"'LV 1'!A387","v":377},{"$f":"'LV 1'!C387","v":8.520106744161712},{"$f":"'LV 1'!D387","v":3.9019869305563306}]
[{"$f":"'LV 1'!A388","v":378},{"$f":"'LV 1'!C388","v":8.4186937319250355},{"$f":"'LV 1'!D388","v":3.8733260454042009}]
[{"$f":"'LV 1'!A389","v":379},{"$f":"'LV 1'!C389","v":8.3236780887483519},{"$f":"'LV 1'!D389","v":3.8442413924346681}]
[{"$f":"'LV 1'!A390","v":380},{"$f":"'LV 1'!C390","v":8.2349403157604115},{"$f":"'LV 1'!D390","v":3.8147863297861613}]
[{"$f":"'LV 1'!A391","v":381},{"$f":"'LV 1'!C391","v":8.1523624947736},{"$f":"'LV 1'!D391","v":3.7850122957242824}]
[{"$f":"'LV 1'!A392","v":382},{"$f":"'LV 1'!C392","v":8.0758289845949687},{"$f":"'LV 1'!D392","v":3.7549688068406066}]
[{"$f":"'LV 1'!A393","v":383},{"$f":"'LV 1'!C393","v":8.0052270241462118},{"$f":"'LV 1'!D393","v":3.7247034670539949}]
[{"$f":"'LV 1'!A394","v":384},{"$f":"'LV 1'!C394","v":7.9404472504220083},{"$f":"'LV 1'!D394","v":3.6942619860720169}]
[{"$f":"'LV 1'!A395","v":385},{"$f":"'LV 1'!C395","v":7.8813841389598283},{"$f":"'LV 1'!D395","v":3.6636882060697111}]
[{"$f":"'LV 1'!A396","v":386},{"$f":"'LV 1'!C396","v":7.8279363740845316},{"$f":"'LV 1'!D396","v":3.6330241354423864}]
[{"$f":"'LV 1'!A397","v":387},{"$f":"'LV 1'!C397","v":7.780007155744622},{"$f":"'LV 1'!D397","v":3.6023099885869763}]
[{"$f":"'LV 1'!A398","v":388},{"$f":"'LV 1'!C398","v":7.7375044492881297},{"$f":"'LV 1'!D398","v":3.5715842307613372}]
[{"$f":"'LV 1'!A399","v":389},{"$f":"'LV 1'!C399","v":7.7003411840463318},{"$f":"'LV 1'!D399","v":3.5408836271619539}]
[{"$f":"'LV 1'!A400","v":390},{"$f":"'LV 1'!C400","v":7.6684354061121853},{"$f":"'LV 1'!D400","v":3.5102432954470828}]
[{"$f":"'LV 1'!A401","v":391},{"$f":"'LV 1'!C401","v":7.6417103902249561},{"$f":"'LV 1'!D401","v":3.4796967610139835}]
[{"$f":"'LV 1'!A402","v":392},{"$f":"'LV 1'!C402","v":7.6200947152086336},{"$f":"'LV 1'!D402","v":3.4492760144152572}]
[{"$f":"'LV 1'!A403","v":393},{"$f":"'LV 1'!C403","v":7.6035223069637228},{"$f":"'LV 1'!D403","v":3.4190115703703126}]
[{"$f":"'LV 1'!A404","v":394},{"$f":"'LV 1'!C404","v":7.5919324525828191},{"$f":"'LV 1'!D404","v":3.3889325278935769}]
[{"$f":"'LV 1'!A405","v":395},{"$f":"'LV 1'!C405","v":7.5852697887520666},{"$f":"'LV 1'!D405","v":3.3590666311213431}]
[{"$f":"'LV 1'!A406","v":396},{"$f":"'LV 1'!C406","v":7.583484267214379},{"$f":"'LV 1'!D406","v":3.3294403304742217}]
[{"$f":"'LV 1'!A407","v":397},{"$f":"'LV 1'!C407","v":7.58653109970661},{"$f":"'LV 1'!D407","v":3.3000788438422664}]
[{"$f":"'LV 1'!A408","v":398},{"$f":"'LV 1'!C408","v":7.5943706844417322},{"$f":"'LV 1'!D408","v":3.2710062175251728}]
[{"$f":"'LV 1'!A409","v":399},{"$f":"'LV 1'!C409","v":7.6069685158880613},{"$f":"'LV 1'!D409","v":3.2422453867007945}]
[{"$f":"'LV 1'!A410","v":400},{"$f":"'LV 1'!C410","v":7.6242950792998796},{"$f":"'LV 1'!D410","v":3.2138182352318325}]
[{"$f":"'LV 1'!A411","v":401},{"$f":"'LV 1'!C411","v":7.6463257311765167},{"$f":"'LV 1'!D411","v":3.1857456546532279}]
[{"$f":"'LV 1'!A412","v":402},{"$f":"'LV 1'!C412","v":7.6730405665688997},{"$f":"'LV 1'!D412","v":3.1580476022118038}]
[{"$f":"'LV 1'!A413","v":403},{"$f":"'LV 1'!C413","v":7.7044242739125623},{"$f":"'LV 1'!D413","v":3.1307431578553238}]
[{"$f":"'LV 1'!A414","v":404},{"$f":"'LV 1'!C414","v":7.7404659778428542},{"$f":"'LV 1'!D414","v":3.1038505800906444}]
[{"$f":"'LV 1'!A415","v":405},{"$f":"'LV 1'!C415","v":7.7811590702403173},{"$f":"'LV 1'!D415","v":3.0773873606502784}]
[{"$f":"'LV 1'!A416","v":406},{"$f":"'LV 1'!C416","v":7.8265010295607302},{"$f":"'LV 1'!D416","v":3.0513702779236991}]
[{"$f":"'LV 1'!A417","v":407},{"$f":"'LV 1'!C417","v":7.8764932283238966},{"$f":"'LV 1'!D417","v":3.0258154491243192}]
[{"$f":"'LV 1'!A418","v":408},{"$f":"'LV 1'!C418","v":7.931140728466862},{"$f":"'LV 1'!D418","v":3.0007383811754877}]
[{"$f":"'LV 1'!A419","v":409},{"$f":"'LV 1'!C419","v":7.990452064109852},{"$f":"'LV 1'!D419","v":2.9761540203092403}]
[{"$f":"'LV 1'!A420","v":410},{"$f":"'LV 1'!C420","v":8.0544390111359476},{"$f":"'LV 1'!D420","v":2.9520768003800812}]
[{"$f":"'LV 1'!A421","v":411},{"$f":"'LV 1'!C421","v":8.1231163428476325},{"$f":"'LV 1'!D421","v":2.9285206899029363}]
[{"$f":"'LV 1'!A422","v":412},{"$f":"'LV 1'!C422","v":8.1965015708342541},{"$f":"'LV 1'!D422","v":2.9054992378296989}]
[{"$f":"'LV 1'!A423","v":413},{"$f":"'LV 1'!C423","v":8.2746146700636451},{"$f":"'LV 1'!D423","v":2.8830256180826481}]
[{"$f":"'LV 1'!A424","v":414},{"$f":"'LV 1'!C424","v":8.3574777870984018},{"$f":"'LV 1'!D424","v":2.8611126728655116}]
[{"$f":"'LV 1'!A425","v":415},{"$f":"'LV 1'!C425","v":8.4451149302324939},{"$f":"'LV 1'!D425","v":2.8397729547741832}]
[{"$f":"'LV 1'!A426","v":416},{"$f":"'LV 1'!C426","v":8.5375516402470009},{"$f":"'LV 1'!D426","v":2.8190187677291427}]
[{"$f":"'LV 1'!A427","v":417},{"$f":"'LV 1'!C427","v":8.6348146403951489},{"$f":"'LV 1'!D427","v":2.7988622067505093}]
[{"$f":"'LV 1'!A428","v":418},{"$f":"'LV 1'!C428","v":8.7369314641468776},{"$f":"'LV 1'!D428","v":2.7793151965944451}]
[{"$f":"'LV 1'!A429","v":419},{"$f":"'LV 1'!C429","v":8.8439300591526138},{"$f":"'LV 1'!D429","v":2.7603895292663001}]
[{"$f":"'LV 1'!A430","v":420},{"$f":"'LV 1'!C430","v":8.9558383658256364},{"$f":"'LV 1'!D430","v":2.7420969004214997}]
[{"$f":"'LV 1'!A431","v":421},{"$f":"'LV 1'!C431","v":9.0726838688935807},{"$f":"'LV 1'!D431","v":2.7244489446596836}]
[{"$f":"'LV 1'!A432","v":422},{"$f":"'LV 1'!C432","v":9.194493120233652},{"$f":"'LV 1'!D432","v":2.7074572697110124}]
[{"$f":"'LV 1'!A433","v":423},{"$f":"'LV 1'!C433","v":9.3212912312846701},{"$f":"'LV 1'!D433","v":2.6911334895058237}]
[{"$f":"'LV 1'!A434","v":424},{"$f":"'LV 1'!C434","v":9.4531013333241916},{"$f":"'LV 1'!D434","v":2.6754892561099037}]
[{"$f":"'LV 1'!A435","v":425},{"$f":"'LV 1'!C435","v":9.5899440039128674},{"$f":"'LV 1'!D435","v":2.6605362904974927}]
[{"$f":"'LV 1'!A436","v":426},{"$f":"'LV 1'!C436","v":9.7318366578436102},{"$f":"'LV 1'!D436","v":2.6462864121226897}]
[{"$f":"'LV 1'!A437","v":427},{"$f":"'LV 1'!C437","v":9.8787929009929289},{"$f":"'LV 1'!D437","v":2.6327515672371096}]
[{"$f":"'LV 1'!A438","v":428},{"$f":"'LV 1'!C438","v":10.030821845559343},{"$f":"'LV 1'!D438","v":2.6199438558873611}]
[{"$f":"'LV 1'!A439","v":429},{"$f":"'LV 1'!C439","v":10.187927385292745},{"$f":"'LV 1'!D439","v":2.6078755575101056}]
[{"$f":"'LV 1'!A440","v":430},{"$f":"'LV 1'!C440","v":10.350107429473002},{"$f":"'LV 1'!D440","v":2.5965591550250022}]
[{"$f":"'LV 1'!A441","v":431},{"$f":"'LV 1'!C441","v":10.517353094590385},{"$f":"'LV 1'!D441","v":2.5860073573066575}]
[{"$f":"'LV 1'!A442","v":432},{"$f":"'LV 1'!C442","v":10.689647852919483},{"$f":"'LV 1'!D442","v":2.5762331198956816}]
[{"$f":"'LV 1'!A443","v":433},{"$f":"'LV 1'!C443","v":10.866966637467042},{"$f":"'LV 1'!D443","v":2.5672496637860145}]
[{"$f":"'LV 1'!A444","v":434},{"$f":"'LV 1'!C444","v":11.049274903118393},{"$f":"'LV 1'!D444","v":2.5590704921007195}]
[{"$f":"'LV 1'!A445","v":435},{"$f":"'LV 1'!C445","v":11.236527644212371},{"$f":"'LV 1'!D445","v":2.5517094044413935}]
[{"$f":"'LV 1'!A446","v":436},{"$f":"'LV 1'!C446","v":11.428668369247001},{"$f":"'LV 1'!D446","v":2.5451805086671362}]
[{"$f":"'LV 1'!A447","v":437},{"$f":"'LV 1'!C447","v":11.625628033963805},{"$f":"'LV 1'!D447","v":2.5394982298276099}]
[{"$f":"'LV 1'!A448","v":438},{"$f":"'LV 1'!C448","v":11.827323934683685},{"$f":"'LV 1'!D448","v":2.534677315941118}]
[{"$f":"'LV 1'!A449","v":439},{"$f":"'LV 1'!C449","v":12.033658564478007},{"$f":"'LV 1'!D449","v":2.5307328402728504}]
[{"$f":"'LV 1'!A450","v":440},{"$f":"'LV 1'!C450","v":12.244518435560741},{"$f":"'LV 1'!D450","v":2.5276801997305727}]
[{"$f":"'LV 1'!A451","v":441},{"$f":"'LV 1'!C451","v":12.459772872186688},{"$f":"'LV 1'!D451","v":2.5255351089552209}]
[{"$f":"'LV 1'!A452","v":442},{"$f":"'LV 1'!C452","v":12.679272779341892},{"$f":"'LV 1'!D452","v":2.5243135896423379}]
[{"$f":"'LV 1'!A453","v":443},{"$f":"'LV 1'!C453","v":12.902849393618936},{"$f":"'LV 1'!D453","v":2.5240319545873384}]
[{"$f":"'LV 1'!A454","v":444},{"$f":"'LV 1'!C454","v":13.130313023884701},{"$f":"'LV 1'!D454","v":2.5247067859036907}]
[{"$f":"'LV 1'!A455","v":445},{"$f":"'LV 1'!C455","v":13.361451790671957},{"$f":"'LV 1'!D455","v":2.526354906818761}]
[{"$f":"'LV 1'!A456","v":446},{"$f":"'LV 1'!C456","v":13.596030374657715},{"$f":"'LV 1'!D456","v":2.528993346408047}]
[{"$f":"'LV 1'!A457","v":447},{"$f":"'LV 1'!C457","v":13.833788786126416},{"$f":"'LV 1'!D457","v":2.5326392965856748}]
[{"$f":"'LV 1'!A458","v":448},{"$f":"'LV 1'!C458","v":14.074441168947686},{"$f":"'LV 1'!D458","v":2.5373100606284633}]
[{"$f":"'LV 1'!A459","v":449},{"$f":"'LV 1'!C459","v":14.31767465431531},{"$f":"'LV 1'!D459","v":2.5430229924738761}]
[{"$f":"'LV 1'!A460","v":450},{"$f":"'LV 1'!C460","v":14.563148281280611},{"$f":"'LV 1'!D460","v":2.5497954260003461}]
[{"$f":"'LV 1'!A461","v":451},{"$f":"'LV 1'!C461","v":14.810492002948701},{"$f":"'LV 1'!D461","v":2.5576445934736074}]
[{"$f":"'LV 1'!A462","v":452},{"$f":"'LV 1'!C462","v":15.059305799062962},{"$f":"'LV 1'!D462","v":2.5665875323269125}]
[{"$f":"'LV 1'!A463","v":453},{"$f":"'LV 1'!C463","v":15.309158917548217},{"$f":"'LV 1'!D463","v":2.5766409794388103}]
[{"$f":"'LV 1'!A464","v":454},{"$f":"'LV 1'!C464","v":15.559589269374932},{"$f":"'LV 1'!D464","v":2.5878212520822035}]
[{"$f":"'LV 1'!A465","v":455},{"$f":"'LV 1'!C465","v":15.810103002796767},{"$f":"'LV 1'!D465","v":2.600144114745782}]
[{"$f":"'LV 1'!A466","v":456},{"$f":"'LV 1'!C466","v":16.060174284543919},{"$f":"'LV 1'!D466","v":2.6136246310769611}]
[{"$f":"'LV 1'!A467","v":457},{"$f":"'LV 1'!C467","v":16.309245316859009},{"$f":"'LV 1'!D467","v":2.6282770002677243}]
[{"$f":"'LV 1'!A468","v":458},{"$f":"'LV 1'!C468","v":16.556726620265543},{"$f":"'LV 1'!D468","v":2.6441143773051046}]
[{"$f":"'LV 1'!A469","v":459},{"$f":"'LV 1'!C469","v":16.801997612577953},{"$f":"'LV 1'!D469","v":2.6611486766403347}]
[{"$f":"'LV 1'!A470","v":460},{"$f":"'LV 1'!C470","v":17.044407514806004},{"$f":"'LV 1'!D470","v":2.6793903589988948}]
[{"$f":"'LV 1'!A471","v":461},{"$f":"'LV 1'!C471","v":17.283276614177755},{"$f":"'LV 1'!D471","v":2.6988482012615966}]
[{"$f":"'LV 1'!A472","v":462},{"$f":"'LV 1'!C472","v":17.517897913403168},{"$f":"'LV 1'!D472","v":2.7195290495979472}]
[{"$f":"'LV 1'!A473","v":463},{"$f":"'LV 1'!C473","v":17.747539193421897},{"$f":"'LV 1'!D473","v":2.7414375563303151}]
[{"$f":"'LV 1'!A474","v":464},{"$f":"'LV 1'!C474","v":17.971445514123378},{"$f":"'LV 1'!D474","v":2.7645759013530351}]
[{"$f":"'LV 1'!A475","v":465},{"$f":"'LV 1'!C475","v":18.188842173800516},{"$f":"'LV 1'!D475","v":2.7889434993256366}]
[{"$f":"'LV 1'!A476","v":466},{"$f":"'LV 1'!C476","v":18.398938143317707},{"$f":"'LV 1'!D476","v":2.8145366943035541}]
[{"$f":"'LV 1'!A477","v":467},{"$f":"'LV 1'!C477","v":18.600929985074721},{"$f":"'LV 1'!D477","v":2.8413484439608521}]
[{"$f":"'LV 1'!A478","v":468},{"$f":"'LV 1'!C478","v":18.794006259789736},{"$f":"'LV 1'!D478","v":2.8693679960934824}]
[{"$f":"'LV 1'!A479","v":469},{"$f":"'LV 1'!C479","v":18.977352415899055},{"$f":"'LV 1'!D479","v":2.898580560661641}]
[{"$f":"'LV 1'!A480","v":470},{"$f":"'LV 1'!C480","v":19.150156147008477},{"$f":"'LV 1'!D480","v":2.9289669812263588}]
[{"$f":"'LV 1'!A481","v":471},{"$f":"'LV 1'!C481","v":19.311613192409279},{"$f":"'LV 1'!D481","v":2.9605034102459431}]
[{"$f":"'LV 1'!A482","v":472},{"$f":"'LV 1'!C482","v":19.460933544321225},{"$f":"'LV 1'!D482","v":2.9931609933063306}]
[{"$f":"'LV 1'!A483","v":473},{"$f":"'LV 1'!C483","v":19.597348013435571},{"$f":"'LV 1'!D483","v":3.026905567946665}]
[{"$f":"'LV 1'!A484","v":474},{"$f":"'LV 1'!C484","v":19.720115091755034},{"$f":"'LV 1'!D484","v":3.0616973832850278}]
[{"$f":"'LV 1'!A485","v":475},{"$f":"'LV 1'!C485","v":19.82852803898124},{"$f":"'LV 1'!D485","v":3.097490847124047}]
[{"$f":"'LV 1'!A486","v":476},{"$f":"'LV 1'!C486","v":19.921922106160483},{"$f":"'LV 1'!D486","v":3.1342343075945274}]
[{"$f":"'LV 1'!A487","v":477},{"$f":"'LV 1'!C487","v":19.999681798398921},{"$f":"'LV 1'!D487","v":3.1718698766484064}]
[{"$f":"'LV 1'!A488","v":478},{"$f":"'LV 1'!C488","v":20.061248067676161},{"$f":"'LV 1'!D488","v":3.2103333028109633}]
[{"$f":"'LV 1'!A489","v":479},{"$f":"'LV 1'!C489","v":20.106125317629285},{"$f":"'LV 1'!D489","v":3.2495539005181637}]
[{"$f":"'LV 1'!A490","v":480},{"$f":"'LV 1'!C490","v":20.133888095165343},{"$f":"'LV 1'!D490","v":3.2894545430727979}]
[{"$f":"'LV 1'!A491","v":481},{"$f":"'LV 1'!C491","v":20.144187339392804},{"$f":"'LV 1'!D491","v":3.3299517257316773}]
[{"$f":"'LV 1'!A492","v":482},{"$f":"'LV 1'!C492","v":20.136756057103547},{"$f":"'LV 1'!D492","v":3.370955704670898}]
[{"$f":"'LV 1'!A493","v":483},{"$f":"'LV 1'!C493","v":20.11141429627774},{"$f":"'LV 1'!D493","v":3.412370716560535}]
[{"$f":"'LV 1'!A494","v":484},{"$f":"'LV 1'!C494","v":20.068073295114594},{"$f":"'LV 1'!D494","v":3.454095282217414}]
[{"$f":"'LV 1'!A495","v":485},{"$f":"'LV 1'!C495","v":20.006738694072691},{"$f":"'LV 1'!D495","v":3.4960225963092486}]
[{"$f":"'LV 1'!A496","v":486},{"$f":"'LV 1'!C496","v":19.927512712341468},{"$f":"'LV 1'!D496","v":3.5380410033819198}]
[{"$f":"'LV 1'!A497","v":487},{"$f":"'LV 1'!C497","v":19.83059520789465},{"$f":"'LV 1'!D497","v":3.5800345586126809}]
[{"$f":"'LV 1'!A498","v":488},{"$f":"'LV 1'!C498","v":19.716283561449906},{"$f":"'LV 1'!D498","v":3.6218836697060715}]
[{"$f":"'LV 1'!A499","v":489},{"$f":"'LV 1'!C499","v":19.584971348748642},{"$f":"'LV 1'!D499","v":3.663465814307159}]
[{"$f":"'LV 1'!A500","v":490},{"$f":"'LV 1'!C500","v":19.437145791878038},{"$f":"'LV 1'!D500","v":3.7046563252775768}]
[{"$f":"'LV 1'!A501","v":491},{"$f":"'LV 1'!C501","v":19.273384008042324},{"$f":"'LV 1'!D501","v":3.7453292342382243}]
[{"$f":"'LV 1'!A502","v":492},{"$f":"'LV 1'!C502","v":19.094348102299421},{"$f":"'LV 1'!D502","v":3.7853581620048971}]
[{"$f":"'LV 1'!A503","v":493},{"$f":"'LV 1'!C503","v":18.900779178295235},{"$f":"'LV 1'!D503","v":3.8246172430038006}]
[{"$f":"'LV 1'!A504","v":494},{"$f":"'LV 1'!C504","v":18.69349036692023},{"$f":"'LV 1'!D504","v":3.8629820695209811}]
[{"$f":"'LV 1'!A505","v":495},{"$f":"'LV 1'!C505","v":18.473358996091541},{"$f":"'LV 1'!D505","v":3.900330640770965}]
[{"$f":"'LV 1'!A506","v":496},{"$f":"'LV 1'!C506","v":18.241318044635864},{"$f":"'LV 1'!D506","v":3.9365443013092669}]
[{"$f":"'LV 1'!A507","v":497},{"$f":"'LV 1'!C507","v":17.998347038766145},{"$f":"'LV 1'!D507","v":3.9715086532880575}]
[{"$f":"'LV 1'!A508","v":498},{"$f":"'LV 1'!C508","v":17.745462560349871},{"$f":"'LV 1'!D508","v":4.0051144274726589}]
[{"$f":"'LV 1'!A509","v":499},{"$f":"'LV 1'!C509","v":17.483708541717871},{"$f":"'LV 1'!D509","v":4.0372582987876271}]
[{"$f":"'LV 1'!A510","v":500},{"$f":"'LV 1'!C510","v":17.214146522053902},{"$f":"'LV 1'!D510","v":4.067843633414892}]
[{"$f":"'LV 1'!A511","v":501},{"$f":"'LV 1'!C511","v":16.937846035567517},{"$f":"'LV 1'!D511","v":4.0967811560752612}]
[{"$f":"'LV 2'!A11","v":1},{"$f":"'LV 2'!C11","v":8},null,{"$f":"'LV 2'!D11","v":0.7}]
[{"$f":"'LV 2'!A12","v":2},{"$f":"'LV 2'!C12","v":8.4687347368781296},null,{"$f":"'LV 2'!D12","v":0.69458198262116655}]
[{"$f":"'LV 2'!A13","v":3},{"$f":"'LV 2'!C13","v":8.9659248391798485},null,{"$f":"'LV 2'!D13","v":0.68976517721479225}]
[{"$f":"'LV 2'!A14","v":4},{"$f":"'LV 2'!C14","v":9.4932286073689163},null,{"$f":"'LV 2'!D14","v":0.68557134434835842}]
[{"$f":"'LV 2'!A15","v":5},{"$f":"'LV 2'!C15","v":10.052384906804916},null,{"$f":"'LV 2'!D15","v":0.68202499074559231}]
[{"$f":"'LV 2'!A16","v":6},{"$f":"'LV 2'!C16","v":10.645214176498943},null,{"$f":"'LV 2'!D16","v":0.67915368244078611}]
[{"$f":"'LV 2'!A17","v":7},{"$f":"'LV 2'!C17","v":11.273618834612613},null,{"$f":"'LV 2'!D17","v":0.67698840165127516}]
[{"$f":"'LV 2'!A18","v":8},{"$f":"'LV 2'!C18","v":11.939582932429893},null,{"$f":"'LV 2'!D18","v":0.67556395410372905}]
[{"$f":"'LV 2'!A19","v":9},{"$f":"'LV 2'!C19","v":12.645170880359959},null,{"$f":"'LV 2'!D19","v":0.67491943467667759}]
[{"$f":"'LV 2'!A20","v":10},{"$f":"'LV 2'!C20","v":13.39252503626011},null,{"$f":"'LV 2'!D20","v":0.67509876054689377}]
[{"$f":"'LV 2'!A21","v":11},{"$f":"'LV 2'!C21","v":14.183861907089934},null,{"$f":"'LV 2'!D21","v":0.67615128258605084}]
[{"$f":"'LV 2'!A22","v":12},{"$f":"'LV 2'!C22","v":15.021466668556226},null,{"$f":"'LV 2'!D22","v":0.67813248758726985}]
[{"$f":"'LV 2'!A23","v":13},{"$f":"'LV 2'!C23","v":15.907685652742437},null,{"$f":"'LV 2'!D23","v":0.68110480605581836}]
[{"$f":"'LV 2'!A24","v":14},{"$f":"'LV 2'!C24","v":16.844916389301556},null,{"$f":"'LV 2'!D24","v":0.68513854282793629}]
[{"$f":"'LV 2'!A25","v":15},{"$f":"'LV 2'!C25","v":17.835594709979976},null,{"$f":"'LV 2'!D25","v":0.69031295074682986}]
[{"$f":"'LV 2'!A26","v":16},{"$f":"'LV 2'!C26","v":18.882178337161967},null,{"$f":"'LV 2'!D26","v":0.69671747109168181}]
[{"$f":"'LV 2'!A27","v":17},{"$f":"'LV 2'!C27","v":19.987126272687842},null,{"$f":"'LV 2'!D27","v":0.70445316849513628}]
[{"$f":"'LV 2'!A28","v":18},{"$f":"'LV 2'!C28","v":21.152873181113311},null,{"$f":"'LV 2'!D28","v":0.7136343927697818}]
[{"$f":"'LV 2'!A29","v":19},{"$f":"'LV 2'!C29","v":22.381797819410053},null,{"$f":"'LV 2'!D29","v":0.72439070546359363}]
[{"$f":"'LV 2'!A30","v":20},{"$f":"'LV 2'!C30","v":23.67618440039611},null,{"$f":"'LV 2'!D30","v":0.73686911513414988}]
[{"$f":"'LV 2'!A31","v":21},{"$f":"'LV 2'!C31","v":25.038175587634143},null,{"$f":"'LV 2'!D31","v":0.75123667230040025}]
[{"$f":"'LV 2'!A32","v":22},{"$f":"'LV 2'!C32","v":26.469715603342582},null,{"$f":"'LV 2'!D32","v":0.7676834827774498}]
[{"$f":"'LV 2'!A33","v":23},{"$f":"'LV 2'!C33","v":27.972481687233813},null,{"$f":"'LV 2'!D33","v":0.78642620651820527}]
[{"$f":"'LV 2'!A34","v":24},{"$f":"'LV 2'!C34","v":29.547801874131974},null,{"$f":"'LV 2'!D34","v":0.80771211793335707}]
[{"$f":"'LV 2'!A35","v":25},{"$f":"'LV 2'!C35","v":31.196556765739683},null,{"$f":"'LV 2'!D35","v":0.83182381248284665}]
[{"$f":"'LV 2'!A36","v":26},{"$f":"'LV 2'!C36","v":32.91906266580235},null,{"$f":"'LV 2'!D36","v":0.85908465234900799}]
[{"$f":"'LV 2'!A37","v":27},{"$f":"'LV 2'!C37","v":34.714933144296239},null,{"$f":"'LV 2'!D37","v":0.88986504995354831}]
[{"$f":"'LV 2'!A38","v":28},{"$f":"'LV 2'!C38","v":36.582915822304955},null,{"$f":"'LV 2'!D38","v":0.92458969000290192}]
[{"$f":"'LV 2'!A39","v":29},{"$f":"'LV 2'!C39","v":38.520700968280195},null,{"$f":"'LV 2'!D39","v":0.96374578566440805}]
[{"$f":"'LV 2'!A40","v":30},{"$f":"'LV 2'!C40","v":40.5246984349372},null,{"$f":"'LV 2'!D40","v":1.0078924479926219}]
[{"$f":"'LV 2'!A41","v":31},{"$f":"'LV 2'!C41","v":42.589779643178844},null,{"$f":"'LV 2'!D41","v":1.0576712134874799}]
[{"$f":"'LV 2'!A42","v":32},{"$f":"'LV 2'!C42","v":44.708981878707505},null,{"$f":"'LV 2'!D42","v":1.1138177136993859}]
[{"$f":"'LV 2'!A43","v":33},{"$f":"'LV 2'!C43","v":46.873173310792161},null,{"$f":"'LV 2'!D43","v":1.1771743707362394}]
[{"$f":"'LV 2'!A44","v":34},{"$f":"'LV 2'!C44","v":49.070679148240743},null,{"$f":"'LV 2'!D44","v":1.2487038468374654}]
[{"$f":"'LV 2'!A45","v":35},{"$f":"'LV 2'!C45","v":51.286872581758452},null,{"$f":"'LV 2'!D45","v":1.3295027435646318}]
[{"$f":"'LV 2'!A46","v":36},{"$f":"'LV 2'!C46","v":53.503739088688171},null,{"$f":"'LV 2'!D46","v":1.4208147105870588}]
[{"$f":"'LV 2'!A47","v":37},{"$f":"'LV 2'!C47","v":55.699429847396694},null,{"$f":"'LV 2'!D47","v":1.5240416561266421}]
[{"$f":"'LV 2'!A48","v":38},{"$f":"'LV 2'!C48","v":57.847830018389949},null,{"$f":"'LV 2'!D48","v":1.6407511220699826}]
[{"$f":"'LV 2'!A49","v":39},{"$f":"'LV 2'!C49","v":59.918181025411521},null,{"$f":"'LV 2'!D49","v":1.7726770766743554}]
[{"$f":"'LV 2'!A50","v":40},{"$f":"'LV 2'!C50","v":61.874812963536094},null,{"$f":"'LV 2'!D50","v":1.9217103908297151}]
[{"$f":"'LV 2'!A51","v":41},{"$f":"'LV 2'!C51","v":63.677063490878311},null,{"$f":"'LV 2'!D51","v":2.0898741526477522}]
[{"$f":"'LV 2'!A52","v":42},{"$f":"'LV 2'!C52","v":65.279481473626376},null,{"$f":"'LV 2'!D52","v":2.2792778763451165}]
[{"$f":"'LV 2'!A53","v":43},{"$f":"'LV 2'!C53","v":66.632433818688099},null,{"$f":"'LV 2'!D53","v":2.492043839926259}]
[{"$f":"'LV 2'!A54","v":44},{"$f":"'LV 2'!C54","v":67.683246271589596},null,{"$f":"'LV 2'!D54","v":2.7301986785974472}]
[{"$f":"'LV 2'!A55","v":45},{"$f":"'LV 2'!C55","v":68.378004271678563},null,{"$f":"'LV 2'!D55","v":2.9955245933416599}]
[{"$f":"'LV 2'!A56","v":46},{"$f":"'LV 2'!C56","v":68.66410627459598},null,{"$f":"'LV 2'!D56","v":3.2893678724676878}]
[{"$f":"'LV 2'!A57","v":47},{"$f":"'LV 2'!C57","v":68.493586662141567},null,{"$f":"'LV 2'!D57","v":3.6124085971114659}]
[{"$f":"'LV 2'!A58","v":48},{"$f":"'LV 2'!C58","v":67.827099928857464},null,{"$f":"'LV 2'!D58","v":3.9644047469077099}]
[{"$f":"'LV 2'!A59","v":49},{"$f":"'LV 2'!C59","v":66.638285283511024},null,{"$f":"'LV 2'!D59","v":4.3439358602107534}]
[{"$f":"'LV 2'!A60","v":50},{"$f":"'LV 2'!C60","v":64.918034255607324},null,{"$f":"'LV 2'!D60","v":4.748183888713343}]
[{"$f":"'LV 2'!A61","v":51},{"$f":"'LV 2'!C61","v":62.678011750292498},null,{"$f":"'LV 2'!D61","v":5.1727981700976366}]
[{"$f":"'LV 2'!A62","v":52},{"$f":"'LV 2'!C62","v":59.952702047453975},null,{"$f":"'LV 2'!D62","v":5.6118926180950295}]
[{"$f":"'LV 2'!A63","v":53},{"$f":"'LV 2'!C63","v":56.799334361269061},null,{"$f":"'LV 2'!D63","v":6.058211888388894}]
[{"$f":"'LV 2'!A64","v":54},{"$f":"'LV 2'!C64","v":53.295322900460555},null,{"$f":"'LV 2'!D64","v":6.5034780120247468}]
[{"$f":"'LV 2'!A65","v":55},{"$f":"'LV 2'!C65","v":49.533302097746919},null,{"$f":"'LV 2'!D65","v":6.9388935901826549}]
[{"$f":"'LV 2'!A66","v":56},{"$f":"'LV 2'!C66","v":45.614340207128954},null,{"$f":"'LV 2'!D66","v":7.3557413433254659}]
[{"$f":"'LV 2'!A67","v":57},{"$f":"'LV 2'!C67","v":41.640318684172257},null,{"$f":"'LV 2'!D67","v":7.7459944522956468}]
[{"$f":"'LV 2'!A68","v":58},{"$f":"'LV 2'!C68","v":37.706633038051379},null,{"$f":"'LV 2'!D68","v":8.1028471155115263}]
[{"$f":"'LV 2'!A69","v":59},{"$f":"'LV 2'!C69","v":33.896247816872773},null,{"$f":"'LV 2'!D69","v":8.4210923766880654}]
[{"$f":"'LV 2'!A70","v":60},{"$f":"'LV 2'!C70","v":30.275777093330738},null,{"$f":"'LV 2'!D70","v":8.6973084597183075}]
[{"$f":"'LV 2'!A71","v":61},{"$f":"'LV 2'!C71","v":26.893794819025118},null,{"$f":"'LV 2'!D71","v":8.9298540466488685}]
[{"$f":"'LV 2'!A72","v":62},{"$f":"'LV 2'!C72","v":23.781154558763021},null,{"$f":"'LV 2'!D72","v":9.1187055045088918}]
[{"$f":"'LV 2'!A73","v":63},{"$f":"'LV 2'!C73","v":20.952818248641329},null,{"$f":"'LV 2'!D73","v":9.2651877932351532}]
[{"$f":"'LV 2'!A74","v":64},{"$f":"'LV 2'!C74","v":18.410590039561509},null,{"$f":"'LV 2'!D74","v":9.371654490534425}]
[{"$f":"'LV 2'!A75","v":65},{"$f":"'LV 2'!C75","v":16.146194398737045},null,{"$f":"'LV 2'!D75","v":9.4411645705891907}]
[{"$f":"'LV 2'!A76","v":66},{"$f":"'LV 2'!C76","v":14.144267726378335},null,{"$f":"'LV 2'!D76","v":9.4771897677797039}]
[{"$f":"'LV 2'!A77","v":67},{"$f":"'LV 2'!C77","v":12.384990050668206},null,{"$f":"'LV 2'!D77","v":9.4833715791854516}]
[{"$f":"'LV 2'!A78","v":68},{"$f":"'LV 2'!C78","v":10.846225652282348},null,{"$f":"'LV 2'!D78","v":9.4633345020150248}]
[{"$f":"'LV 2'!A79","v":69},{"$f":"'LV 2'!C79","v":9.5051479997005881},null,{"$f":"'LV 2'!D79","v":9.4205533576973632}]
[{"$f":"'LV 2'!A80","v":70},{"$f":"'LV 2'!C80","v":8.3393914075917266},null,{"$f":"'LV 2'!D80","v":9.3582675150618417}]
[{"$f":"'LV 2'!A81","v":71},{"$f":"'LV 2'!C81","v":7.3278054206163237},null,{"$f":"'LV 2'!D81","v":9.2794327397149683}]
[{"$f":"'LV 2'!A82","v":72},{"$f":"'LV 2'!C82","v":6.4508977218777819},null,{"$f":"'LV 2'!D82","v":9.186701300705213}]
[{"$f":"'LV 2'!A83","v":73},{"$f":"'LV 2'!C83","v":5.6910467108029046},null,{"$f":"'LV 2'!D83","v":9.0824219925719234}]
[{"$f":"'LV 2'!A84","v":74},{"$f":"'LV 2'!C84","v":5.0325530694013052},null,{"$f":"'LV 2'!D84","v":8.9686532383626485}]
[{"$f":"'LV 2'!A85","v":75},{"$f":"'LV 2'!C85","v":4.4615855133577345},null,{"$f":"'LV 2'!D85","v":8.8471840170242473}]
[{"$f":"'LV 2'!A86","v":76},{"$f":"'LV 2'!C86","v":3.9660623336072391},null,{"$f":"'LV 2'!D86","v":8.719558783800089}]
[{"$f":"'LV 2'!A87","v":77},{"$f":"'LV 2'!C87","v":3.5354986346498278},null,{"$f":"'LV 2'!D87","v":8.5871037309735012}]
[{"$f":"'LV 2'!A88","v":78},{"$f":"'LV 2'!C88","v":3.1608398020798463},null,{"$f":"'LV 2'!D88","v":8.4509526524501073}]
[{"$f":"'LV 2'!A89","v":79},{"$f":"'LV 2'!C89","v":2.8342946062206047},null,{"$f":"'LV 2'!D89","v":8.3120713537181921}]
[{"$f":"'LV 2'!A90","v":80},{"$f":"'LV 2'!C90","v":2.5491761582761403},null,{"$f":"'LV 2'!D90","v":8.1712800295136905}]
[{"$f":"'LV 2'!A91","v":81},{"$f":"'LV 2'!C91","v":2.2997552956713565},null,{"$f":"'LV 2'!D91","v":8.0292733584980827}]
[{"$f":"'LV 2'!A92","v":82},{"$f":"'LV 2'!C92","v":2.0811285152332664},null,{"$f":"'LV 2'!D92","v":7.8866382766547511}]
[{"$f":"'LV 2'!A93","v":83},{"$f":"'LV 2'!C93","v":1.8891009808575157},null,{"$f":"'LV 2'!D93","v":7.7438695212950286}]
[{"$f":"'LV 2'!A94","v":84},{"$f":"'LV 2'!C94","v":1.7200841542762131},null,{"$f":"'LV 2'!D94","v":7.6013831107469265}]
[{"$f":"'LV 2'!A95","v":85},{"$f":"'LV 2'!C95","v":1.5710070416617745},null,{"$f":"'LV 2'!D95","v":7.4595279597904547}]
[{"$f":"'LV 2'!A96","v":86},{"$f":"'LV 2'!C96","v":1.4392397742112819},null,{"$f":"'LV 2'!D96","v":7.3185958412770766}]
[{"$f":"'LV 2'!A97","v":87},{"$f":"'LV 2'!C97","v":1.3225281471327111},null,{"$f":"'LV 2'!D97","v":7.1788298996381785}]
[{"$f":"'LV 2'!A98","v":88},{"$f":"'LV 2'!C98","v":1.2189377588442738},null,{"$f":"'LV 2'!D98","v":7.0404319086306266}]
[{"$f":"'LV 2'!A99","v":89},{"$f":"'LV 2'!C99","v":1.1268064734554608},null,{"$f":"'LV 2'!D99","v":6.9035684479788619}]
[{"$f":"'LV 2'!A100","v":90},{"$f":"'LV 2'!C100","v":1.0447040435650403},null,{"$f":"'LV 2'!D100","v":6.768376154301631}]
[{"$f":"'LV 2'!A101","v":91},{"$f":"'LV 2'!C101","v":0.97139785716900739},null,{"$f":"'LV 2'!D101","v":6.6349661825440043}]
[{"$f":"'LV 2'!A102","v":92},{"$f":"'LV 2'!C102","v":0.9058238997914011},null,{"$f":"'LV 2'!D102","v":6.5034279960436452}]
[{"$f":"'LV 2'!A103","v":93},{"$f":"'LV 2'!C103","v":0.84706214375427735},null,{"$f":"'LV 2'!D103","v":6.3738325868469188}]
[{"$f":"'LV 2'!A104","v":94},{"$f":"'LV 2'!C104","v":0.79431568708161593},null,{"$f":"'LV 2'!D104","v":6.2462352131589727}]
[{"$f":"'LV 2'!A105","v":95},{"$f":"'LV 2'!C105","v":0.74689306332227257},null,{"$f":"'LV 2'!D105","v":6.1206777278826028}]
[{"$f":"'LV 2'!A106","v":96},{"$f":"'LV 2'!C106","v":0.70419323033221115},null,{"$f":"'LV 2'!D106","v":5.9971905609873986}]
[{"$f":"'LV 2'!A107","v":97},{"$f":"'LV 2'!C107","v":0.66569282129467966},null,{"$f":"'LV 2'!D107","v":5.8757944088112746}]
[{"$f":"'LV 2'!A108","v":98},{"$f":"'LV 2'!C108","v":0.63093530590452318},null,{"$f":"'LV 2'!D108","v":5.7565016751646798}]
[{"$f":"'LV 2'!A109","v":99},{"$f":"'LV 2'!C109","v":0.59952176480526087},null,{"$f":"'LV 2'!D109","v":5.6393177021128267}]
[{"$f":"'LV 2'!A110","v":100},{"$f":"'LV 2'!C110","v":0.57110302719124284},null,{"$f":"'LV 2'!D110","v":5.5242418223891079}]
[{"$f":"'LV 2'!A111","v":101},{"$f":"'LV 2'!C111","v":0.54537296107771038},null,{"$f":"'LV 2'!D111","v":5.4112682603924682}]
[{"$f":"'LV 2'!A112","v":102},{"$f":"'LV 2'!C112","v":0.52206273911987455},null,{"$f":"'LV 2'!D112","v":5.3003869045073921}]
[{"$f":"'LV 2'!A113","v":103},{"$f":"'LV 2'!C113","v":0.50093593094460154},null,{"$f":"'LV 2'!D113","v":5.1915839699382929}]
[{"$f":"'LV 2'!A114","v":104},{"$f":"'LV 2'!C114","v":0.48178429655140492},null,{"$f":"'LV 2'!D114","v":5.0848425682670415}]
[{"$f":"'LV 2'!A115","v":105},{"$f":"'LV 2'!C115","v":0.46442417514286544},null,{"$f":"'LV 2'!D115","v":4.9801431974344803}]
[{"$f":"'LV 2'!A116","v":106},{"$f":"'LV 2'!C116","v":0.44869338035900608},null,{"$f":"'LV 2'!D116","v":4.8774641637383134}]
[{"$f":"'LV 2'!A117","v":107},{"$f":"'LV 2'!C117","v":0.43444852682721097},null,{"$f":"'LV 2'!D117","v":4.7767819456667082}]
[{"$f":"'LV 2'!A118","v":108},{"$f":"'LV 2'!C118","v":0.42156272463223143},null,{"$f":"'LV 2'!D118","v":4.6780715078951793}]
[{"$f":"'LV 2'!A119","v":109},{"$f":"'LV 2'!C119","v":0.40992358812488483},null,{"$f":"'LV 2'!D119","v":4.5813065725183453}]
[{"$f":"'LV 2'!A120","v":110},{"$f":"'LV 2'!C120","v":0.39943151373002966},null,{"$f":"'LV 2'!D120","v":4.4864598535298121}]
[{"$f":"'LV 2'!A121","v":111},{"$f":"'LV 2'!C121","v":0.38999818834141187},null,{"$f":"'LV 2'!D121","v":4.3935032596707533}]
[{"$f":"'LV 2'!A122","v":112},{"$f":"'LV 2'!C122","v":0.38154529571808488},null,{"$f":"'LV 2'!D122","v":4.3024080700139837}]
[{"$f":"'LV 2'!A123","v":113},{"$f":"'LV 2'!C123","v":0.37400339320399267},null,{"$f":"'LV 2'!D123","v":4.2131450860130721}]
[{"$f":"'LV 2'!A124","v":114},{"$f":"'LV 2'!C124","v":0.36731093522895336},null,{"$f":"'LV 2'!D124","v":4.1256847632066531}]
[{"$f":"'LV 2'!A125","v":115},{"$f":"'LV 2'!C125","v":0.36141342354084233},null,{"$f":"'LV 2'!D125","v":4.0399973253109014}]
[{"$f":"'LV 2'!A126","v":116},{"$f":"'LV 2'!C126","v":0.35626266706966009},null,{"$f":"'LV 2'!D126","v":3.9560528630451222}]
[{"$f":"'LV 2'!A127","v":117},{"$f":"'LV 2'!C127","v":0.3518161368215027},null,{"$f":"'LV 2'!D127","v":3.8738214197055947}]
[{"$f":"'LV 2'!A128","v":118},{"$f":"'LV 2'!C128","v":0.34803640331695379},null,{"$f":"'LV 2'!D128","v":3.7932730652221007}]
[{"$f":"'LV 2'!A129","v":119},{"$f":"'LV 2'!C129","v":0.34489064588481461},null,{"$f":"'LV 2'!D129","v":3.7143779601922904}]
[{"$f":"'LV 2'!A130","v":120},{"$f":"'LV 2'!C130","v":0.34235022464914278},null,{"$f":"'LV 2'!D130","v":3.6371064111847589}]
[{"$f":"'LV 2'!A131","v":121},{"$f":"'LV 2'!C131","v":0.34039030734772119},null,{"$f":"'LV 2'!D131","v":3.5614289184270778}]
[{"$f":"'LV 2'!A132","v":122},{"$f":"'LV 2'!C132","v":0.33898954422887201},null,{"$f":"'LV 2'!D132","v":3.4873162168454801}]
[{"$f":"'LV 2'!A133","v":123},{"$f":"'LV 2'!C133","v":0.33812978522073833},null,{"$f":"'LV 2'!D133","v":3.414739311294682}]
[{"$f":"'LV 2'!A134","v":124},{"$f":"'LV 2'!C134","v":0.33779583437776378},null,{"$f":"'LV 2'!D134","v":3.3436695067061888}]
[{"$f":"'LV 2'!A135","v":125},{"$f":"'LV 2'!C135","v":0.33797523730409185},null,{"$f":"'LV 2'!D135","v":3.2740784337887239}]
[{"$f":"'LV 2'!A136","v":126},{"$f":"'LV 2'!C136","v":0.33865809785062367},null,{"$f":"'LV 2'!D136","v":3.2059380708328336}]
[{"$f":"'LV 2'!A137","v":127},{"$f":"'LV 2'!C137","v":0.33983692089637563},null,{"$f":"'LV 2'!D137","v":3.1392207621013335}]
[{"$f":"'LV 2'!A138","v":128},{"$f":"'LV 2'!C138","v":0.34150647846809495},null,{"$f":"'LV 2'!D138","v":3.0738992332264732}]
[{"$f":"'LV 2'!A139","v":129},{"$f":"'LV 2'!C139","v":0.34366369683539577},null,{"$f":"'LV 2'!D139","v":3.0099466039820828}]
[{"$f":"'LV 2'!A140","v":130},{"$f":"'LV 2'!C140","v":0.34630756255092049},null,{"$f":"'LV 2'!D140","v":2.9473363987534067}]
[{"$f":"'LV 2'!A141","v":131},{"$f":"'LV 2'!C141","v":0.34943904569378048},null,{"$f":"'LV 2'!D141","v":2.8860425549877862}]
[{"$f":"'LV 2'!A142","v":132},{"$f":"'LV 2'!C142","v":0.3530610388262157},null,{"$f":"'LV 2'!D142","v":2.8260394298750073}]
[{"$f":"'LV 2'!A143","v":133},{"$f":"'LV 2'!C143","v":0.35717831039348985},null,{"$f":"'LV 2'!D143","v":2.7673018054762624}]
[{"$f":"'LV 2'!A144","v":134},{"$f":"'LV 2'!C144","v":0.36179747149015545},null,{"$f":"'LV 2'!D144","v":2.709804892494641}]
[{"$f":"'LV 2'!A145","v":135},{"$f":"'LV 2'!C145","v":0.36692695508593781},null,{"$f":"'LV 2'!D145","v":2.6535243328573839}]
[{"$f":"'LV 2'!A146","v":136},{"$f":"'LV 2'!C146","v":0.37257700695498619},null,{"$f":"'LV 2'!D146","v":2.5984362012603168}]
[{"$f":"'LV 2'!A147","v":137},{"$f":"'LV 2'!C147","v":0.37875968768601703},null,{"$f":"'LV 2'!D147","v":2.5445170058075628}]
[{"$f":"'LV 2'!A148","v":138},{"$f":"'LV 2'!C148","v":0.38548888527041314},null,{"$f":"'LV 2'!D148","v":2.4917436878644916}]
[{"$f":"'LV 2'!A149","v":139},{"$f":"'LV 2'!C149","v":0.39278033787277877},null,{"$f":"'LV 2'!D149","v":2.4400936212285824}]
[{"$f":"'LV 2'!A150","v":140},{"$f":"'LV 2'!C150","v":0.40065166648562406},null,{"$f":"'LV 2'!D150","v":2.3895446107112615}]
[{"$f":"'LV 2'!A151","v":141},{"$f":"'LV 2'!C151","v":0.40912241725835335},null,{"$f":"'LV 2'!D151","v":2.3400748902135633}]
[{"$f":"'LV 2'!A152","v":142},{"$f":"'LV 2'!C152","v":0.4182141133719367},null,{"$f":"'LV 2'!D152","v":2.2916631203695252}]
[{"$f":"'LV 2'!A153","v":143},{"$f":"'LV 2'!C153","v":0.4279503164057521},null,{"$f":"'LV 2'!D153","v":2.2442883858233547}]
[{"$f":"'LV 2'!A154","v":144},{"$f":"'LV 2'!C154","v":0.43835669721313958},null,{"$f":"'LV 2'!D154","v":2.1979301921995154}]
[{"$f":"'LV 2'!A155","v":145},{"$f":"'LV 2'!C155","v":0.44946111638812142},null,{"$f":"'LV 2'!D155","v":2.1525684628188215}]
[{"$f":"'LV 2'!A156","v":146},{"$f":"'LV 2'!C156","v":0.46129371446832013},null,{"$f":"'LV 2'!D156","v":2.1081835352083029}]
[{"$f":"'LV 2'!A157","v":147},{"$f":"'LV 2'!C157","v":0.47388701207905143},null,{"$f":"'LV 2'!D157","v":2.0647561574479552}]
[{"$f":"'LV 2'!A158","v":148},{"$f":"'LV 2'!C158","v":0.48727602028151579},null,{"$f":"'LV 2'!D158","v":2.0222674843933959}]
[{"$f":"'LV 2'!A159","v":149},{"$f":"'LV 2'!C159","v":0.50149836144451243},null,{"$f":"'LV 2'!D159","v":1.9806990738098869}]
[{"$f":"'LV 2'!A160","v":150},{"$f":"'LV 2'!C160","v":0.51659440101465692},null,{"$f":"'LV 2'!D160","v":1.9400328824500748}]
[{"$f":"'LV 2'!A161","v":151},{"$f":"'LV 2'!C161","v":0.53260739061514428},null,{"$f":"'LV 2'!D161","v":1.9002512621050993}]
[{"$f":"'LV 2'!A162","v":152},{"$f":"'LV 2'!C162","v":0.5495836229580684},null,{"$f":"'LV 2'!D162","v":1.8613369556563997}]
[{"$f":"'LV 2'!A163","v":153},{"$f":"'LV 2'!C163","v":0.56757259911055291},null,{"$f":"'LV 2'!D163","v":1.8232730931535444}]
[{"$f":"'LV 2'!A164","v":154},{"$f":"'LV 2'!C164","v":0.58662720871080243},null,{"$f":"'LV 2'!D164","v":1.7860431879417304}]
[{"$f":"'LV 2'!A165","v":155},{"$f":"'LV 2'!C165","v":0.60680392378694847},null,{"$f":"'LV 2'!D165","v":1.7496311328611727}]
[{"$f":"'LV 2'!A166","v":156},{"$f":"'LV 2'!C166","v":0.62816300688952309},null,{"$f":"'LV 2'!D166","v":1.7140211965394572}]
[{"$f":"'LV 2'!A167","v":157},{"$f":"'LV 2'!C167","v":0.65076873430779647},null,{"$f":"'LV 2'!D167","v":1.6791980197970067}]
[{"$f":"'LV 2'!A168","v":158},{"$f":"'LV 2'!C168","v":0.67468963520129688},null,{"$f":"'LV 2'!D168","v":1.6451466121851146}]
[{"$f":"'LV 2'!A169","v":159},{"$f":"'LV 2'!C169","v":0.69999874754080316},null,{"$f":"'LV 2'!D169","v":1.6118523486755214}]
[{"$f":"'LV 2'!A170","v":160},{"$f":"'LV 2'!C170","v":0.72677389181815366},null,{"$f":"'LV 2'!D170","v":1.5793009665202322}]
[{"$f":"'LV 2'!A171","v":161},{"$f":"'LV 2'!C171","v":0.75509796355151537},null,{"$f":"'LV 2'!D171","v":1.5474785623001928}]
[{"$f":"'LV 2'!A172","v":162},{"$f":"'LV 2'!C172","v":0.78505924568246155},null,{"$f":"'LV 2'!D172","v":1.5163715891815635}]
[{"$f":"'LV 2'!A173","v":163},{"$f":"'LV 2'!C173","v":0.81675174203342693},null,{"$f":"'LV 2'!D173","v":1.4859668543986466}]
[{"$f":"'LV 2'!A174","v":164},{"$f":"'LV 2'!C174","v":0.85027553306895642},null,{"$f":"'LV 2'!D174","v":1.4562515169830315}]
[{"$f":"'LV 2'!A175","v":165},{"$f":"'LV 2'!C175","v":0.88573715528169972},null,{"$f":"'LV 2'!D175","v":1.427213085759248}]
[{"$f":"'LV 2'!A176","v":166},{"$f":"'LV 2'!C176","v":0.92325000560437287},null,{"$f":"'LV 2'!D176","v":1.3988394176281413}]
[{"$f":"'LV 2'!A177","v":167},{"$f":"'LV 2'!C177","v":0.96293477233190361},null,{"$f":"'LV 2'!D177","v":1.3711187161603389}]
[{"$f":"'LV 2'!A178","v":168},{"$f":"'LV 2'!C178","v":1.0049198941236617},null,{"$f":"'LV 2'!D178","v":1.3440395305235646}]
[{"$f":"'LV 2'!A179","v":169},{"$f":"'LV 2'!C179","v":1.0493420487439566},null,{"$f":"'LV 2'!D179","v":1.3175907547691994}]
[{"$f":"'LV 2'!A180","v":170},{"$f":"'LV 2'!C180","v":1.0963466732897043},null,{"$f":"'LV 2'!D180","v":1.2917616275053994}]
[{"$f":"'LV 2'!A181","v":171},{"$f":"'LV 2'!C181","v":1.1460885177471116},null,{"$f":"'LV 2'!D181","v":1.2665417319862933}]
[{"$f":"'LV 2'!A182","v":172},{"$f":"'LV 2'!C182","v":1.1987322338140958},null,{"$f":"'LV 2'!D182","v":1.241920996649319}]
[{"$f":"'LV 2'!A183","v":173},{"$f":"'LV 2'!C183","v":1.2544530010215513},null,{"$f":"'LV 2'!D183","v":1.2178896961356496}]
[{"$f":"'LV 2'!A184","v":174},{"$f":"'LV 2'!C184","v":1.313437192284006},null,{"$f":"'LV 2'!D184","v":1.1944384528319554}]
[{"$f":"'LV 2'!A185","v":175},{"$f":"'LV 2'!C185","v":1.3758830811080205},null,{"$f":"'LV 2'!D185","v":1.1715582389754742}]
[{"$f":"'LV 2'!A186","v":176},{"$f":"'LV 2'!C186","v":1.442001592784123},null,{"$f":"'LV 2'!D186","v":1.1492403793685879}]
[{"$f":"'LV 2'!A187","v":177},{"$f":"'LV 2'!C187","v":1.512017101984152},null,{"$f":"'LV 2'!D187","v":1.1274765547538754}]
[{"$f":"'LV 2'!A188","v":178},{"$f":"'LV 2'!C188","v":1.5861682792794607},null,{"$f":"'LV 2'!D188","v":1.1062588059060015}]
[{"$f":"'LV 2'!A189","v":179},{"$f":"'LV 2'!C189","v":1.6647089891850997},null,{"$f":"'LV 2'!D189","v":1.0855795385028855}]
[{"$f":"'LV 2'!A190","v":180},{"$f":"'LV 2'!C190","v":1.7479092424191662},null,{"$f":"'LV 2'!D190","v":1.0654315288454612}]
[{"$f":"'LV 2'!A191","v":181},{"$f":"'LV 2'!C191","v":1.8360562051429707},null,{"$f":"'LV 2'!D191","v":1.0458079305030881}]
[{"$f":"'LV 2'!A192","v":182},{"$f":"'LV 2'!C192","v":1.929455268014129},null,{"$f":"'LV 2'!D192","v":1.0267022819704301}]
[{"$f":"'LV 2'!A193","v":183},{"$f":"'LV 2'!C193","v":2.028431177938312},null,{"$f":"'LV 2'!D193","v":1.0081085154315061}]
[{"$f":"'LV 2'!A194","v":184},{"$f":"'LV 2'!C194","v":2.1333292354427935},null,{"$f":"'LV 2'!D194","v":0.99002096673778983}]
[{"$f":"'LV 2'!A195","v":185},{"$f":"'LV 2'!C195","v":2.2445165606121757},null,{"$f":"'LV 2'!D195","v":0.97243438671988836}]
[{"$f":"'LV 2'!A196","v":186},{"$f":"'LV 2'!C196","v":2.3623834305190496},null,{"$f":"'LV 2'!D196","v":0.95534395396664107}]
[{"$f":"'LV 2'!A197","v":187},{"$f":"'LV 2'!C197","v":2.4873446910443509},null,{"$f":"'LV 2'!D197","v":0.93874528922170819}]
[{"$f":"'LV 2'!A198","v":188},{"$f":"'LV 2'!C198","v":2.6198412459073168},null,{"$f":"'LV 2'!D198","v":0.92263447156612421}]
[{"$f":"'LV 2'!A199","v":189},{"$f":"'LV 2'!C199","v":2.7603416256056175},null,{"$f":"'LV 2'!D199","v":0.90700805657619132}]
[{"$f":"'LV 2'!A200","v":190},{"$f":"'LV 2'!C200","v":2.9093436387934801},null,{"$f":"'LV 2'!D200","v":0.89186309666985175}]
[{"$f":"'LV 2'!A201","v":191},{"$f":"'LV 2'!C201","v":3.0673761083889315},null,{"$f":"'LV 2'!D201","v":0.87719716388172231}]
[{"$f":"'LV 2'!A202","v":192},{"$f":"'LV 2'!C202","v":3.2350006943883574},null,{"$f":"'LV 2'!D202","v":0.86300837533779173}]
[{"$f":"'LV 2'!A203","v":193},{"$f":"'LV 2'!C203","v":3.412813804962946},null,{"$f":"'LV 2'!D203","v":0.84929542173594641}]
[{"$f":"'LV 2'!A204","v":194},{"$f":"'LV 2'!C204","v":3.6014485969002981},null,{"$f":"'LV 2'!D204","v":0.8360575991786563}]
[{"$f":"'LV 2'!A205","v":195},{"$f":"'LV 2'!C205","v":3.80157706581568},null,{"$f":"'LV 2'!D205","v":0.8232948447501065}]
[{"$f":"'LV 2'!A206","v":196},{"$f":"'LV 2'!C206","v":4.0139122257677258},null,{"$f":"'LV 2'!D206","v":0.8110077762826885}]
[{"$f":"'LV 2'!A207","v":197},{"$f":"'LV 2'!C207","v":4.239210376945505},null,{"$f":"'LV 2'!D207","v":0.79919773681813633}]
[{"$f":"'LV 2'!A208","v":198},{"$f":"'LV 2'!C208","v":4.4782734589156226},null,{"$f":"'LV 2'!D208","v":0.78786684433792908}]
[{"$f":"'LV 2'!A209","v":199},{"$f":"'LV 2'!C209","v":4.7319514854916926},null,{"$f":"'LV 2'!D209","v":0.7770180474173346}]
[{"$f":"'LV 2'!A210","v":200},{"$f":"'LV 2'!C210","v":5.001145055569773},null,{"$f":"'LV 2'!D210","v":0.76665518754933049}]
[{"$f":"'LV 2'!A211","v":201},{"$f":"'LV 2'!C211","v":5.2868079322100918},null,{"$f":"'LV 2'!D211","v":0.75678306899060033}]
[{"$f":"'LV 2'!A212","v":202},{"$f":"'LV 2'!C212","v":5.5899496797763151},null,{"$f":"'LV 2'!D212","v":0.74740753710420671}]
[{"$f":"'LV 2'!A213","v":203},{"$f":"'LV 2'!C213","v":5.9116383459965922},null,{"$f":"'LV 2'!D213","v":0.7385355663151455}]
[{"$f":"'LV 2'!A214","v":204},{"$f":"'LV 2'!C214","v":6.2530031723006996},null,{"$f":"'LV 2'!D214","v":0.73017535895903607}]
[{"$f":"'LV 2'!A215","v":205},{"$f":"'LV 2'!C215","v":6.6152373116147407},null,{"$f":"'LV 2'!D215","v":0.72233645649453804}]
[{"$f":"'LV 2'!A216","v":206},{"$f":"'LV 2'!C216","v":6.9996005278409612},null,{"$f":"'LV 2'!D216","v":0.71502986477123565}]
[{"$f":"'LV 2'!A217","v":207},{"$f":"'LV 2'!C217","v":7.4074218453761382},null,{"$f":"'LV 2'!D217","v":0.70826819530204532}]
[{"$f":"'LV 2'!A218","v":208},{"$f":"'LV 2'!C218","v":7.8401021100632899},null,{"$f":"'LV 2'!D218","v":0.70206582478902912}]
[{"$f":"'LV 2'!A219","v":209},{"$f":"'LV 2'!C219","v":8.2991164147340513},null,{"$f":"'LV 2'!D219","v":0.69643907550131567}]
[{"$f":"'LV 2'!A220","v":210},{"$f":"'LV 2'!C220","v":8.7860163327536398},null,{"$f":"'LV 2'!D220","v":0.69140641951253778}]
[{"$f":"'LV 2'!A221","v":211},{"$f":"'LV 2'!C221","v":9.3024318914558943},null,{"$f":"'LV 2'!D221","v":0.68698871028329145}]
[{"$f":"'LV 2'!A222","v":212},{"$f":"'LV 2'!C222","v":9.8500732037321459},null,{"$f":"'LV 2'!D222","v":0.68320944563405606}]
[{"$f":"'LV 2'!A223","v":213},{"$f":"'LV 2'!C223","v":10.430731659936141},null,{"$f":"'LV 2'!D223","v":0.68009506681052456}]
[{"$f":"'LV 2'!A224","v":214},{"$f":"'LV 2'!C224","v":11.046280563240849},null,{"$f":"'LV 2'!D224","v":0.67767529911377655}]
[{"$f":"'LV 2'!A225","v":215},{"$f":"'LV 2'!C225","v":11.698675069103874},null,{"$f":"'LV 2'!D225","v":0.67598354047275633}]
[{"$f":"'LV 2'!A226","v":216},{"$f":"'LV 2'!C226","v":12.389951262943994},null,{"$f":"'LV 2'!D226","v":0.67505730540030129}]
[{"$f":"'LV 2'!A227","v":217},{"$f":"'LV 2'!C227","v":13.122224178769356},null,{"$f":"'LV 2'!D227","v":0.67493873302495477}]
[{"$f":"'LV 2'!A228","v":218},{"$f":"'LV 2'!C228","v":13.897684524467211},null,{"$f":"'LV 2'!D228","v":0.67567516936227212}]
[{"$f":"'LV 2'!A229","v":219},{"$f":"'LV 2'!C229","v":14.718593835757819},null,{"$f":"'LV 2'!D229","v":0.67731983572003318}]
[{"$f":"'LV 2'!A230","v":220},{"$f":"'LV 2'!C230","v":15.587277729255575},null,{"$f":"'LV 2'!D230","v":0.67993259716648025}]
[{"$f":"'LV 2'!A231","v":221},{"$f":"'LV 2'!C231","v":16.50611686430479},null,{"$f":"'LV 2'!D231","v":0.6835808473806616}]
[{"$f":"'LV 2'!A232","v":222},{"$f":"'LV 2'!C232","v":17.477535151695601},null,{"$f":"'LV 2'!D232","v":0.68834052900712606}]
[{"$f":"'LV 2'!A233","v":223},{"$f":"'LV 2'!C233","v":18.503984663226838},null,{"$f":"'LV 2'!D233","v":0.694297311917909}]
[{"$f":"'LV 2'!A234","v":224},{"$f":"'LV 2'!C234","v":19.587926597352808},null,{"$f":"'LV 2'!D234","v":0.70154795561262862}]
[{"$f":"'LV 2'!A235","v":225},{"$f":"'LV 2'!C235","v":20.731807540605619},null,{"$f":"'LV 2'!D235","v":0.71020188643513504}]
[{"$f":"'LV 2'!A236","v":226},{"$f":"'LV 2'!C236","v":21.93803012973191},null,{"$f":"'LV 2'!D236","v":0.72038302542358057}]
[{"$f":"'LV 2'!A237","v":227},{"$f":"'LV 2'!C237","v":23.208917063053896},null,{"$f":"'LV 2'!D237","v":0.73223190850195852}]
[{"$f":"'LV 2'!A238","v":228},{"$f":"'LV 2'!C238","v":24.546667229075357},null,{"$f":"'LV 2'!D238","v":0.7459081474055993}]
[{"$f":"'LV 2'!A239","v":229},{"$f":"'LV 2'!C239","v":25.953302513778187},null,{"$f":"'LV 2'!D239","v":0.76159328721046426}]
[{"$f":"'LV 2'!A240","v":230},{"$f":"'LV 2'!C240","v":27.430603614166735},null,{"$f":"'LV 2'!D240","v":0.77949412453527134}]
[{"$f":"'LV 2'!A241","v":231},{"$f":"'LV 2'!C241","v":28.980032924669199},null,{"$f":"'LV 2'!D241","v":0.79984655921980141}]
[{"$f":"'LV 2'!A242","v":232},{"$f":"'LV 2'!C242","v":30.602642277771857},null,{"$f":"'LV 2'!D242","v":0.82292006118316507}]
[{"$f":"'LV 2'!A243","v":233},{"$f":"'LV 2'!C243","v":32.298963017583681},null,{"$f":"'LV 2'!D243","v":0.84902284258389549}]
[{"$f":"'LV 2'!A244","v":234},{"$f":"'LV 2'!C244","v":34.068875578074277},null,{"$f":"'LV 2'!D244","v":0.87850783227184981}]
[{"$f":"'LV 2'!A245","v":235},{"$f":"'LV 2'!C245","v":35.911455449239753},null,{"$f":"'LV 2'!D245","v":0.91177955315581183}]
[{"$f":"'LV 2'!A246","v":236},{"$f":"'LV 2'!C246","v":37.824792181321804},null,{"$f":"'LV 2'!D246","v":0.94930200093551764}]
[{"$f":"'LV 2'!A247","v":237},{"$f":"'LV 2'!C247","v":39.805777956785761},null,{"$f":"'LV 2'!D247","v":0.99160761082537863}]
[{"$f":"'LV 2'!A248","v":238},{"$f":"'LV 2'!C248","v":41.849862338338063},null,{"$f":"'LV 2'!D248","v":1.0393073718404329}]
[{"$f":"'LV 2'!A249","v":239},{"$f":"'LV 2'!C249","v":43.950770205043128},null,{"$f":"'LV 2'!D249","v":1.0931020979628632}]
[{"$f":"'LV 2'!A250","v":240},{"$f":"'LV 2'!C250","v":46.100180797312454},null,{"$f":"'LV 2'!D250","v":1.1537947809909883}]
[{"$f":"'LV 2'!A251","v":241},{"$f":"'LV 2'!C251","v":48.287367454019432},null,{"$f":"'LV 2'!D251","v":1.2223038161206217}]
[{"$f":"'LV 2'!A252","v":242},{"$f":"'LV 2'!C252","v":50.498800374797206},null,{"$f":"'LV 2'!D252","v":1.2996766887562301}]
[{"$f":"'LV 2'!A253","v":243},{"$f":"'LV 2'!C253","v":52.717719007175702},null,{"$f":"'LV 2'!D253","v":1.3871034152802364}]
[{"$f":"'LV 2'!A254","v":244},{"$f":"'LV 2'!C254","v":54.923686965117795},null,{"$f":"'LV 2'!D254","v":1.4859286130412943}]
[{"$f":"'LV 2'!A255","v":245},{"$f":"'LV 2'!C255","v":57.092151320238088},null,{"$f":"'LV 2'!D255","v":1.5976605059677715}]
[{"$f":"'LV 2'!A256","v":246},{"$f":"'LV 2'!C256","v":59.194040238764863},null,{"$f":"'LV 2'!D256","v":1.7239744275990165}]
[{"$f":"'LV 2'!A257","v":247},{"$f":"'LV 2'!C257","v":61.195448647875217},null,{"$f":"'LV 2'!D257","v":1.8667074562985406}]
[{"$f":"'LV 2'!A258","v":248},{"$f":"'LV 2'!C258","v":63.057480799149147},null,{"$f":"'LV 2'!D258","v":2.0278397399163377}]
[{"$f":"'LV 2'!A259","v":249},{"$f":"'LV 2'!C259","v":64.736340191263736},null,{"$f":"'LV 2'!D259","v":2.2094569412744693}]
[{"$f":"'LV 2'!A260","v":250},{"$f":"'LV 2'!C260","v":66.183778642930704},null,{"$f":"'LV 2'!D260","v":2.4136872755877437}]
[{"$f":"'LV 2'!A261","v":251},{"$f":"'LV 2'!C261","v":67.348032315574414},null,{"$f":"'LV 2'!D261","v":2.6426061878320501}]
[{"$f":"'LV 2'!A262","v":252},{"$f":"'LV 2'!C262","v":68.175375097223224},null,{"$f":"'LV 2'!D262","v":2.89810239205196}]
[{"$f":"'LV 2'!A263","v":253},{"$f":"'LV 2'!C263","v":68.61239785533752},null,{"$f":"'LV 2'!D263","v":3.1817014942262931}]
[{"$f":"'LV 2'!A264","v":254},{"$f":"'LV 2'!C264","v":68.609062872964088},null,{"$f":"'LV 2'!D264","v":3.4943485182457219}]
[{"$f":"'LV 2'!A265","v":255},{"$f":"'LV 2'!C265","v":68.122475592980607},null,{"$f":"'LV 2'!D265","v":3.8361588797841835}]
[{"$f":"'LV 2'!A266","v":256},{"$f":"'LV 2'!C266","v":67.121158539340371},null,{"$f":"'LV 2'!D266","v":4.2061585184747665}]
[{"$f":"'LV 2'!A267","v":257},{"$f":"'LV 2'!C267","v":65.589420052593965},null,{"$f":"'LV 2'!D267","v":4.6020465326503501}]
[{"$f":"'LV 2'!A268","v":258},{"$f":"'LV 2'!C268","v":63.531222580248084},null,{"$f":"'LV 2'!D268","v":5.0200246069827266}]
[{"$f":"'LV 2'!A269","v":259},{"$f":"'LV 2'!C269","v":60.972834721055754},null,{"$f":"'LV 2'!D269","v":5.4547421565421015}]
[{"$f":"'LV 2'!A270","v":260},{"$f":"'LV 2'!C270","v":57.963570222410155},null,{"$f":"'LV 2'!D270","v":5.8993995878714625}]
[{"$f":"'LV 2'!A271","v":261},{"$f":"'LV 2'!C271","v":54.574127057191781},null,{"$f":"'LV 2'!D271","v":6.3460316227040607}]
[{"$f":"'LV 2'!A272","v":262},{"$f":"'LV 2'!C272","v":50.892435368672885},null,{"$f":"'LV 2'!D272","v":6.7859600261893416}]
[{"$f":"'LV 2'!A273","v":263},{"$f":"'LV 2'!C273","v":47.017421905917615},null,{"$f":"'LV 2'!D273","v":7.2103677864604894}]
[{"$f":"'LV 2'!A274","v":264},{"$f":"'LV 2'!C274","v":43.051555919689172},null,{"$f":"'LV 2'!D274","v":7.6109162299456301}]
[{"$f":"'LV 2'!A275","v":265},{"$f":"'LV 2'!C275","v":39.093305226437501},null,{"$f":"'LV 2'!D275","v":7.980313618432076}]
[{"$f":"'LV 2'!A276","v":266},{"$f":"'LV 2'!C276","v":35.230611017889998},null,{"$f":"'LV 2'!D276","v":8.3127536498735068}]
[{"$f":"'LV 2'!A277","v":267},{"$f":"'LV 2'!C277","v":31.536201071468867},null,{"$f":"'LV 2'!D277","v":8.6041717317723982}]
[{"$f":"'LV 2'!A278","v":268},{"$f":"'LV 2'!C278","v":28.065113917643316},null,{"$f":"'LV 2'!D278","v":8.8523057594459544}]
[{"$f":"'LV 2'!A279","v":269},{"$f":"'LV 2'!C279","v":24.854351620226087},null,{"$f":"'LV 2'!D279","v":9.0565841786849806}]
[{"$f":"'LV 2'!A280","v":270},{"$f":"'LV 2'!C280","v":21.924240091448919},null,{"$f":"'LV 2'!D280","v":9.2178881977073619}]
[{"$f":"'LV 2'!A281","v":271},{"$f":"'LV 2'!C281","v":19.280910476651243},null,{"$f":"'LV 2'!D281","v":9.3382438389787943}]
[{"$f":"'LV 2'!A282","v":272},{"$f":"'LV 2'!C282","v":16.919312168158733},null,{"$f":"'LV 2'!D282","v":9.4204952193142368}]
[{"$f":"'LV 2'!A283","v":273},{"$f":"'LV 2'!C283","v":14.826274570943465},null,{"$f":"'LV 2'!D283","v":9.4679981333739001}]
[{"$f":"'LV 2'!A284","v":274},{"$f":"'LV 2'!C284","v":12.983288328623466},null,{"$f":"'LV 2'!D284","v":9.484358103399309}]
[{"$f":"'LV 2'!A285","v":275},{"$f":"'LV 2'!C285","v":11.368827786267751},null,{"$f":"'LV 2'!D285","v":9.4732235255231014}]
[{"$f":"'LV 2'!A286","v":276},{"$f":"'LV 2'!C286","v":9.9601568530904991},null,{"$f":"'LV 2'!D286","v":9.4381344226679555}]
[{"$f":"'LV 2'!A287","v":277},{"$f":"'LV 2'!C287","v":8.7346411457802304},null,{"$f":"'LV 2'!D287","v":9.382421019968751}]
[{"$f":"'LV 2'!A288","v":278},{"$f":"'LV 2'!C288","v":7.6706337316036421},null,{"$f":"'LV 2'!D288","v":9.3091433326311606}]
[{"$f":"'LV 2'!A289","v":279},{"$f":"'LV 2'!C289","v":6.7480188947938977},null,{"$f":"'LV 2'!D289","v":9.2210622622452174}]
[{"$f":"'LV 2'!A290","v":280},{"$f":"'LV 2'!C290","v":5.9484978688815344},null,{"$f":"'LV 2'!D290","v":9.1206334119604691}]
[{"$f":"'LV 2'!A291","v":281},{"$f":"'LV 2'!C291","v":5.2556905191687582},null,{"$f":"'LV 2'!D291","v":9.0100162261174805}]
[{"$f":"'LV 2'!A292","v":282},{"$f":"'LV 2'!C292","v":4.6551132346516981},null,{"$f":"'LV 2'!D292","v":8.8910926467412672}]
[{"$f":"'LV 2'!A293","v":283},{"$f":"'LV 2'!C293","v":4.1340792900950589},null,{"$f":"'LV 2'!D293","v":8.7654909749251502}]
[{"$f":"'LV 2'!A294","v":284},{"$f":"'LV 2'!C294","v":3.6815554806647932},null,{"$f":"'LV 2'!D294","v":8.634611896298571}]
[{"$f":"'LV 2'!A295","v":285},{"$f":"'LV 2'!C295","v":3.2879986215375365},null,{"$f":"'LV 2'!D295","v":8.4996546378139897}]
[{"$f":"'LV 2'!A296","v":286},{"$f":"'LV 2'!C296","v":2.9451876091380949},null,{"$f":"'LV 2'!D296","v":8.3616419814735075}]
[{"$f":"'LV 2'!A297","v":287},{"$f":"'LV 2'!C297","v":2.6460609058403972},null,{"$f":"'LV 2'!D297","v":8.2214434064066033}]
[{"$f":"'LV 2'!A298","v":288},{"$f":"'LV 2'!C298","v":2.3845651638004823},null,{"$f":"'LV 2'!D298","v":8.0797960075102377}]
[{"$f":"'LV 2'!A299","v":289},{"$f":"'LV 2'!C299","v":2.1555178652754345},null,{"$f":"'LV 2'!D299","v":7.9373230878644856}]
[{"$f":"'LV 2'!A300","v":290},{"$f":"'LV 2'!C300","v":1.9544849894253848},null,{"$f":"'LV 2'!D300","v":7.7945504782684161}]
[{"$f":"'LV 2'!A301","v":291},{"$f":"'LV 2'!C301","v":1.7776735444570351},null,{"$f":"'LV 2'!D301","v":7.6519207282030077}]
[{"$f":"'LV 2'!A302","v":292},{"$f":"'LV 2'!C302","v":1.6218381167210254},null,{"$f":"'LV 2'!D302","v":7.5098053592812199}]
[{"$f":"'LV 2'!A303","v":293},{"$f":"'LV 2'!C303","v":1.4842002272659289},null,{"$f":"'LV 2'!D303","v":7.3685153900854861}]
[{"$f":"'LV 2'!A304","v":294},{"$f":"'LV 2'!C304","v":1.3623791377829111},null,{"$f":"'LV 2'!D304","v":7.228310341045673}]
[{"$f":"'LV 2'!A305","v":295},{"$f":"'LV 2'!C305","v":1.2543327322273095},null,{"$f":"'LV 2'!D305","v":7.0894059171272374}]
[{"$f":"'LV 2'!A306","v":296},{"$f":"'LV 2'!C306","v":1.15830716326193},null,{"$f":"'LV 2'!D306","v":6.9519805495662288}]
[{"$f":"'LV 2'!A307","v":297},{"$f":"'LV 2'!C307","v":1.0727940577920114},null,{"$f":"'LV 2'!D307","v":6.816180958939106}]
[{"$f":"'LV 2'!A308","v":298},{"$f":"'LV 2'!C308","v":0.9964941998114204},null,{"$f":"'LV 2'!D308","v":6.6821268825089861}]
[{"$f":"'LV 2'!A309","v":299},{"$f":"'LV 2'!C309","v":0.92828673693152841},null,{"$f":"'LV 2'!D309","v":6.5499150902387946}]
[{"$f":"'LV 2'!A310","v":300},{"$f":"'LV 2'!C310","v":0.86720308064905693},null,{"$f":"'LV 2'!D310","v":6.4196227967521837}]
[{"$f":"'LV 2'!A311","v":301},{"$f":"'LV 2'!C311","v":0.81240478488691958},null,{"$f":"'LV 2'!D311","v":6.2913105611490945}]
[{"$f":"'LV 2'!A312","v":302},{"$f":"'LV 2'!C312","v":0.76316479040027585},null,{"$f":"'LV 2'!D312","v":6.1650247530192672}]
[{"$f":"'LV 2'!A313","v":303},{"$f":"'LV 2'!C313","v":0.71885151363949606},null,{"$f":"'LV 2'!D313","v":6.0407996511886148}]
[{"$f":"'LV 2'!A314","v":304},{"$f":"'LV 2'!C314","v":0.67891533789861735},null,{"$f":"'LV 2'!D314","v":5.9186592315533684}]
[{"$f":"'LV 2'!A315","v":305},{"$f":"'LV 2'!C315","v":0.64287713286502679},null,{"$f":"'LV 2'!D315","v":5.7986186916449647}]
[{"$f":"'LV 2'!A316","v":306},{"$f":"'LV 2'!C316","v":0.61031848708517455},null,{"$f":"'LV 2'!D316","v":5.6806857521537664}]
[{"$f":"'LV 2'!A317","v":307},{"$f":"'LV 2'!C317","v":0.58087338751583695},null,{"$f":"'LV 2'!D317","v":5.5648617693546765}]
[{"$f":"'LV 2'!A318","v":308},{"$f":"'LV 2'!C318","v":0.55422112236747567},null,{"$f":"'LV 2'!D318","v":5.4511426870663335}]
[{"$f":"'LV 2'!A319","v":309},{"$f":"'LV 2'!C319","v":0.53008021891984791},null,{"$f":"'LV 2'!D319","v":5.3395198522967373}]
[{"$f":"'LV 2'!A320","v":310},{"$f":"'LV 2'!C320","v":0.50820325785495946},null,{"$f":"'LV 2'!D320","v":5.2299807149569952}]
[{"$f":"'LV 2'!A321","v":311},{"$f":"'LV 2'!C321","v":0.48837243075419223},null,{"$f":"'LV 2'!D321","v":5.1225094288524922}]
[{"$f":"'LV 2'!A322","v":312},{"$f":"'LV 2'!C322","v":0.47039572848184247},null,{"$f":"'LV 2'!D322","v":5.0170873684934829}]
[{"$f":"'LV 2'!A323","v":313},{"$f":"'LV 2'!C323","v":0.45410366586114159},null,{"$f":"'LV 2'!D323","v":4.913693574024717}]
[{"$f":"'LV 2'!A324","v":314},{"$f":"'LV 2'!C324","v":0.43934646288316059},null,{"$f":"'LV 2'!D324","v":4.812305134688228}]
[{"$f":"'LV 2'!A325","v":315},{"$f":"'LV 2'!C325","v":0.42599161513370115},null,{"$f":"'LV 2'!D325","v":4.7128975196474014}]
[{"$f":"'LV 2'!A326","v":316},{"$f":"'LV 2'!C326","v":0.4139217965665643},null,{"$f":"'LV 2'!D326","v":4.6154448636654433}]
[{"$f":"'LV 2'!A327","v":317},{"$f":"'LV 2'!C327","v":0.40303304651997002},null,{"$f":"'LV 2'!D327","v":4.519920214006814}]
[{"$f":"'LV 2'!A328","v":318},{"$f":"'LV 2'!C328","v":0.39323320024019992},null,{"$f":"'LV 2'!D328","v":4.4262957439820134}]
[{"$f":"'LV 2'!A329","v":319},{"$f":"'LV 2'!C329","v":0.38444052837194259},null,{"$f":"'LV 2'!D329","v":4.3345429377557476}]
[{"$f":"'LV 2'!A330","v":320},{"$f":"'LV 2'!C330","v":0.37658255608987534},null,{"$f":"'LV 2'!D330","v":4.2446327503622259}]
[{"$f":"'LV 2'!A331","v":321},{"$f":"'LV 2'!C331","v":0.36959503694065532},null,{"$f":"'LV 2'!D331","v":4.1565357462991095}]
[{"$f":"'LV 2'!A332","v":322},{"$f":"'LV 2'!C332","v":0.36342106017217285},null,{"$f":"'LV 2'!D332","v":4.0702222195868956}]
[{"$f":"'LV 2'!A333","v":323},{"$f":"'LV 2'!C333","v":0.35801027345899683},null,{"$f":"'LV 2'!D333","v":3.9856622977692666}]
[{"$f":"'LV 2'!A334","v":324},{"$f":"'LV 2'!C334","v":0.35331820558231475},null,{"$f":"'LV 2'!D334","v":3.9028260319806169}]
[{"$f":"'LV 2'!A335","v":325},{"$f":"'LV 2'!C335","v":0.34930567586687561},null,{"$f":"'LV 2'!D335","v":3.8216834749097459}]
[{"$f":"'LV 2'!A336","v":326},{"$f":"'LV 2'!C336","v":0.34593827908122277},null,{"$f":"'LV 2'!D336","v":3.7422047482355256}]
[{"$f":"'LV 2'!A337","v":327},{"$f":"'LV 2'!C337","v":0.34318593612494241},null,{"$f":"'LV 2'!D337","v":3.6643601008943065}]
[{"$f":"'LV 2'!A338","v":328},{"$f":"'LV 2'!C338","v":0.34102250220297886},null,{"$f":"'LV 2'!D338","v":3.5881199593542239}]
[{"$f":"'LV 2'!A339","v":329},{"$f":"'LV 2'!C339","v":0.33942542536012676},null,{"$f":"'LV 2'!D339","v":3.5134549709135849}]
[{"$f":"'LV 2'!A340","v":330},{"$f":"'LV 2'!C340","v":0.33837544925030677},null,{"$f":"'LV 2'!D340","v":3.4403360409051227}]
[{"$f":"'LV 2'!A341","v":331},{"$f":"'LV 2'!C341","v":0.3378563548717527},null,{"$f":"'LV 2'!D341","v":3.3687343645716821}]
[{"$f":"'LV 2'!A342","v":332},{"$f":"'LV 2'!C342","v":0.3378547367331034},null,{"$f":"'LV 2'!D342","v":3.2986214542789956}]
[{"$f":"'LV 2'!A343","v":333},{"$f":"'LV 2'!C343","v":0.33835980954536715},null,{"$f":"'LV 2'!D343","v":3.2299691626451925}]
[{"$f":"'LV 2'!A344","v":334},{"$f":"'LV 2'!C344","v":0.33936324207659624},null,{"$f":"'LV 2'!D344","v":3.1627497020925333}]
[{"$f":"'LV 2'!A345","v":335},{"$f":"'LV 2'!C345","v":0.34085901527318679},null,{"$f":"'LV 2'!D345","v":3.0969356612628229}]
[{"$f":"'LV 2'!A346","v":336},{"$f":"'LV 2'!C346","v":0.34284330215523168},null,{"$f":"'LV 2'!D346","v":3.0325000186825912}]
[{"$f":"'LV 2'!A347","v":337},{"$f":"'LV 2'!C347","v":0.34531436734279536},null,{"$f":"'LV 2'!D347","v":2.9694161540161823}]
[{"$f":"'LV 2'!A348","v":338},{"$f":"'LV 2'!C348","v":0.34827248437338348},null,{"$f":"'LV 2'!D348","v":2.9076578572033234}]
[{"$f":"'LV 2'!A349","v":339},{"$f":"'LV 2'!C349","v":0.35171986923505438},null,{"$f":"'LV 2'!D349","v":2.8471993357416379}]
[{"$f":"'LV 2'!A350","v":340},{"$f":"'LV 2'!C350","v":0.35566062877035087},null,{"$f":"'LV 2'!D350","v":2.7880152203431905}]
[{"$f":"'LV 2'!A351","v":341},{"$f":"'LV 2'!C351","v":0.36010072280843541},null,{"$f":"'LV 2'!D351","v":2.730080569166812}]
[{"$f":"'LV 2'!A352","v":342},{"$f":"'LV 2'!C352","v":0.36504793906067917},null,{"$f":"'LV 2'!D352","v":2.6733708708041428}]
[{"$f":"'LV 2'!A353","v":343},{"$f":"'LV 2'!C353","v":0.37051187997206614},null,{"$f":"'LV 2'!D353","v":2.6178620461765472}]
[{"$f":"'LV 2'!A354","v":344},{"$f":"'LV 2'!C354","v":0.37650396086018367},null,{"$f":"'LV 2'!D354","v":2.5635304494818811}]
[{"$f":"'LV 2'!A355","v":345},{"$f":"'LV 2'!C355","v":0.38303741879790443},null,{"$f":"'LV 2'!D355","v":2.5103528683142171}]
[{"$f":"'LV 2'!A356","v":346},{"$f":"'LV 2'!C356","v":0.3901273318073743},null,{"$f":"'LV 2'!D356","v":2.4583065230657231}]
[{"$f":"'LV 2'!A357","v":347},{"$f":"'LV 2'!C357","v":0.39779064803354386},null,{"$f":"'LV 2'!D357","v":2.4073690657077065}]
[{"$f":"'LV 2'!A358","v":348},{"$f":"'LV 2'!C358","v":0.40604622465689472},null,{"$f":"'LV 2'!D358","v":2.3575185780371459}]
[{"$f":"'LV 2'!A359","v":349},{"$f":"'LV 2'!C359","v":0.41491487638866104},null,{"$f":"'LV 2'!D359","v":2.3087335694656641}]
[{"$f":"'LV 2'!A360","v":350},{"$f":"'LV 2'!C360","v":0.42441943346899391},null,{"$f":"'LV 2'!D360","v":2.2609929744196569}]
[{"$f":"'LV 2'!A361","v":351},{"$f":"'LV 2'!C361","v":0.43458480916025316},null,{"$f":"'LV 2'!D361","v":2.2142761494130756}]
[{"$f":"'LV 2'!A362","v":352},{"$f":"'LV 2'!C362","v":0.44543807679489789},null,{"$f":"'LV 2'!D362","v":2.1685628698480057}]
[{"$f":"'LV 2'!A363","v":353},{"$f":"'LV 2'!C363","v":0.45700855650112315},null,{"$f":"'LV 2'!D363","v":2.1238333265926244}]
[{"$f":"'LV 2'!A364","v":354},{"$f":"'LV 2'!C364","v":0.46932791179019512},null,{"$f":"'LV 2'!D364","v":2.0800681223812272}]
[{"$f":"'LV 2'!A365","v":355},{"$f":"'LV 2'!C365","v":0.48243025624802571},null,{"$f":"'LV 2'!D365","v":2.0372482680767368}]
[{"$f":"'LV 2'!A366","v":356},{"$f":"'LV 2'!C366","v":0.49635227063048215},null,{"$f":"'LV 2'!D366","v":1.995355178832366}]
[{"$f":"'LV 2'!A367","v":357},{"$f":"'LV 2'!C367","v":0.51113333071776468},null,{"$f":"'LV 2'!D367","v":1.9543706701858379}]
[{"$f":"'LV 2'!A368","v":358},{"$f":"'LV 2'!C368","v":0.52681564633837519},null,{"$f":"'LV 2'!D368","v":1.9142769541167299}]
[{"$f":"'LV 2'!A369","v":359},{"$f":"'LV 2'!C369","v":0.54344441202815663},null,{"$f":"'LV 2'!D369","v":1.8750566350950566}]
[{"$f":"'LV 2'!A370","v":360},{"$f":"'LV 2'!C370","v":0.56106796984499108},null,{"$f":"'LV 2'!D370","v":1.8366927061470908}]
[{"$f":"'LV 2'!A371","v":361},{"$f":"'LV 2'!C371","v":0.57973798491534345},null,{"$f":"'LV 2'!D371","v":1.7991685449626336}]
[{"$f":"'LV 2'!A372","v":362},{"$f":"'LV 2'!C372","v":0.59950963434524907},null,{"$f":"'LV 2'!D372","v":1.7624679100664282}]
[{"$f":"'LV 2'!A373","v":363},{"$f":"'LV 2'!C373","v":0.62044181018584643},null,{"$f":"'LV 2'!D373","v":1.7265749370751737}]
[{"$f":"'LV 2'!A374","v":364},{"$f":"'LV 2'!C374","v":0.64259733720241918},null,{"$f":"'LV 2'!D374","v":1.6914741350605853}]
[{"$f":"'LV 2'!A375","v":365},{"$f":"'LV 2'!C375","v":0.66604320625637325},null,{"$f":"'LV 2'!D375","v":1.6571503830381817}]
[{"$f":"'LV 2'!A376","v":366},{"$f":"'LV 2'!C376","v":0.69085082417185284},null,{"$f":"'LV 2'!D376","v":1.6235889266009207}]
[{"$f":"'LV 2'!A377","v":367},{"$f":"'LV 2'!C377","v":0.71709628102299094},null,{"$f":"'LV 2'!D377","v":1.5907753747164532}]
[{"$f":"'LV 2'!A378","v":368},{"$f":"'LV 2'!C378","v":0.74486063584427831},null,{"$f":"'LV 2'!D378","v":1.5586956967066241}]
[{"$f":"'LV 2'!A379","v":369},{"$f":"'LV 2'!C379","v":0.77423022183536605},null,{"$f":"'LV 2'!D379","v":1.5273362194278906}]
[{"$f":"'LV 2'!A380","v":370},{"$f":"'LV 2'!C380","v":0.80529697220293495},null,{"$f":"'LV 2'!D380","v":1.4966836246715793}]
[{"$f":"'LV 2'!A381","v":371},{"$f":"'LV 2'!C381","v":0.83815876785616628},null,{"$f":"'LV 2'!D381","v":1.4667249468033448}]
[{"$f":"'LV 2'!A382","v":372},{"$f":"'LV 2'!C382","v":0.87291980824892834},null,{"$f":"'LV 2'!D382","v":1.4374475706618346}]
[{"$f":"'LV 2'!A383","v":373},{"$f":"'LV 2'!C383","v":0.90969100674108538},null,{"$f":"'LV 2'!D383","v":1.4088392297374268}]
[{"$f":"'LV 2'!A384","v":374},{"$f":"'LV 2'!C384","v":0.94859041193336757},null,{"$f":"'LV 2'!D384","v":1.3808880046529688}]
[{"$f":"'LV 2'!A385","v":375},{"$f":"'LV 2'!C385","v":0.98974365651497875},null,{"$f":"'LV 2'!D385","v":1.353582321969756}]
[{"$f":"'LV 2'!A386","v":376},{"$f":"'LV 2'!C386","v":1.0332844352504911},null,{"$f":"'LV 2'!D386","v":1.3269109533435348}]
[{"$f":"'LV 2'!A387","v":377},{"$f":"'LV 2'!C387","v":1.0793550138224499},null,{"$f":"'LV 2'!D387","v":1.3008630150571299}]
[{"$f":"'LV 2'!A388","v":378},{"$f":"'LV 2'!C388","v":1.1281067703383012},null,{"$f":"'LV 2'!D388","v":1.2754279679583962}]
[{"$f":"'LV 2'!A389","v":379},{"$f":"'LV 2'!C389","v":1.1797007714044738},null,{"$f":"'LV 2'!D389","v":1.2505956178346174}]
[{"$f":"'LV 2'!A390","v":380},{"$f":"'LV 2'!C390","v":1.2343083847663621},null,{"$f":"'LV 2'!D390","v":1.2263561162572292}]
[{"$f":"'LV 2'!A391","v":381},{"$f":"'LV 2'!C391","v":1.2921119306100721},null,{"$f":"'LV 2'!D391","v":1.2026999619338978}]
[{"$f":"'LV 2'!A392","v":382},{"$f":"'LV 2'!C392","v":1.3533053737195617},null,{"$f":"'LV 2'!D392","v":1.1796180026085483}]
[{"$f":"'LV 2'!A393","v":383},{"$f":"'LV 2'!C393","v":1.4180950587804655},null,{"$f":"'LV 2'!D393","v":1.1571014375539812}]
[{"$f":"'LV 2'!A394","v":384},{"$f":"'LV 2'!C394","v":1.4867004912185871},null,{"$f":"'LV 2'!D394","v":1.1351418207062876}]
[{"$f":"'LV 2'!A395","v":385},{"$f":"'LV 2'!C395","v":1.5593551660556546},null,{"$f":"'LV 2'!D395","v":1.1137310644954324}]
[{"$f":"'LV 2'!A396","v":386},{"$f":"'LV 2'!C396","v":1.6363074473561636},null,{"$f":"'LV 2'!D396","v":1.0928614444322045}]
[{"$f":"'LV 2'!A397","v":387},{"$f":"'LV 2'!C397","v":1.7178215009254052},null,{"$f":"'LV 2'!D397","v":1.0725256045183125}]
[{"$f":"'LV 2'!A398","v":388},{"$f":"'LV 2'!C398","v":1.8041782829981874},null,{"$f":"'LV 2'!D398","v":1.0527165635538269}]
[{"$f":"'LV 2'!A399","v":389},{"$f":"'LV 2'!C399","v":1.8956765877280739},null,{"$f":"'LV 2'!D399","v":1.0334277224245532}]
[{"$f":"'LV 2'!A400","v":390},{"$f":"'LV 2'!C400","v":1.9926341563454957},null,{"$f":"'LV 2'!D400","v":1.0146528724613901}]
[{"$f":"'LV 2'!A401","v":391},{"$f":"'LV 2'!C401","v":2.0953888508966778},null,{"$f":"'LV 2'!D401","v":0.99638620497442709}]
[{"$f":"'LV 2'!A402","v":392},{"$f":"'LV 2'!C402","v":2.2042998955002218},null,{"$f":"'LV 2'!D402","v":0.97862232207663691}]
[{"$f":"'LV 2'!A403","v":393},{"$f":"'LV 2'!C403","v":2.3197491880599701},null,{"$f":"'LV 2'!D403","v":0.96135624892571947}]
[{"$f":"'LV 2'!A404","v":394},{"$f":"'LV 2'!C404","v":2.4421426853462562},null,{"$f":"'LV 2'!D404","v":0.9445834475281697}]
[{"$f":"'LV 2'!A405","v":395},{"$f":"'LV 2'!C405","v":2.5719118642966823},null,{"$f":"'LV 2'!D405","v":0.92829983226724222}]
[{"$f":"'LV 2'!A406","v":396},{"$f":"'LV 2'!C406","v":2.7095152622849779},null,{"$f":"'LV 2'!D406","v":0.91250178733646037}]
[{"$f":"'LV 2'!A407","v":397},{"$f":"'LV 2'!C407","v":2.8554400989538133},null,{"$f":"'LV 2'!D407","v":0.8971861862830196}]
[{"$f":"'LV 2'!A408","v":398},{"$f":"'LV 2'!C408","v":3.0102039819947701},null,{"$f":"'LV 2'!D408","v":0.88235041389126145}]
[{"$f":"'LV 2'!A409","v":399},{"$f":"'LV 2'!C409","v":3.1743566989743282},null,{"$f":"'LV 2'!D409","v":0.86799239066581257}]
[{"$f":"'LV 2'!A410","v":400},{"$f":"'LV 2'!C410","v":3.348482096935117},null,{"$f":"'LV 2'!D410","v":0.85411060020753304}]
[{"$f":"'LV 2'!A411","v":401},{"$f":"'LV 2'!C411","v":3.5332000510307164},null,{"$f":"'LV 2'!D411","v":0.84070411981372661}]
[{"$f":"'LV 2'!A412","v":402},{"$f":"'LV 2'!C412","v":3.7291685228612428},null,{"$f":"'LV 2'!D412","v":0.8277726546778692}]
[{"$f":"'LV 2'!A413","v":403},{"$f":"'LV 2'!C413","v":3.9370857084437576},null,{"$f":"'LV 2'!D413","v":0.8153165761142559}]
[{"$f":"'LV 2'!A414","v":404},{"$f":"'LV 2'!C414","v":4.1576922748503247},null,{"$f":"'LV 2'!D414","v":0.80333696429046197}]
[{"$f":"'LV 2'!A415","v":405},{"$f":"'LV 2'!C415","v":4.3917736834469929},null,{"$f":"'LV 2'!D415","v":0.79183565601650896}]
[{"$f":"'LV 2'!A416","v":406},{"$f":"'LV 2'!C416","v":4.6401625963334352},null,{"$f":"'LV 2'!D416","v":0.78081529821550433}]
[{"$f":"'LV 2'!A417","v":407},{"$f":"'LV 2'!C417","v":4.9037413609735641},null,{"$f":"'LV 2'!D417","v":0.77027940778787385}]
[{"$f":"'LV 2'!A418","v":408},{"$f":"'LV 2'!C418","v":5.1834445660730211},null,{"$f":"'LV 2'!D418","v":0.76023243868201151}]
[{"$f":"'LV 2'!A419","v":409},{"$f":"'LV 2'!C419","v":5.4802616594420757},null,{"$f":"'LV 2'!D419","v":0.75067985710044771}]
[{"$f":"'LV 2'!A420","v":410},{"$f":"'LV 2'!C420","v":5.7952396158141468},null,{"$f":"'LV 2'!D420","v":0.74162822590507671}]
[{"$f":"'LV 2'!A421","v":411},{"$f":"'LV 2'!C421","v":6.1294856392907251},null,{"$f":"'LV 2'!D421","v":0.73308529944065914}]
[{"$f":"'LV 2'!A422","v":412},{"$f":"'LV 2'!C422","v":6.484169881158472},null,{"$f":"'LV 2'!D422","v":0.72506013017633897}]
[{"$f":"'LV 2'!A423","v":413},{"$f":"'LV 2'!C423","v":6.8605281491624366},null,{"$f":"'LV 2'!D423","v":0.71756318877455727}]
[{"$f":"'LV 2'!A424","v":414},{"$f":"'LV 2'!C424","v":7.2598645787893492},null,{"$f":"'LV 2'!D424","v":0.71060649944054999}]
[{"$f":"'LV 2'!A425","v":415},{"$f":"'LV 2'!C425","v":7.6835542305618727},null,{"$f":"'LV 2'!D425","v":0.70420379268955535}]
[{"$f":"'LV 2'!A426","v":416},{"$f":"'LV 2'!C426","v":8.133045569585569},null,{"$f":"'LV 2'!D426","v":0.69837067799998931}]
[{"$f":"'LV 2'!A427","v":417},{"$f":"'LV 2'!C427","v":8.6098627744090219},null,{"$f":"'LV 2'!D427","v":0.69312483920753243}]
[{"$f":"'LV 2'!A428","v":418},{"$f":"'LV 2'!C428","v":9.1156078113986485},null,{"$f":"'LV 2'!D428","v":0.68848625594721546}]
[{"$f":"'LV 2'!A429","v":419},{"$f":"'LV 2'!C429","v":9.6519621979914358},null,{"$f":"'LV 2'!D429","v":0.68447745497991075}]
[{"$f":"'LV 2'!A430","v":420},{"$f":"'LV 2'!C430","v":10.220688363014375},null,{"$f":"'LV 2'!D430","v":0.68112379586001115}]
[{"$f":"'LV 2'!A431","v":421},{"$f":"'LV 2'!C431","v":10.823630494327366},null,{"$f":"'LV 2'!D431","v":0.67845379612892043}]
[{"$f":"'LV 2'!A432","v":422},{"$f":"'LV 2'!C432","v":11.462714742859117},null,{"$f":"'LV 2'!D432","v":0.67649950207366527}]
[{"$f":"'LV 2'!A433","v":423},{"$f":"'LV 2'!C433","v":12.139948627075928},null,{"$f":"'LV 2'!D433","v":0.67529691209433795}]
[{"$f":"'LV 2'!A434","v":424},{"$f":"'LV 2'!C434","v":12.857419452359759},null,{"$f":"'LV 2'!D434","v":0.67488646090505222}]
[{"$f":"'LV 2'!A435","v":425},{"$f":"'LV 2'!C435","v":13.617291524861162},null,{"$f":"'LV 2'!D435","v":0.67531357418215332}]
[{"$f":"'LV 2'!A436","v":426},{"$f":"'LV 2'!C436","v":14.421801898181355},null,{"$f":"'LV 2'!D436","v":0.67662930490728701}]
[{"$f":"'LV 2'!A437","v":427},{"$f":"'LV 2'!C437","v":15.273254342611901},null,{"$f":"'LV 2'!D437","v":0.67889106457418325}]
[{"$f":"'LV 2'!A438","v":428},{"$f":"'LV 2'!C438","v":16.174011169325588},null,{"$f":"'LV 2'!D438","v":0.68216346468555433}]
[{"$f":"'LV 2'!A439","v":429},{"$f":"'LV 2'!C439","v":17.126482474373017},null,{"$f":"'LV 2'!D439","v":0.68651928661592165}]
[{"$f":"'LV 2'!A440","v":430},{"$f":"'LV 2'!C440","v":18.133112287885037},null,{"$f":"'LV 2'!D440","v":0.69204060101960585}]
[{"$f":"'LV 2'!A441","v":431},{"$f":"'LV 2'!C441","v":19.196361020576092},null,{"$f":"'LV 2'!D441","v":0.69882006158849264}]
[{"$f":"'LV 2'!A442","v":432},{"$f":"'LV 2'!C442","v":20.318683490334706},null,{"$f":"'LV 2'!D442","v":0.7069624021834412}]
[{"$f":"'LV 2'!A443","v":433},{"$f":"'LV 2'!C443","v":21.502501684035387},null,{"$f":"'LV 2'!D443","v":0.71658617124858903}]
[{"$f":"'LV 2'!A444","v":434},{"$f":"'LV 2'!C444","v":22.750171261254827},null,{"$f":"'LV 2'!D444","v":0.72782574303565006}]
[{"$f":"'LV 2'!A445","v":435},{"$f":"'LV 2'!C445","v":24.063940634886368},null,{"$f":"'LV 2'!D445","v":0.74083365156550496}]
[{"$f":"'LV 2'!A446","v":436},{"$f":"'LV 2'!C446","v":25.445901266526722},null,{"$f":"'LV 2'!D446","v":0.7557833004539064}]
[{"$f":"'LV 2'!A447","v":437},{"$f":"'LV 2'!C447","v":26.897927590383716},null,{"$f":"'LV 2'!D447","v":0.77287210968523778}]
[{"$f":"'LV 2'!A448","v":438},{"$f":"'LV 2'!C448","v":28.421604727953227},null,{"$f":"'LV 2'!D448","v":0.79232516899365757}]
[{"$f":"'LV 2'!A449","v":439},{"$f":"'LV 2'!C449","v":30.018141878570088},null,{"$f":"'LV 2'!D449","v":0.81439947640966903}]
[{"$f":"'LV 2'!A450","v":440},{"$f":"'LV 2'!C450","v":31.688268973331539},null,{"$f":"'LV 2'!D450","v":0.83938884921642309}]
[{"$f":"'LV 2'!A451","v":441},{"$f":"'LV 2'!C451","v":33.432113872430804},null,{"$f":"'LV 2'!D451","v":0.86762960213434348}]
[{"$f":"'LV 2'!A452","v":442},{"$f":"'LV 2'!C452","v":35.249057087518949},null,{"$f":"'LV 2'!D452","v":0.89950709257660044}]
[{"$f":"'LV 2'!A453","v":443},{"$f":"'LV 2'!C453","v":37.137560752581059},null,{"$f":"'LV 2'!D453","v":0.93546323306992585}]
[{"$f":"'LV 2'!A454","v":444},{"$f":"'LV 2'!C454","v":39.094968398206518},null,{"$f":"'LV 2'!D454","v":0.97600506307578128}]
[{"$f":"'LV 2'!A455","v":445},{"$f":"'LV 2'!C455","v":41.117272079941969},null,{"$f":"'LV 2'!D455","v":1.0217144515730088}]
[{"$f":"'LV 2'!A456","v":446},{"$f":"'LV 2'!C456","v":43.198843682250072},null,{"$f":"'LV 2'!D456","v":1.0732589608354517}]
[{"$f":"'LV 2'!A457","v":447},{"$f":"'LV 2'!C457","v":45.332127924479387},null,{"$f":"'LV 2'!D457","v":1.1314038309816423}]
[{"$f":"'LV 2'!A458","v":448},{"$f":"'LV 2'!C458","v":47.50729595663087},null,{"$f":"'LV 2'!D458","v":1.1970249305920515}]
[{"$f":"'LV 2'!A459","v":449},{"$f":"'LV 2'!C459","v":49.71186075241674},null,{"$f":"'LV 2'!D459","v":1.2711223431101328}]
[{"$f":"'LV 2'!A460","v":450},{"$f":"'LV 2'!C460","v":51.930259179860258},null,{"$f":"'LV 2'!D460","v":1.3548339991537455}]
[{"$f":"'LV 2'!A461","v":451},{"$f":"'LV 2'!C461","v":54.143411147172415},null,{"$f":"'LV 2'!D461","v":1.4494483940328424}]
[{"$f":"'LV 2'!A462","v":452},{"$f":"'LV 2'!C462","v":56.328274154742004},null,{"$f":"'LV 2'!D462","v":1.5564149179211646}]
[{"$f":"'LV 2'!A463","v":453},{"$f":"'LV 2'!C463","v":58.45742252252883},null,{"$f":"'LV 2'!D463","v":1.6773496459425778}]
[{"$f":"'LV 2'!A464","v":454},{"$f":"'LV 2'!C464","v":60.498694980830983},null,{"$f":"'LV 2'!D464","v":1.8140335720654157}]
[{"$f":"'LV 2'!A465","v":455},{"$f":"'LV 2'!C465","v":62.414972323285483},null,{"$f":"'LV 2'!D465","v":1.968399239363926}]
[{"$f":"'LV 2'!A466","v":456},{"$f":"'LV 2'!C466","v":64.1641677667116},null,{"$f":"'LV 2'!D466","v":2.1425005927684158}]
[{"$f":"'LV 2'!A467","v":457},{"$f":"'LV 2'!C467","v":65.699534524653572},null,{"$f":"'LV 2'!D467","v":2.3384598278973847}]
[{"$f":"'LV 2'!A468","v":458},{"$f":"'LV 2'!C468","v":66.970413757519452},null,{"$f":"'LV 2'!D468","v":2.5583843416975278}]
[{"$f":"'LV 2'!A469","v":459},{"$f":"'LV 2'!C469","v":67.923554557108346},null,{"$f":"'LV 2'!D469","v":2.8042470990962896}]
[{"$f":"'LV 2'!A470","v":460},{"$f":"'LV 2'!C470","v":68.505125851957658},null,{"$f":"'LV 2'!D470","v":3.0777254909123712}]
[{"$f":"'LV 2'!A471","v":461},{"$f":"'LV 2'!C471","v":68.663495609074573},null,{"$f":"'LV 2'!D471","v":3.3799978522985876}]
[{"$f":"'LV 2'!A472","v":462},{"$f":"'LV 2'!C472","v":68.352763412281419},null,{"$f":"'LV 2'!D472","v":3.7115038984217859}]
[{"$f":"'LV 2'!A473","v":463},{"$f":"'LV 2'!C473","v":67.536892363432329},null,{"$f":"'LV 2'!D473","v":4.0716855459858872}]
[{"$f":"'LV 2'!A474","v":464},{"$f":"'LV 2'!C474","v":66.194103287814571},null,{"$f":"'LV 2'!D474","v":4.4587369721939947}]
[{"$f":"'LV 2'!A475","v":465},{"$f":"'LV 2'!C475","v":64.320998656060425},null,{"$f":"'LV 2'!D475","v":4.8694047763618826}]
[{"$f":"'LV 2'!A476","v":466},{"$f":"'LV 2'!C476","v":61.935730893633803},null,{"$f":"'LV 2'!D476","v":5.2988865668527776}]
[{"$f":"'LV 2'!A477","v":467},{"$f":"'LV 2'!C477","v":59.07949147441753},null,{"$f":"'LV 2'!D477","v":5.7408742152545802}]
[{"$f":"'LV 2'!A478","v":468},{"$f":"'LV 2'!C478","v":55.815736305129754},null,{"$f":"'LV 2'!D478","v":6.1877725881050321}]
[{"$f":"'LV 2'!A479","v":469},{"$f":"'LV 2'!C479","v":52.226897972500403},null,{"$f":"'LV 2'!D479","v":6.6310957117950062}]
[{"$f":"'LV 2'!A480","v":470},{"$f":"'LV 2'!C480","v":48.408811795454199},null,{"$f":"'LV 2'!D480","v":7.0620055213343864}]
[{"$f":"'LV 2'!A481","v":471},{"$f":"'LV 2'!C481","v":44.463573225235599},null,{"$f":"'LV 2'!D481","v":7.4719239998712288}]
[{"$f":"'LV 2'!A482","v":472},{"$f":"'LV 2'!C482","v":40.491891504485068},null,{"$f":"'LV 2'!D482","v":7.8531293359700438}]
[{"$f":"'LV 2'!A483","v":473},{"$f":"'LV 2'!C483","v":36.586089242652953},null,{"$f":"'LV 2'!D483","v":8.1992484247949413}]
[{"$f":"'LV 2'!A484","v":474},{"$f":"'LV 2'!C484","v":32.824695504454851},null,{"$f":"'LV 2'!D484","v":8.5055814233907121}]
[{"$f":"'LV 2'!A485","v":475},{"$f":"'LV 2'!C485","v":29.269172415737849},null,{"$f":"'LV 2'!D485","v":8.7692310048976694}]
[{"$f":"'LV 2'!A486","v":476},{"$f":"'LV 2'!C486","v":25.962846367399209},null,{"$f":"'LV 2'!D486","v":8.9890473013255878}]
[{"$f":"'LV 2'!A487","v":477},{"$f":"'LV 2'!C487","v":22.931724512402749},null,{"$f":"'LV 2'!D487","v":9.1654285574871945}]
[{"$f":"'LV 2'!A488","v":478},{"$f":"'LV 2'!C488","v":20.186648424327768},null,{"$f":"'LV 2'!D488","v":9.3000317589370542}]
[{"$f":"'LV 2'!A489","v":479},{"$f":"'LV 2'!C489","v":17.726180752648176},null,{"$f":"'LV 2'!D489","v":9.3954473618331207}]
[{"$f":"'LV 2'!A490","v":480},{"$f":"'LV 2'!C490","v":15.539695663489269},null,{"$f":"'LV 2'!D490","v":9.4548821298050889}]
[{"$f":"'LV 2'!A491","v":481},{"$f":"'LV 2'!C491","v":13.610287404701864},null,{"$f":"'LV 2'!D491","v":9.4818795415247923}]
[{"$f":"'LV 2'!A492","v":482},{"$f":"'LV 2'!C492","v":11.917267657826791},null,{"$f":"'LV 2'!D492","v":9.4800928780047062}]
[{"$f":"'LV 2'!A493","v":483},{"$f":"'LV 2'!C493","v":10.438155514912927},null,{"$f":"'LV 2'!D493","v":9.4531146485287696}]
[{"$f":"'LV 2'!A494","v":484},{"$f":"'LV 2'!C494","v":9.1501588118630401},null,{"$f":"'LV 2'!D494","v":9.4043583895352043}]
[{"$f":"'LV 2'!A495","v":485},{"$f":"'LV 2'!C495","v":8.0312020058017648},null,{"$f":"'LV 2'!D495","v":9.336984782697348}]
[{"$f":"'LV 2'!A496","v":486},{"$f":"'LV 2'!C496","v":7.0605814448155062},null,{"$f":"'LV 2'!D496","v":9.2538626287333621}]
[{"$f":"'LV 2'!A497","v":487},{"$f":"'LV 2'!C497","v":6.2193335983300617},null,{"$f":"'LV 2'!D497","v":9.1575555233053869}]
[{"$f":"'LV 2'!A498","v":488},{"$f":"'LV 2'!C498","v":5.4903944425606124},null,{"$f":"'LV 2'!D498","v":9.0503263029649528}]
[{"$f":"'LV 2'!A499","v":489},{"$f":"'LV 2'!C499","v":4.8586153030579666},null,{"$f":"'LV 2'!D499","v":8.934152889800842}]
[{"$f":"'LV 2'!A500","v":490},{"$f":"'LV 2'!C500","v":4.3106862733297273},null,{"$f":"'LV 2'!D500","v":8.8107507131650955}]
[{"$f":"'LV 2'!A501","v":491},{"$f":"'LV 2'!C501","v":3.8350051964359237},null,{"$f":"'LV 2'!D501","v":8.6815982459724079}]
[{"$f":"'LV 2'!A502","v":492},{"$f":"'LV 2'!C502","v":3.4215191558114415},null,{"$f":"'LV 2'!D502","v":8.5479632949361122}]
[{"$f":"'LV 2'!A503","v":493},{"$f":"'LV 2'!C503","v":3.0615567220540565},null,{"$f":"'LV 2'!D503","v":8.4109285276362797}]
[{"$f":"'LV 2'!A504","v":494},{"$f":"'LV 2'!C504","v":2.7476626754868918},null,{"$f":"'LV 2'!D504","v":8.271415335671465}]
[{"$f":"'LV 2'!A505","v":495},{"$f":"'LV 2'!C505","v":2.47344222335858},null,{"$f":"'LV 2'!D505","v":8.1302055649791019}]
[{"$f":"'LV 2'!A506","v":496},{"$f":"'LV 2'!C506","v":2.233418469393222},null,{"$f":"'LV 2'!D506","v":7.9879609344188145}]
[{"$f":"'LV 2'!A507","v":497},{"$f":"'LV 2'!C507","v":2.0229047161281279},null,{"$f":"'LV 2'!D507","v":7.8452401492716586}]
[{"$f":"'LV 2'!A508","v":498},{"$f":"'LV 2'!C508","v":1.8378917895794877},null,{"$f":"'LV 2'!D508","v":7.7025138276790086}]
[{"$f":"'LV 2'!A509","v":499},{"$f":"'LV 2'!C509","v":1.6749497374033766},null,{"$f":"'LV 2'!D509","v":7.5601774184751731}]
[{"$f":"'LV 2'!A510","v":500},{"$f":"'LV 2'!C510","v":1.5311427898826782},null,{"$f":"'LV 2'!D510","v":7.4185623155275628}]
[{"$f":"'LV 2'!A511","v":501},{"$f":"'LV 2'!C511","v":1.4039562597109123},null,{"$f":"'LV 2'!D511","v":7.2779453788665318}]
[{"$f":"'LV 3'!A11","v":1},{"$f":"'LV 3'!C11","v":12.5},null,null,{"$f":"'LV 3'!D11","v":3.6}]
[{"$f":"'LV 3'!A12","v":2},{"$f":"'LV 3'!C12","v":12.428516240188866},null,null,{"$f":"'LV 3'!D12","v":3.59762408856855}]
[{"$f":"'LV 3'!A13","v":3},{"$f":"'LV 3'!C13","v":12.358132616354922},null,null,{"$f":"'LV 3'!D13","v":3.5948212792995995}]
[{"$f":"'LV 3'!A14","v":4},{"$f":"'LV 3'!C14","v":12.288947323701958},null,null,{"$f":"'LV 3'!D14","v":3.5915995091219508}]
[{"$f":"'LV 3'!A15","v":5},{"$f":"'LV 3'!C15","v":12.221054142669255},null,null,{"$f":"'LV 3'!D15","v":3.5879674167912992}]
[{"$f":"'LV 3'!A16","v":6},{"$f":"'LV 3'!C16","v":12.154542426498471},null,null,{"$f":"'LV 3'!D16","v":3.5839343043458389}]
[{"$f":"'LV 3'!A17","v":7},{"$f":"'LV 3'!C17","v":12.089497108024297},null,null,{"$f":"'LV 3'!D17","v":3.5795100978918097}]
[{"$f":"'LV 3'!A18","v":8},{"$f":"'LV 3'!C18","v":12.025998724174453},null,null,{"$f":"'LV 3'!D18","v":3.5747053079521396}]
[{"$f":"'LV 3'!A19","v":9},{"$f":"'LV 3'!C19","v":11.964123456637054},null,null,{"$f":"'LV 3'!D19","v":3.569530989599996}]
[{"$f":"'LV 3'!A20","v":10},{"$f":"'LV 3'!C20","v":11.903943187142602},null,null,{"$f":"'LV 3'!D20","v":3.5639987025865723}]
[{"$f":"'LV 3'!A21","v":11},{"$f":"'LV 3'!C21","v":11.845525565812528},null,null,{"$f":"'LV 3'!D21","v":3.5581204716589934}]
[{"$f":"'LV 3'!A22","v":12},{"$f":"'LV 3'!C22","v":11.788934091044673},null,null,{"$f":"'LV 3'!D22","v":3.5519087472501023}]
[{"$f":"'LV 3'!A23","v":13},{"$f":"'LV 3'!C23","v":11.734228199436769},null,null,{"$f":"'LV 3'!D23","v":3.5453763667072327}]
[{"$f":"'LV 3'!A24","v":14},{"$f":"'LV 3'!C24","v":11.681463364290332},null,null,{"$f":"'LV 3'!D24","v":3.5385365162121367}]
[{"$f":"'LV 3'!A25","v":15},{"$f":"'LV 3'!C25","v":11.630691201287835},null,null,{"$f":"'LV 3'!D25","v":3.5314026935291589}]
[{"$f":"'LV 3'!A26","v":16},{"$f":"'LV 3'!C26","v":11.581959579994026},null,null,{"$f":"'LV 3'!D26","v":3.5239886717037203}]
[{"$f":"'LV 3'!A27","v":17},{"$f":"'LV 3'!C27","v":11.53531273989641},null,null,{"$f":"'LV 3'!D27","v":3.5163084638183246}]
[{"$f":"'LV 3'!A28","v":18},{"$f":"'LV 3'!C28","v":11.490791409768898},null,null,{"$f":"'LV 3'!D28","v":3.5083762888987842}]
[{"$f":"'LV 3'!A29","v":19},{"$f":"'LV 3'!C29","v":11.448432929215018},null,null,{"$f":"'LV 3'!D29","v":3.5002065390492598}]
[{"$f":"'LV 3'!A30","v":20},{"$f":"'LV 3'!C30","v":11.40827137132198},null,null,{"$f":"'LV 3'!D30","v":3.4918137478811517}]
[{"$f":"'LV 3'!A31","v":21},{"$f":"'LV 3'!C31","v":11.370337665432935},null,null,{"$f":"'LV 3'!D31","v":3.4832125602879174}]
[{"$f":"'LV 3'!A32","v":22},{"$f":"'LV 3'!C32","v":11.334659719121341},null,null,{"$f":"'LV 3'!D32","v":3.4744177036056079}]
[{"$f":"'LV 3'!A33","v":23},{"$f":"'LV 3'!C33","v":11.301262538527368},null,null,{"$f":"'LV 3'!D33","v":3.4654439601873475}]
[{"$f":"'LV 3'!A34","v":24},{"$f":"'LV 3'!C34","v":11.270168346291166},null,null,{"$f":"'LV 3'!D34","v":3.4563061414091751}]
[{"$f":"'LV 3'!A35","v":25},{"$f":"'LV 3'!C35","v":11.24139669639094},null,null,{"$f":"'LV 3'!D35","v":3.4470190631146278}]
[{"$f":"'LV 3'!A36","v":26},{"$f":"'LV 3'!C36","v":11.214964585264658},null,null,{"$f":"'LV 3'!D36","v":3.4375975224962034}]
[{"$f":"'LV 3'!A37","v":27},{"$f":"'LV 3'!C37","v":11.190886558662397},null,null,{"$f":"'LV 3'!D37","v":3.4280562764033844}]
[{"$f":"'LV 3'!A38","v":28},{"$f":"'LV 3'!C38","v":11.16917481374149},null,null,{"$f":"'LV 3'!D38","v":3.4184100210592252}]
[{"$f":"'LV 3'!A39","v":29},{"$f":"'LV 3'!C39","v":11.149839295978737},null,null,{"$f":"'LV 3'!D39","v":3.4086733731605916}]
[{"$f":"'LV 3'!A40","v":30},{"$f":"'LV 3'!C40","v":11.132887790532465},null,null,{"$f":"'LV 3'!D40","v":3.398860852330968}]
[{"$f":"'LV 3'!A41","v":31},{"$f":"'LV 3'!C41","v":11.118326007742512},null,null,{"$f":"'LV 3'!D41","v":3.3889868648892909}]
[{"$f":"'LV 3'!A42","v":32},{"$f":"'LV 3'!C42","v":11.106157662507885},null,null,{"$f":"'LV 3'!D42","v":3.3790656888934758}]
[{"$f":"'LV 3'!A43","v":33},{"$f":"'LV 3'!C43","v":11.096384547330151},null,null,{"$f":"'LV 3'!D43","v":3.3691114604131762}]
[{"$f":"'LV 3'!A44","v":34},{"$f":"'LV 3'!C44","v":11.08900659885561},null,null,{"$f":"'LV 3'!D44","v":3.3591381609827722}]
[{"$f":"'LV 3'!A45","v":35},{"$f":"'LV 3'!C45","v":11.084021957790945},null,null,{"$f":"'LV 3'!D45","v":3.349159606182619}]
[{"$f":"'LV 3'!A46","v":36},{"$f":"'LV 3'!C46","v":11.081427022105762},null,null,{"$f":"'LV 3'!D46","v":3.3391894352941383}]
[{"$f":"'LV 3'!A47","v":37},{"$f":"'LV 3'!C47","v":11.081216493471114},null,null,{"$f":"'LV 3'!D47","v":3.3292411019723693}]
[{"$f":"'LV 3'!A48","v":38},{"$f":"'LV 3'!C48","v":11.083383416916172},null,null,{"$f":"'LV 3'!D48","v":3.3193278658780674}]
[{"$f":"'LV 3'!A49","v":39},{"$f":"'LV 3'!C49","v":11.087919213715777},null,null,{"$f":"'LV 3'!D49","v":3.3094627852103171}]
[{"$f":"'LV 3'!A50","v":40},{"$f":"'LV 3'!C50","v":11.094813707549909},null,null,{"$f":"'LV 3'!D50","v":3.2996587100798527}]
[{"$f":"'LV 3'!A51","v":41},{"$f":"'LV 3'!C51","v":11.104055144002436},null,null,{"$f":"'LV 3'!D51","v":3.2899282766628413}]
[{"$f":"'LV 3'!A52","v":42},{"$f":"'LV 3'!C52","v":11.115630203491051},null,null,{"$f":"'LV 3'!D52","v":3.2802839020747157}]
[{"$f":"'LV 3'!A53","v":43},{"$f":"'LV 3'!C53","v":11.129524007743345},null,null,{"$f":"'LV 3'!D53","v":3.2707377799037469}]
[{"$f":"'LV 3'!A54","v":44},{"$f":"'LV 3'!C54","v":11.145720119955715},null,null,{"$f":"'LV 3'!D54","v":3.26130187634435}]
[{"$f":"'LV 3'!A55","v":45},{"$f":"'LV 3'!C55","v":11.164200538792542},null,null,{"$f":"'LV 3'!D55","v":3.2519879268706231}]
[{"$f":"'LV 3'!A56","v":46},{"$f":"'LV 3'!C56","v":11.184945686403008},null,null,{"$f":"'LV 3'!D56","v":3.2428074333912877}]
[{"$f":"'LV 3'!A57","v":47},{"$f":"'LV 3'!C57","v":11.207934390652268},null,null,{"$f":"'LV 3'!D57","v":3.2337716618279981}]
[{"$f":"'LV 3'!A58","v":48},{"$f":"'LV 3'!C58","v":11.233143861782686},null,null,{"$f":"'LV 3'!D58","v":3.2248916400599117}]
[{"$f":"'LV 3'!A59","v":49},{"$f":"'LV 3'!C59","v":11.260549663739718},null,null,{"$f":"'LV 3'!D59","v":3.2161781561784313}]
[{"$f":"'LV 3'!A60","v":50},{"$f":"'LV 3'!C60","v":11.290125680415853},null,null,{"$f":"'LV 3'!D60","v":3.207641756997123}]
[{"$f":"'LV 3'!A61","v":51},{"$f":"'LV 3'!C61","v":11.321844077085169},null,null,{"$f":"'LV 3'!D61","v":3.1992927467629841}]
[{"$f":"'LV 3'!A62","v":52},{"$f":"'LV 3'!C62","v":11.355675257320474},null,null,{"$f":"'LV 3'!D62","v":3.1911411860164436}]
[{"$f":"'LV 3'!A63","v":53},{"$f":"'LV 3'!C63","v":11.391587815705009},null,null,{"$f":"'LV 3'!D63","v":3.1831968905487447}]
[{"$f":"'LV 3'!A64","v":54},{"$f":"'LV 3'!C64","v":11.429548486671292},null,null,{"$f":"'LV 3'!D64","v":3.1754694304066513}]
[{"$f":"'LV 3'!A65","v":55},{"$f":"'LV 3'!C65","v":11.469522089821035},null,null,{"$f":"'LV 3'!D65","v":3.1679681288957515}]
[{"$f":"'LV 3'!A66","v":56},{"$f":"'LV 3'!C66","v":11.511471472102267},null,null,{"$f":"'LV 3'!D66","v":3.1607020615349808}]
[{"$f":"'LV 3'!A67","v":57},{"$f":"'LV 3'!C67","v":11.555357447242836},null,null,{"$f":"'LV 3'!D67","v":3.1536800549163813}]
[{"$f":"'LV 3'!A68","v":58},{"$f":"'LV 3'!C68","v":11.6011387328635},null,null,{"$f":"'LV 3'!D68","v":3.1469106854255204}]
[{"$f":"'LV 3'!A69","v":59},{"$f":"'LV 3'!C69","v":11.648771885718723},null,null,{"$f":"'LV 3'!D69","v":3.1404022777794407}]
[{"$f":"'LV 3'!A70","v":60},{"$f":"'LV 3'!C70","v":11.698211235539159},null,null,{"$f":"'LV 3'!D70","v":3.1341629033405001}]
[{"$f":"'LV 3'!A71","v":61},{"$f":"'LV 3'!C71","v":11.749408817976555},null,null,{"$f":"'LV 3'!D71","v":3.1282003781659928}]
[{"$f":"'LV 3'!A72","v":62},{"$f":"'LV 3'!C72","v":11.802314307179355},null,null,{"$f":"'LV 3'!D72","v":3.1225222607550291}]
[{"$f":"'LV 3'!A73","v":63},{"$f":"'LV 3'!C73","v":11.85687494855552},null,null,{"$f":"'LV 3'!D73","v":3.1171358494558024}]
[{"$f":"'LV 3'!A74","v":64},{"$f":"'LV 3'!C74","v":11.913035492307927},null,null,{"$f":"'LV 3'!D74","v":3.1120481794981134}]
[{"$f":"'LV 3'!A75","v":65},{"$f":"'LV 3'!C75","v":11.970738128356919},null,null,{"$f":"'LV 3'!D75","v":3.107266019617839}]
[{"$f":"'LV 3'!A76","v":66},{"$f":"'LV 3'!C76","v":12.029922423293977},null,null,{"$f":"'LV 3'!D76","v":3.1027958682419721}]
[{"$f":"'LV 3'!A77","v":67},{"$f":"'LV 3'!C77","v":12.090525260039835},null,null,{"$f":"'LV 3'!D77","v":3.0986439492049249}]
[{"$f":"'LV 3'!A78","v":68},{"$f":"'LV 3'!C78","v":12.152480780909363},null,null,{"$f":"'LV 3'!D78","v":3.0948162069689862}]
[{"$f":"'LV 3'!A79","v":69},{"$f":"'LV 3'!C79","v":12.215720334813883},null,null,{"$f":"'LV 3'!D79","v":3.0913183013241974}]
[{"$f":"'LV 3'!A80","v":70},{"$f":"'LV 3'!C80","v":12.280172429358853},null,null,{"$f":"'LV 3'!D80","v":3.0881556015454654}]
[{"$f":"'LV 3'!A81","v":71},{"$f":"'LV 3'!C81","v":12.345762688620743},null,null,{"$f":"'LV 3'!D81","v":3.085333179987483}]
[{"$f":"'LV 3'!A82","v":72},{"$f":"'LV 3'!C82","v":12.412413817410872},null,null,{"$f":"'LV 3'!D82","v":3.082855805101012}]
[{"$f":"'LV 3'!A83","v":73},{"$f":"'LV 3'!C83","v":12.480045572855559},null,null,{"$f":"'LV 3'!D83","v":3.0807279338573115}]
[{"$f":"'LV 3'!A84","v":74},{"$f":"'LV 3'!C84","v":12.548574744140616},null,null,{"$f":"'LV 3'!D84","v":3.0789537035709862}]
[{"$f":"'LV 3'!A85","v":75},{"$f":"'LV 3'!C85","v":12.617915141283415},null,null,{"$f":"'LV 3'!D85","v":3.0775369231153102}]
[{"$f":"'LV 3'!A86","v":76},{"$f":"'LV 3'!C86","v":12.687977593806892},null,null,{"$f":"'LV 3'!D86","v":3.0764810635281727}]
[{"$f":"'LV 3'!A87","v":77},{"$f":"'LV 3'!C87","v":12.758669960196244},null,null,{"$f":"'LV 3'!D87","v":3.0757892480111959}]
[{"$f":"'LV 3'!A88","v":78},{"$f":"'LV 3'!C88","v":12.829897149020169},null,null,{"$f":"'LV 3'!D88","v":3.0754642413293301}]
[{"$f":"'LV 3'!A89","v":79},{"$f":"'LV 3'!C89","v":12.901561152593493},null,null,{"$f":"'LV 3'!D89","v":3.0755084386233338}]
[{"$f":"'LV 3'!A90","v":80},{"$f":"'LV 3'!C90","v":12.973561094046298},null,null,{"$f":"'LV 3'!D90","v":3.0759238536530087}]
[{"$f":"'LV 3'!A91","v":81},{"$f":"'LV 3'!C91","v":13.045793288645566},null,null,{"$f":"'LV 3'!D91","v":3.0767121064948975}]
[{"$f":"'LV 3'!A92","v":82},{"$f":"'LV 3'!C92","v":13.118151320188034},null,null,{"$f":"'LV 3'!D92","v":3.0778744107243625}]
[{"$f":"'LV 3'!A93","v":83},{"$f":"'LV 3'!C93","v":13.190526133246943},null,null,{"$f":"'LV 3'!D93","v":3.0794115601185301}]
[{"$f":"'LV 3'!A94","v":84},{"$f":"'LV 3'!C94","v":13.26280614200985},null,null,{"$f":"'LV 3'!D94","v":3.0813239149235323}]
[{"$f":"'LV 3'!A95","v":85},{"$f":"'LV 3'!C95","v":13.33487735638912},null,null,{"$f":"'LV 3'!D95","v":3.0836113877367541}]
[{"$f":"'LV 3'!A96","v":86},{"$f":"'LV 3'!C96","v":13.406623526020576},null,null,{"$f":"'LV 3'!D96","v":3.0862734290623961}]
[{"$f":"'LV 3'!A97","v":87},{"$f":"'LV 3'!C97","v":13.477926302688591},null,null,{"$f":"'LV 3'!D97","v":3.0893090126065665}]
[{"$f":"'LV 3'!A98","v":88},{"$f":"'LV 3'!C98","v":13.548665421627209},null,null,{"$f":"'LV 3'!D98","v":3.0927166203862604}]
[{"$f":"'LV 3'!A99","v":89},{"$f":"'LV 3'!C99","v":13.618718902046508},null,null,{"$f":"'LV 3'!D99","v":3.0964942277349405}]
[{"$f":"'LV 3'!A100","v":90},{"$f":"'LV 3'!C100","v":13.687963267121107},null,null,{"$f":"'LV 3'!D100","v":3.1006392882959384}]
[{"$f":"'LV 3'!A101","v":91},{"$f":"'LV 3'!C101","v":13.756273783553574},null,null,{"$f":"'LV 3'!D101","v":3.1051487191034699}]
[{"$f":"'LV 3'!A102","v":92},{"$f":"'LV 3'!C102","v":13.823524720689559},null,null,{"$f":"'LV 3'!D102","v":3.1100188858596418}]
[{"$f":"'LV 3'!A103","v":93},{"$f":"'LV 3'!C103","v":13.889589629014219},null,null,{"$f":"'LV 3'!D103","v":3.1152455885243096}]
[{"$f":"'LV 3'!A104","v":94},{"$f":"'LV 3'!C104","v":13.954341637701352},null,null,{"$f":"'LV 3'!D104","v":3.1208240473429356}]
[{"$f":"'LV 3'!A105","v":95},{"$f":"'LV 3'!C105","v":14.017653770718436},null,null,{"$f":"'LV 3'!D105","v":3.1267488894455941}]
[{"$f":"'LV 3'!A106","v":96},{"$f":"'LV 3'!C106","v":14.07939928081346},null,null,{"$f":"'LV 3'!D106","v":3.1330141361578154}]
[{"$f":"'LV 3'!A107","v":97},{"$f":"'LV 3'!C107","v":14.139452000524225},null,null,{"$f":"'LV 3'!D107","v":3.1396131911709708}]
[{"$f":"'LV 3'!A108","v":98},{"$f":"'LV 3'!C108","v":14.197686709159159},null,null,{"$f":"'LV 3'!D108","v":3.1465388297261927}]
[{"$f":"'LV 3'!A109","v":99},{"$f":"'LV 3'!C109","v":14.253979514502396},null,null,{"$f":"'LV 3'!D109","v":3.1537831889712717}]
[{"$f":"'LV 3'!A110","v":100},{"$f":"'LV 3'!C110","v":14.308208247796772},null,null,{"$f":"'LV 3'!D110","v":3.1613377596544274}]
[{"$f":"'LV 3'!A111","v":101},{"$f":"'LV 3'!C111","v":14.360252870358826},null,null,{"$f":"'LV 3'!D111","v":3.1691933793221319}]
[{"$f":"'LV 3'!A112","v":102},{"$f":"'LV 3'!C112","v":14.409995889982079},null,null,{"$f":"'LV 3'!D112","v":3.177340227190137}]
[{"$f":"'LV 3'!A113","v":103},{"$f":"'LV 3'!C113","v":14.457322785091687},null,null,{"$f":"'LV 3'!D113","v":3.1857678208573659}]
[{"$f":"'LV 3'!A114","v":104},{"$f":"'LV 3'!C114","v":14.502122434427529},null,null,{"$f":"'LV 3'!D114","v":3.1944650150311951}]
[{"$f":"'LV 3'!A115","v":105},{"$f":"'LV 3'!C115","v":14.544287549857057},null,null,{"$f":"'LV 3'!D115","v":3.2034200024297745}]
[{"$f":"'LV 3'!A116","v":106},{"$f":"'LV 3'!C116","v":14.58371510975674},null,null,{"$f":"'LV 3'!D116","v":3.2126203170222438}]
[{"$f":"'LV 3'!A117","v":107},{"$f":"'LV 3'!C117","v":14.620306790254755},null,null,{"$f":"'LV 3'!D117","v":3.2220528397609041}]
[{"$f":"'LV 3'!A118","v":108},{"$f":"'LV 3'!C118","v":14.653969391500844},null,null,{"$f":"'LV 3'!D118","v":3.2317038069505064}]
[{"$f":"'LV 3'!A119","v":109},{"$f":"'LV 3'!C119","v":14.684615256025014},null,null,{"$f":"'LV 3'!D119","v":3.241558821388729}]
[{"$f":"'LV 3'!A120","v":110},{"$f":"'LV 3'!C120","v":14.712162676167795},null,null,{"$f":"'LV 3'!D120","v":3.2516028663986085}]
[{"$f":"'LV 3'!A121","v":111},{"$f":"'LV 3'!C121","v":14.736536287513976},null,null,{"$f":"'LV 3'!D121","v":3.2618203228581568}]
[{"$f":"'LV 3'!A122","v":112},{"$f":"'LV 3'!C122","v":14.757667445241369},null,null,{"$f":"'LV 3'!D122","v":3.2721949893146207}]
[{"$f":"'LV 3'!A123","v":113},{"$f":"'LV 3'!C123","v":14.775494580308536},null,null,{"$f":"'LV 3'!D123","v":3.2827101052509469}]
[{"$f":"'LV 3'!A124","v":114},{"$f":"'LV 3'!C124","v":14.789963532452095},null,null,{"$f":"'LV 3'!D124","v":3.2933483775500263}]
[{"$f":"'LV 3'!A125","v":115},{"$f":"'LV 3'!C125","v":14.801027857046572},null,null,{"$f":"'LV 3'!D125","v":3.3040920101784246}]
[{"$f":"'LV 3'!A126","v":116},{"$f":"'LV 3'!C126","v":14.808649102998514},null,null,{"$f":"'LV 3'!D126","v":3.3149227370856678}]
[{"$f":"'LV 3'!A127","v":117},{"$f":"'LV 3'!C127","v":14.812797059001916},null,null,{"$f":"'LV 3'!D127","v":3.3258218582880437}]
[{"$f":"'LV 3'!A128","v":118},{"$f":"'LV 3'!C128","v":14.813449965673492},null,null,{"$f":"'LV 3'!D128","v":3.3367702790774989}]
[{"$f":"'LV 3'!A129","v":119},{"$f":"'LV 3'!C129","v":14.810594691312851},null,null,{"$f":"'LV 3'!D129","v":3.3477485522669195}]
[{"$f":"'LV 3'!A130","v":120},{"$f":"'LV 3'!C130","v":14.804226869292632},null,null,{"$f":"'LV 3'!D130","v":3.3587369233531827}]
[{"$f":"'LV 3'!A131","v":121},{"$f":"'LV 3'!C131","v":14.794350995374584},null,null,{"$f":"'LV 3'!D131","v":3.3697153784492593}]
[{"$f":"'LV 3'!A132","v":122},{"$f":"'LV 3'!C132","v":14.78098048356655},null,null,{"$f":"'LV 3'!D132","v":3.3806636948067039}]
[{"$f":"'LV 3'!A133","v":123},{"$f":"'LV 3'!C133","v":14.764137679478706},null,null,{"$f":"'LV 3'!D133","v":3.3915614937205447}]
[{"$f":"'LV 3'!A134","v":124},{"$f":"'LV 3'!C134","v":14.743853830501076},null,null,{"$f":"'LV 3'!D134","v":3.4023882955802676}]
[{"$f":"'LV 3'!A135","v":125},{"$f":"'LV 3'!C135","v":14.720169012503534},null,null,{"$f":"'LV 3'!D135","v":3.4131235768037564}]
[{"$f":"'LV 3'!A136","v":126},{"$f":"'LV 3'!C136","v":14.693132013149398},null,null,{"$f":"'LV 3'!D136","v":3.4237468283660988}]
[{"$f":"'LV 3'!A137","v":127},{"$f":"'LV 3'!C137","v":14.662800172308602},null,null,{"$f":"'LV 3'!D137","v":3.4342376156125374}]
[{"$f":"'LV 3'!A138","v":128},{"$f":"'LV 3'!C138","v":14.629239180451066},null,null,{"$f":"'LV 3'!D138","v":3.444575639024916}]
[{"$f":"'LV 3'!A139","v":129},{"$f":"'LV 3'!C139","v":14.592522836289287},null,null,{"$f":"'LV 3'!D139","v":3.4547407955941125}]
[{"$f":"'LV 3'!A140","v":130},{"$f":"'LV 3'!C140","v":14.552732765315788},null,null,{"$f":"'LV 3'!D140","v":3.464713240437483}]
[{"$f":"'LV 3'!A141","v":131},{"$f":"'LV 3'!C141","v":14.509958101240375},null,null,{"$f":"'LV 3'!D141","v":3.4744734482905373}]
[{"$f":"'LV 3'!A142","v":132},{"$f":"'LV 3'!C142","v":14.464295132668758},null,null,{"$f":"'LV 3'!D142","v":3.4840022744961474}]
[{"$f":"'LV 3'!A143","v":133},{"$f":"'LV 3'!C143","v":14.415846917673107},null,null,{"$f":"'LV 3'!D143","v":3.4932810151127125}]
[{"$f":"'LV 3'!A144","v":134},{"$f":"'LV 3'!C144","v":14.364722869182131},null,null,{"$f":"'LV 3'!D144","v":3.5022914657649507}]
[{"$f":"'LV 3'!A145","v":135},{"$f":"'LV 3'!C145","v":14.31103831435926},null,null,{"$f":"'LV 3'!D145","v":3.5110159788674027}]
[{"$f":"'LV 3'!A146","v":136},{"$f":"'LV 3'!C146","v":14.254914031339396},null,null,{"$f":"'LV 3'!D146","v":3.519437518861237}]
[{"$f":"'LV 3'!A147","v":137},{"$f":"'LV 3'!C147","v":14.196475766854762},null,null,{"$f":"'LV 3'!D147","v":3.5275397151194579}]
[{"$f":"'LV 3'!A148","v":138},{"$f":"'LV 3'!C148","v":14.13585373839704},null,null,{"$f":"'LV 3'!D148","v":3.535306912193918}]
[{"$f":"'LV 3'!A149","v":139},{"$f":"'LV 3'!C149","v":14.073182124635071},null,null,{"$f":"'LV 3'!D149","v":3.5427242170994022}]
[{"$f":"'LV 3'!A150","v":140},{"$f":"'LV 3'!C150","v":14.008598547834877},null,null,{"$f":"'LV 3'!D150","v":3.5497775433551584}]
[{"$f":"'LV 3'!A151","v":141},{"$f":"'LV 3'!C151","v":13.9422435520121},null,null,{"$f":"'LV 3'!D151","v":3.556453651532236}]
[{"$f":"'LV 3'!A152","v":142},{"$f":"'LV 3'!C152","v":13.874260080487593},null,null,{"$f":"'LV 3'!D152","v":3.5627401860854717}]
[{"$f":"'LV 3'!A153","v":143},{"$f":"'LV 3'!C153","v":13.804792956416872},null,null,{"$f":"'LV 3'!D153","v":3.5686257082814596}]
[{"$f":"'LV 3'!A154","v":144},{"$f":"'LV 3'!C154","v":13.733988369726026},null,null,{"$f":"'LV 3'!D154","v":3.574099725067923}]
[{"$f":"'LV 3'!A155","v":145},{"$f":"'LV 3'!C155","v":13.661993373713957},null,null,{"$f":"'LV 3'!D155","v":3.5791527137650516}]
[{"$f":"'LV 3'!A156","v":146},{"$f":"'LV 3'!C156","v":13.588955394376979},null,null,{"$f":"'LV 3'!D156","v":3.5837761424951213}]
[{"$f":"'LV 3'!A157","v":147},{"$f":"'LV 3'!C157","v":13.515021755281122},null,null,{"$f":"'LV 3'!D157","v":3.5879624863025463}]
[{"$f":"'LV 3'!A158","v":148},{"$f":"'LV 3'!C158","v":13.440339220554229},null,null,{"$f":"'LV 3'!D158","v":3.5917052389519881}]
[{"$f":"'LV 3'!A159","v":149},{"$f":"'LV 3'!C159","v":13.365053558298765},null,null,{"$f":"'LV 3'!D159","v":3.5949989204267845}]
[{"$f":"'LV 3'!A160","v":150},{"$f":"'LV 3'!C160","v":13.289309126441708},null,null,{"$f":"'LV 3'!D160","v":3.5978390801833302}]
[{"$f":"'LV 3'!A161","v":151},{"$f":"'LV 3'!C161","v":13.213248482744641},null,null,{"$f":"'LV 3'!D161","v":3.6002222962487869}]
[{"$f":"'LV 3'!A162","v":152},{"$f":"'LV 3'!C162","v":13.137012020399659},null,null,{"$f":"'LV 3'!D162","v":3.6021461702792399}]
[{"$f":"'LV 3'!A163","v":153},{"$f":"'LV 3'!C163","v":13.060737630339302},null,null,{"$f":"'LV 3'!D163","v":3.603609318722869}]
[{"$f":"'LV 3'!A164","v":154},{"$f":"'LV 3'!C164","v":12.984560391095352},null,null,{"$f":"'LV 3'!D164","v":3.6046113602576173}]
[{"$f":"'LV 3'!A165","v":155},{"$f":"'LV 3'!C165","v":12.908612286755789},null,null,{"$f":"'LV 3'!D165","v":3.6051528996950126}]
[{"$f":"'LV 3'!A166","v":156},{"$f":"'LV 3'!C166","v":12.83302195329475},null,null,{"$f":"'LV 3'!D166","v":3.6052355085611003}]
[{"$f":"'LV 3'!A167","v":157},{"$f":"'LV 3'!C167","v":12.757914453289898},null,null,{"$f":"'LV 3'!D167","v":3.6048617025817551}]
[{"$f":"'LV 3'!A168","v":158},{"$f":"'LV 3'!C168","v":12.683411078797572},null,null,{"$f":"'LV 3'!D168","v":3.604034916312957}]
[{"$f":"'LV 3'!A169","v":159},{"$f":"'LV 3'!C169","v":12.609629181930693},null,null,{"$f":"'LV 3'!D169","v":3.6027594751669105}]
[{"$f":"'LV 3'!A170","v":160},{"$f":"'LV 3'!C170","v":12.536682032478822},null,null,{"$f":"'LV 3'!D170","v":3.6010405650922328}]
[{"$f":"'LV 3'!A171","v":161},{"$f":"'LV 3'!C171","v":12.464678701725591},null,null,{"$f":"'LV 3'!D171","v":3.5988842001709092}]
[{"$f":"'LV 3'!A172","v":162},{"$f":"'LV 3'!C172","v":12.393723971456168},null,null,{"$f":"'LV 3'!D172","v":3.5962971883964623}]
[{"$f":"'LV 3'!A173","v":163},{"$f":"'LV 3'!C173","v":12.323918267007217},null,null,{"$f":"'LV 3'!D173","v":3.5932870958969345}]
[{"$f":"'LV 3'!A174","v":164},{"$f":"'LV 3'!C174","v":12.255357613093498},null,null,{"$f":"'LV 3'!D174","v":3.5898622098630546}]
[{"$f":"'LV 3'!A175","v":165},{"$f":"'LV 3'!C175","v":12.188133611048766},null,null,{"$f":"'LV 3'!D175","v":3.5860315004365266}]
[{"$f":"'LV 3'!A176","v":166},{"$f":"'LV 3'!C176","v":12.122333436042986},null,null,{"$f":"'LV 3'!D176","v":3.581804581805982}]
[{"$f":"'LV 3'!A177","v":167},{"$f":"'LV 3'!C177","v":12.058039852782361},null,null,{"$f":"'LV 3'!D177","v":3.5771916727489828}]
[{"$f":"'LV 3'!A178","v":168},{"$f":"'LV 3'!C178","v":11.995331248161978},null,null,{"$f":"'LV 3'!D178","v":3.5722035568478119}]
[{"$f":"'LV 3'!A179","v":169},{"$f":"'LV 3'!C179","v":11.934281679321781},null,null,{"$f":"'LV 3'!D179","v":3.5668515425948435}]
[{"$f":"'LV 3'!A180","v":170},{"$f":"'LV 3'!C180","v":11.874960935553613},null,null,{"$f":"'LV 3'!D180","v":3.5611474235903056}]
[{"$f":"'LV 3'!A181","v":171},{"$f":"'LV 3'!C181","v":11.817434612518698},null,null,{"$f":"'LV 3'!D181","v":3.555103439021444}]
[{"$f":"'LV 3'!A182","v":172},{"$f":"'LV 3'!C182","v":11.761764197259623},null,null,{"$f":"'LV 3'!D182","v":3.5487322345976806}]
[{"$f":"'LV 3'!A183","v":173},{"$f":"'LV 3'!C183","v":11.708007162527023},null,null,{"$f":"'LV 3'!D183","v":3.542046824101551}]
[{"$f":"'LV 3'!A184","v":174},{"$f":"'LV 3'!C184","v":11.656217068987146},null,null,{"$f":"'LV 3'!D184","v":3.5350605517001665}]
[{"$f":"'LV 3'!A185","v":175},{"$f":"'LV 3'!C185","v":11.606443673930885},null,null,{"$f":"'LV 3'!D185","v":3.5277870551468853}]
[{"$f":"'LV 3'!A186","v":176},{"$f":"'LV 3'!C186","v":11.558733045166038},null,null,{"$f":"'LV 3'!D186","v":3.5202402299879054}]
[{"$f":"'LV 3'!A187","v":177},{"$f":"'LV 3'!C187","v":11.513127678841258},null,null,{"$f":"'LV 3'!D187","v":3.5124341948738107}]
[{"$f":"'LV 3'!A188","v":178},{"$f":"'LV 3'!C188","v":11.469666620020956},null,null,{"$f":"'LV 3'!D188","v":3.5043832580617509}]
[{"$f":"'LV 3'!A189","v":179},{"$f":"'LV 3'!C189","v":11.428385584904216},null,null,{"$f":"'LV 3'!D189","v":3.4961018851801158}]
[{"$f":"'LV 3'!A190","v":180},{"$f":"'LV 3'!C190","v":11.389317083656335},null,null,{"$f":"'LV 3'!D190","v":3.4876046683142734}]
[{"$f":"'LV 3'!A191","v":181},{"$f":"'LV 3'!C191","v":11.352490542898032},null,null,{"$f":"'LV 3'!D191","v":3.4789062964593152}]
[{"$f":"'LV 3'!A192","v":182},{"$f":"'LV 3'!C192","v":11.317932426973764},null,null,{"$f":"'LV 3'!D192","v":3.4700215273738135}]
[{"$f":"'LV 3'!A193","v":183},{"$f":"'LV 3'!C193","v":11.285666357196142},null,null,{"$f":"'LV 3'!D193","v":3.4609651608574019}]
[{"$f":"'LV 3'!A194","v":184},{"$f":"'LV 3'!C194","v":11.255713228337514},null,null,{"$f":"'LV 3'!D194","v":3.4517520134645516}]
[{"$f":"'LV 3'!A195","v":185},{"$f":"'LV 3'!C195","v":11.228091321711862},null,null,{"$f":"'LV 3'!D195","v":3.4423968946572838}]
[{"$f":"'LV 3'!A196","v":186},{"$f":"'LV 3'!C196","v":11.202816414259761},null,null,{"$f":"'LV 3'!D196","v":3.4329145843906854}]
[{"$f":"'LV 3'!A197","v":187},{"$f":"'LV 3'!C197","v":11.179901883115873},null,null,{"$f":"'LV 3'!D197","v":3.4233198121170414}]
[{"$f":"'LV 3'!A198","v":188},{"$f":"'LV 3'!C198","v":11.15935880520211},null,null,{"$f":"'LV 3'!D198","v":3.4136272371870815}]
[{"$f":"'LV 3'!A199","v":189},{"$f":"'LV 3'!C199","v":11.141196051449983},null,null,{"$f":"'LV 3'!D199","v":3.4038514306203052}]
[{"$f":"'LV 3'!A200","v":190},{"$f":"'LV 3'!C200","v":11.125420375312554},null,null,{"$f":"'LV 3'!D200","v":3.3940068582105258}]
[{"$f":"'LV 3'!A201","v":191},{"$f":"'LV 3'!C201","v":11.112036495279952},null,null,{"$f":"'LV 3'!D201","v":3.3841078649276466}]
[{"$f":"'LV 3'!A202","v":192},{"$f":"'LV 3'!C202","v":11.101047171162392},null,null,{"$f":"'LV 3'!D202","v":3.3741686605722334}]
[{"$f":"'LV 3'!A203","v":193},{"$f":"'LV 3'!C203","v":11.092453273951344},null,null,{"$f":"'LV 3'!D203","v":3.3642033066355994}]
[{"$f":"'LV 3'!A204","v":194},{"$f":"'LV 3'!C204","v":11.086253849112762},null,null,{"$f":"'LV 3'!D204","v":3.3542257043148744}]
[{"$f":"'LV 3'!A205","v":195},{"$f":"'LV 3'!C205","v":11.082446173206534},null,null,{"$f":"'LV 3'!D205","v":3.3442495836298205}]
[{"$f":"'LV 3'!A206","v":196},{"$f":"'LV 3'!C206","v":11.081025803763469},null,null,{"$f":"'LV 3'!D206","v":3.3342884935859507}]
[{"$f":"'LV 3'!A207","v":197},{"$f":"'LV 3'!C207","v":11.081986622385497},null,null,{"$f":"'LV 3'!D207","v":3.3243557933267645}]
[{"$f":"'LV 3'!A208","v":198},{"$f":"'LV 3'!C208","v":11.08532087106664},null,null,{"$f":"'LV 3'!D208","v":3.3144646442165855}]
[{"$f":"'LV 3'!A209","v":199},{"$f":"'LV 3'!C209","v":11.091019181761636},null,null,{"$f":"'LV 3'!D209","v":3.3046280027945492}]
[{"$f":"'LV 3'!A210","v":200},{"$f":"'LV 3'!C210","v":11.09907059925647},null,null,{"$f":"'LV 3'!D210","v":3.2948586145396761}]
[{"$f":"'LV 3'!A211","v":201},{"$f":"'LV 3'!C211","v":11.109462597420471},null,null,{"$f":"'LV 3'!D211","v":3.2851690083866716}]
[{"$f":"'LV 3'!A212","v":202},{"$f":"'LV 3'!C212","v":11.122181088943384},null,null,{"$f":"'LV 3'!D212","v":3.275571491932058}]
[{"$f":"'LV 3'!A213","v":203},{"$f":"'LV 3'!C213","v":11.137210428683218},null,null,{"$f":"'LV 3'!D213","v":3.2660781472704583}]
[{"$f":"'LV 3'!A214","v":204},{"$f":"'LV 3'!C214","v":11.154533410771911},null,null,{"$f":"'LV 3'!D214","v":3.2567008274012457}]
[{"$f":"'LV 3'!A215","v":205},{"$f":"'LV 3'!C215","v":11.174131259646115},null,null,{"$f":"'LV 3'!D215","v":3.2474511531463728}]
[{"$f":"'LV 3'!A216","v":206},{"$f":"'LV 3'!C216","v":11.195983615190075},null,null,{"$f":"'LV 3'!D216","v":3.2383405105209273}]
[{"$f":"'LV 3'!A217","v":207},{"$f":"'LV 3'!C217","v":11.22006851219669},null,null,{"$f":"'LV 3'!D217","v":3.22938004849882}]
[{"$f":"'LV 3'!A218","v":208},{"$f":"'LV 3'!C218","v":11.246362354371774},null,null,{"$f":"'LV 3'!D218","v":3.2205806771169896}]
[{"$f":"'LV 3'!A219","v":209},{"$f":"'LV 3'!C219","v":11.274839883125335},null,null,{"$f":"'LV 3'!D219","v":3.2119530658625659}]
[{"$f":"'LV 3'!A220","v":210},{"$f":"'LV 3'!C220","v":11.305474141412686},null,null,{"$f":"'LV 3'!D220","v":3.2035076422885602}]
[{"$f":"'LV 3'!A221","v":211},{"$f":"'LV 3'!C221","v":11.338236432907445},null,null,{"$f":"'LV 3'!D221","v":3.1952545908048497}]
[{"$f":"'LV 3'!A222","v":212},{"$f":"'LV 3'!C222","v":11.373096276808162},null,null,{"$f":"'LV 3'!D222","v":3.187203851592455}]
[{"$f":"'LV 3'!A223","v":213},{"$f":"'LV 3'!C223","v":11.410021358600615},null,null,{"$f":"'LV 3'!D223","v":3.1793651195903934}]
[{"$f":"'LV 3'!A224","v":214},{"$f":"'LV 3'!C224","v":11.448977477118753},null,null,{"$f":"'LV 3'!D224","v":3.1717478435056998}]
[{"$f":"'LV 3'!A225","v":215},{"$f":"'LV 3'!C225","v":11.489928488269067},null,null,{"$f":"'LV 3'!D225","v":3.1643612247985531}]
[{"$f":"'LV 3'!A226","v":216},{"$f":"'LV 3'!C226","v":11.532836245805713},null,null,{"$f":"'LV 3'!D226","v":3.1572142165958064}]
[{"$f":"'LV 3'!A227","v":217},{"$f":"'LV 3'!C227","v":11.577660539567312},null,null,{"$f":"'LV 3'!D227","v":3.1503155224876349}]
[{"$f":"'LV 3'!A228","v":218},{"$f":"'LV 3'!C228","v":11.624359031610746},null,null,{"$f":"'LV 3'!D228","v":3.1436735951634254}]
[{"$f":"'LV 3'!A229","v":219},{"$f":"'LV 3'!C229","v":11.672887190702726},null,null,{"$f":"'LV 3'!D229","v":3.1372966348445108}]
[{"$f":"'LV 3'!A230","v":220},{"$f":"'LV 3'!C230","v":11.723198225656137},null,null,{"$f":"'LV 3'!D230","v":3.1311925874728566}]
[{"$f":"'LV 3'!A231","v":221},{"$f":"'LV 3'!C231","v":11.775243018025387},null,null,{"$f":"'LV 3'!D231","v":3.1253691426163588}]
[{"$f":"'LV 3'!A232","v":222},{"$f":"'LV 3'!C232","v":11.828970054702834},null,null,{"$f":"'LV 3'!D232","v":3.1198337310530424}]
[{"$f":"'LV 3'!A233","v":223},{"$f":"'LV 3'!C233","v":11.884325360986988},null,null,{"$f":"'LV 3'!D233","v":3.1145935219981276}]
[{"$f":"'LV 3'!A234","v":224},{"$f":"'LV 3'!C234","v":11.94125243472214},null,null,{"$f":"'LV 3'!D234","v":3.1096554199397208}]
[{"$f":"'LV 3'!A235","v":225},{"$f":"'LV 3'!C235","v":11.999692182138492},null,null,{"$f":"'LV 3'!D235","v":3.105026061050757}]
[{"$f":"'LV 3'!A236","v":226},{"$f":"'LV 3'!C236","v":12.059582856051223},null,null,{"$f":"'LV 3'!D236","v":3.1007118091468175}]
[{"$f":"'LV 3'!A237","v":227},{"$f":"'LV 3'!C237","v":12.120859997106145},null,null,{"$f":"'LV 3'!D237","v":3.0967187511615828}]
[{"$f":"'LV 3'!A238","v":228},{"$f":"'LV 3'!C238","v":12.183456378788325},null,null,{"$f":"'LV 3'!D238","v":3.0930526921139534}]
[{"$f":"'LV 3'!A239","v":229},{"$f":"'LV 3'!C239","v":12.247301956937944},null,null,{"$f":"'LV 3'!D239","v":3.0897191495433396}]
[{"$f":"'LV 3'!A240","v":230},{"$f":"'LV 3'!C240","v":12.312323824544249},null,null,{"$f":"'LV 3'!D240","v":3.0867233473922644}]
[{"$f":"'LV 3'!A241","v":231},{"$f":"'LV 3'!C241","v":12.378446172613494},null,null,{"$f":"'LV 3'!D241","v":3.0840702093182935}]
[{"$f":"'LV 3'!A242","v":232},{"$f":"'LV 3'!C242","v":12.445590257929583},null,null,{"$f":"'LV 3'!D242","v":3.0817643514203992}]
[{"$f":"'LV 3'!A243","v":233},{"$f":"'LV 3'!C243","v":12.513674378546369},null,null,{"$f":"'LV 3'!D243","v":3.0798100743682291}]
[{"$f":"'LV 3'!A244","v":234},{"$f":"'LV 3'!C244","v":12.582613857867592},null,null,{"$f":"'LV 3'!D244","v":3.0782113549263772}]
[{"$f":"'LV 3'!A245","v":235},{"$f":"'LV 3'!C245","v":12.652321038183693},null,null,{"$f":"'LV 3'!D245","v":3.0769718368696881}]
[{"$f":"'LV 3'!A246","v":236},{"$f":"'LV 3'!C246","v":12.722705284543684},null,null,{"$f":"'LV 3'!D246","v":3.0760948212898653}]
[{"$f":"'LV 3'!A247","v":237},{"$f":"'LV 3'!C247","v":12.793672999844039},null,null,{"$f":"'LV 3'!D247","v":3.0755832562982341}]
[{"$f":"'LV 3'!A248","v":238},{"$f":"'LV 3'!C248","v":12.86512765201482},null,null,{"$f":"'LV 3'!D248","v":3.0754397261344288}]
[{"$f":"'LV 3'!A249","v":239},{"$f":"'LV 3'!C249","v":12.93696981417497},null,null,{"$f":"'LV 3'!D249","v":3.0756664396960565}]
[{"$f":"'LV 3'!A250","v":240},{"$f":"'LV 3'!C250","v":13.009097218613471},null,null,{"$f":"'LV 3'!D250","v":3.0762652185100343}]
[{"$f":"'LV 3'!A251","v":241},{"$f":"'LV 3'!C251","v":13.08140482542998},null,null,{"$f":"'LV 3'!D251","v":3.0772374841723185}]
[{"$f":"'LV 3'!A252","v":242},{"$f":"'LV 3'!C252","v":13.153784906637062},null,null,{"$f":"'LV 3'!D252","v":3.0785842452891305}]
[{"$f":"'LV 3'!A253","v":243},{"$f":"'LV 3'!C253","v":13.22612714648551},null,null,{"$f":"'LV 3'!D253","v":3.0803060839595418}]
[{"$f":"'LV 3'!A254","v":244},{"$f":"'LV 3'!C254","v":13.298318758723846},null,null,{"$f":"'LV 3'!D254","v":3.0824031418463869}]
[{"$f":"'LV 3'!A255","v":245},{"$f":"'LV 3'!C255","v":13.370244621442454},null,null,{"$f":"'LV 3'!D255","v":3.084875105889918}]
[{"$f":"'LV 3'!A256","v":246},{"$f":"'LV 3'!C256","v":13.441787430081206},null,null,{"$f":"'LV 3'!D256","v":3.0877211937263676}]
[{"$f":"'LV 3'!A257","v":247},{"$f":"'LV 3'!C257","v":13.512827869096652},null,null,{"$f":"'LV 3'!D257","v":3.0909401388816127}]
[{"$f":"'LV 3'!A258","v":248},{"$f":"'LV 3'!C258","v":13.583244802690444},null,null,{"$f":"'LV 3'!D258","v":3.0945301758183898}]
[{"$f":"'LV 3'!A259","v":249},{"$f":"'LV 3'!C259","v":13.652915484894388},null,null,{"$f":"'LV 3'!D259","v":3.098489024923949}]
[{"$f":"'LV 3'!A260","v":250},{"$f":"'LV 3'!C260","v":13.721715789189407},null,null,{"$f":"'LV 3'!D260","v":3.102813877533579}]
[{"$f":"'LV 3'!A261","v":251},{"$f":"'LV 3'!C261","v":13.789520457705699},null,null,{"$f":"'LV 3'!D261","v":3.1075013810940333}]
[{"$f":"'LV 3'!A262","v":252},{"$f":"'LV 3'!C262","v":13.856203369909808},null,null,{"$f":"'LV 3'!D262","v":3.1125476245794208}]
[{"$f":"'LV 3'!A263","v":253},{"$f":"'LV 3'!C263","v":13.921637830531644},null,null,{"$f":"'LV 3'!D263","v":3.1179481242805389}]
[{"$f":"'LV 3'!A264","v":254},{"$f":"'LV 3'!C264","v":13.985696876321255},null,null,{"$f":"'LV 3'!D264","v":3.1236978100967767}]
[{"$f":"'LV 3'!A265","v":255},{"$f":"'LV 3'!C265","v":14.048253601052341},null,null,{"$f":"'LV 3'!D265","v":3.1297910124675132}]
[{"$f":"'LV 3'!A266","v":256},{"$f":"'LV 3'!C266","v":14.109181498008104},null,null,{"$f":"'LV 3'!D266","v":3.1362214500872296}]
[{"$f":"'LV 3'!A267","v":257},{"$f":"'LV 3'!C267","v":14.168354818996482},null,null,{"$f":"'LV 3'!D267","v":3.1429822185552352}]
[{"$f":"'LV 3'!A268","v":258},{"$f":"'LV 3'!C268","v":14.22564894874766},null,null,{"$f":"'LV 3'!D268","v":3.1500657801167944}]
[{"$f":"'LV 3'!A269","v":259},{"$f":"'LV 3'!C269","v":14.28094079334879},null,null,{"$f":"'LV 3'!D269","v":3.157463954657429}]
[{"$f":"'LV 3'!A270","v":260},{"$f":"'LV 3'!C270","v":14.334109181171275},null,null,{"$f":"'LV 3'!D270","v":3.1651679121160572}]
[{"$f":"'LV 3'!A271","v":261},{"$f":"'LV 3'!C271","v":14.385035274546903},null,null,{"$f":"'LV 3'!D271","v":3.1731681664852993}]
[{"$f":"'LV 3'!A272","v":262},{"$f":"'LV 3'!C272","v":14.43360299025332},null,null,{"$f":"'LV 3'!D272","v":3.1814545715685423}]
[{"$f":"'LV 3'!A273","v":263},{"$f":"'LV 3'!C273","v":14.479699426679218},null,null,{"$f":"'LV 3'!D273","v":3.1900163186630768}]
[{"$f":"'LV 3'!A274","v":264},{"$f":"'LV 3'!C274","v":14.523215295358362},null,null,{"$f":"'LV 3'!D274","v":3.1988419363366476}]
[{"$f":"'LV 3'!A275","v":265},{"$f":"'LV 3'!C275","v":14.564045354391913},null,null,{"$f":"'LV 3'!D275","v":3.2079192924609488}]
[{"$f":"'LV 3'!A276","v":266},{"$f":"'LV 3'!C276","v":14.60208884112371},null,null,{"$f":"'LV 3'!D276","v":3.2172355986598338}]
[{"$f":"'LV 3'!A277","v":267},{"$f":"'LV 3'!C277","v":14.637249901296137},null,null,{"$f":"'LV 3'!D277","v":3.2267774173221908}]
[{"$f":"'LV 3'!A278","v":268},{"$f":"'LV 3'!C278","v":14.669438011798205},null,null,{"$f":"'LV 3'!D278","v":3.2365306713194544}]
[{"$f":"'LV 3'!A279","v":269},{"$f":"'LV 3'!C279","v":14.698568394025276},null,null,{"$f":"'LV 3'!D279","v":3.2464806565555619}]
[{"$f":"'LV 3'!A280","v":270},{"$f":"'LV 3'!C280","v":14.724562414804524},null,null,{"$f":"'LV 3'!D280","v":3.256612057462748}]
[{"$f":"'LV 3'!A281","v":271},{"$f":"'LV 3'!C281","v":14.747347971804015},null,null,{"$f":"'LV 3'!D281","v":3.2669089655399306}]
[{"$f":"'LV 3'!A282","v":272},{"$f":"'LV 3'!C282","v":14.766859860338906},null,null,{"$f":"'LV 3'!D282","v":3.277354901011623}]
[{"$f":"'LV 3'!A283","v":273},{"$f":"'LV 3'!C283","v":14.783040118517249},null,null,{"$f":"'LV 3'!D283","v":3.2879328376643517}]
[{"$f":"'LV 3'!A284","v":274},{"$f":"'LV 3'!C284","v":14.795838347732067},null,null,{"$f":"'LV 3'!D284","v":3.2986252308946384}]
[{"$f":"'LV 3'!A285","v":275},{"$f":"'LV 3'!C285","v":14.805212005606545},null,null,{"$f":"'LV 3'!D285","v":3.3094140489778332}]
[{"$f":"'LV 3'!A286","v":276},{"$f":"'LV 3'!C286","v":14.811126668635973},null,null,{"$f":"'LV 3'!D286","v":3.3202808075406978}]
[{"$f":"'LV 3'!A287","v":277},{"$f":"'LV 3'!C287","v":14.813556261943257},null,null,{"$f":"'LV 3'!D287","v":3.3312066071928625}]
[{"$f":"'LV 3'!A288","v":278},{"$f":"'LV 3'!C288","v":14.812483253773795},null,null,{"$f":"'LV 3'!D288","v":3.342172174243415}]
[{"$f":"'LV 3'!A289","v":279},{"$f":"'LV 3'!C289","v":14.807898812598694},null,null,{"$f":"'LV 3'!D289","v":3.3531579043992403}]
[{"$f":"'LV 3'!A290","v":280},{"$f":"'LV 3'!C290","v":14.799802924970908},null,null,{"$f":"'LV 3'!D290","v":3.3641439093116823}]
[{"$f":"'LV 3'!A291","v":281},{"$f":"'LV 3'!C291","v":14.788204472584034},null,null,{"$f":"'LV 3'!D291","v":3.3751100658080153}]
[{"$f":"'LV 3'!A292","v":282},{"$f":"'LV 3'!C292","v":14.773121267314938},null,null,{"$f":"'LV 3'!D292","v":3.3860360676145289}]
[{"$f":"'LV 3'!A293","v":283},{"$f":"'LV 3'!C293","v":14.754580043385349},null,null,{"$f":"'LV 3'!D293","v":3.3969014793491379}]
[{"$f":"'LV 3'!A294","v":284},{"$f":"'LV 3'!C294","v":14.732616406149486},null,null,{"$f":"'LV 3'!D294","v":3.4076857925337967}]
[{"$f":"'LV 3'!A295","v":285},{"$f":"'LV 3'!C295","v":14.707274737399834},null,null,{"$f":"'LV 3'!D295","v":3.4183684833510313}]
[{"$f":"'LV 3'!A296","v":286},{"$f":"'LV 3'!C296","v":14.678608057476296},null,null,{"$f":"'LV 3'!D296","v":3.4289290718450434}]
[{"$f":"'LV 3'!A297","v":287},{"$f":"'LV 3'!C297","v":14.646677844859388},null,null,{"$f":"'LV 3'!D297","v":3.4393471822464945}]
[{"$f":"'LV 3'!A298","v":288},{"$f":"'LV 3'!C298","v":14.61155381432039},null,null,{"$f":"'LV 3'!D298","v":3.4496026040816159}]
[{"$f":"'LV 3'!A299","v":289},{"$f":"'LV 3'!C299","v":14.573313655084721},null,null,{"$f":"'LV 3'!D299","v":3.459675353711066}]
[{"$f":"'LV 3'!A300","v":290},{"$f":"'LV 3'!C300","v":14.532042730833581},null,null,{"$f":"'LV 3'!D300","v":3.469545735932257}]
[{"$f":"'LV 3'!A301","v":291},{"$f":"'LV 3'!C301","v":14.487833743717612},null,null,{"$f":"'LV 3'!D301","v":3.4791944052709636}]
[{"$f":"'LV 3'!A302","v":292},{"$f":"'LV 3'!C302","v":14.440786364880056},null,null,{"$f":"'LV 3'!D302","v":3.488602426584078}]
[{"$f":"'LV 3'!A303","v":293},{"$f":"'LV 3'!C303","v":14.391006834280565},null,null,{"$f":"'LV 3'!D303","v":3.4977513345955211}]
[{"$f":"'LV 3'!A304","v":294},{"$f":"'LV 3'!C304","v":14.338607532870622},null,null,{"$f":"'LV 3'!D304","v":3.5066231919916198}]
[{"$f":"'LV 3'!A305","v":295},{"$f":"'LV 3'!C305","v":14.283706530393596},null,null,{"$f":"'LV 3'!D305","v":3.5152006457106988}]
[{"$f":"'LV 3'!A306","v":296},{"$f":"'LV 3'!C306","v":14.226427112264055},null,null,{"$f":"'LV 3'!D306","v":3.5234669810741353}]
[{"$f":"'LV 3'!A307","v":297},{"$f":"'LV 3'!C307","v":14.166897289119792},null,null,{"$f":"'LV 3'!D307","v":3.5314061734225195}]
[{"$f":"'LV 3'!A308","v":298},{"$f":"'LV 3'!C308","v":14.105249292734847},null,null,{"$f":"'LV 3'!D308","v":3.5390029369406655}]
[{"$f":"'LV 3'!A309","v":299},{"$f":"'LV 3'!C309","v":14.041619062031877},null,null,{"$f":"'LV 3'!D309","v":3.5462427703787123}]
[{"$f":"'LV 3'!A310","v":300},{"$f":"'LV 3'!C310","v":13.976145722937888},null,null,{"$f":"'LV 3'!D310","v":3.553111999403133}]
[{"$f":"'LV 3'!A311","v":301},{"$f":"'LV 3'!C311","v":13.908971065789423},null,null,{"$f":"'LV 3'!D311","v":3.5595978153407337}]
[{"$f":"'LV 3'!A312","v":302},{"$f":"'LV 3'!C312","v":13.840239023913636},null,null,{"$f":"'LV 3'!D312","v":3.5656883101102514}]
[{"$f":"'LV 3'!A313","v":303},{"$f":"'LV 3'!C313","v":13.770095156892516},null,null,{"$f":"'LV 3'!D313","v":3.5713725071695035}]
[{"$f":"'LV 3'!A314","v":304},{"$f":"'LV 3'!C314","v":13.698686141861971},null,null,{"$f":"'LV 3'!D314","v":3.5766403883407007}]
[{"$f":"'LV 3'!A315","v":305},{"$f":"'LV 3'!C315","v":13.626159276008902},null,null,{"$f":"'LV 3'!D315","v":3.5814829164120447}]
[{"$f":"'LV 3'!A316","v":306},{"$f":"'LV 3'!C316","v":13.552661993211842},null,null,{"$f":"'LV 3'!D316","v":3.5858920534495859}]
[{"$f":"'LV 3'!A317","v":307},{"$f":"'LV 3'!C317","v":13.478341397528363},null,null,{"$f":"'LV 3'!D317","v":3.589860774789031}]
[{"$f":"'LV 3'!A318","v":308},{"$f":"'LV 3'!C318","v":13.40334381596981},null,null,{"$f":"'LV 3'!D318","v":3.5933830787123062}]
[{"$f":"'LV 3'!A319","v":309},{"$f":"'LV 3'!C319","v":13.327814372725571},null,null,{"$f":"'LV 3'!D319","v":3.5964539918477496}]
[{"$f":"'LV 3'!A320","v":310},{"$f":"'LV 3'!C320","v":13.251896586709702},null,null,{"$f":"'LV 3'!D320","v":3.5990695703654203}]
[{"$f":"'LV 3'!A321","v":311},{"$f":"'LV 3'!C321","v":13.175731994006837},null,null,{"$f":"'LV 3'!D321","v":3.6012268970698109}]
[{"$f":"'LV 3'!A322","v":312},{"$f":"'LV 3'!C322","v":13.09945979649631},null,null,{"$f":"'LV 3'!D322","v":3.602924074520895}]
[{"$f":"'LV 3'!A323","v":313},{"$f":"'LV 3'!C323","v":13.02321653763754},null,null,{"$f":"'LV 3'!D323","v":3.6041602143406757}]
[{"$f":"'LV 3'!A324","v":314},{"$f":"'LV 3'!C324","v":12.947135806109745},null,null,{"$f":"'LV 3'!D324","v":3.6049354228859878}]
[{"$f":"'LV 3'!A325","v":315},{"$f":"'LV 3'!C325","v":12.871347967718634},null,null,{"$f":"'LV 3'!D325","v":3.6052507834890726}]
[{"$f":"'LV 3'!A326","v":316},{"$f":"'LV 3'!C326","v":12.795979925714736},null,null,{"$f":"'LV 3'!D326","v":3.6051083354852929}]
[{"$f":"'LV 3'!A327","v":317},{"$f":"'LV 3'!C327","v":12.721154909415501},null,null,{"$f":"'LV 3'!D327","v":3.6045110502621869}]
[{"$f":"'LV 3'!A328","v":318},{"$f":"'LV 3'!C328","v":12.64699229078815},null,null,{"$f":"'LV 3'!D328","v":3.6034628045758876}]
[{"$f":"'LV 3'!A329","v":319},{"$f":"'LV 3'!C329","v":12.573607428434439},null,null,{"$f":"'LV 3'!D329","v":3.6019683513897696}]
[{"$f":"'LV 3'!A330","v":320},{"$f":"'LV 3'!C330","v":12.501111538223416},null,null,{"$f":"'LV 3'!D330","v":3.6000332884960975}]
[{"$f":"'LV 3'!A331","v":321},{"$f":"'LV 3'!C331","v":12.42961158964456},null,null,{"$f":"'LV 3'!D331","v":3.5976640251845744}]
[{"$f":"'LV 3'!A332","v":322},{"$f":"'LV 3'!C332","v":12.359210226802213},null,null,{"$f":"'LV 3'!D332","v":3.5948677472221253}]
[{"$f":"'LV 3'!A333","v":323},{"$f":"'LV 3'!C333","v":12.290005712842753},null,null,{"$f":"'LV 3'!D333","v":3.5916523804062157}]
[{"$f":"'LV 3'!A334","v":324},{"$f":"'LV 3'!C334","v":12.222091896498501},null,null,{"$f":"'LV 3'!D334","v":3.5880265529496622}]
[{"$f":"'LV 3'!A335","v":325},{"$f":"'LV 3'!C335","v":12.155558199346217},null,null,{"$f":"'LV 3'!D335","v":3.5839995569484642}]
[{"$f":"'LV 3'!A336","v":326},{"$f":"'LV 3'!C336","v":12.090489622312408},null,null,{"$f":"'LV 3'!D336","v":3.5795813091758948}]
[{"$f":"'LV 3'!A337","v":327},{"$f":"'LV 3'!C337","v":12.026966769911636},null,null,{"$f":"'LV 3'!D337","v":3.5747823114361723}]
[{"$f":"'LV 3'!A338","v":328},{"$f":"'LV 3'!C338","v":11.965065890676104},null,null,{"$f":"'LV 3'!D338","v":3.5696136106997089}]
[{"$f":"'LV 3'!A339","v":329},{"$f":"'LV 3'!C339","v":11.90485893222384},null,null,{"$f":"'LV 3'!D339","v":3.5640867592294612}]
[{"$f":"'LV 3'!A340","v":330},{"$f":"'LV 3'!C340","v":11.846413609417233},null,null,{"$f":"'LV 3'!D340","v":3.5582137748944844}]
[{"$f":"'LV 3'!A341","v":331},{"$f":"'LV 3'!C341","v":11.789793484081898},null,null,{"$f":"'LV 3'!D341","v":3.5520071018526704}]
[{"$f":"'LV 3'!A342","v":332},{"$f":"'LV 3'!C342","v":11.735058054786402},null,null,{"$f":"'LV 3'!D342","v":3.5454795717700058}]
[{"$f":"'LV 3'!A343","v":333},{"$f":"'LV 3'!C343","v":11.682262855224538},null,null,{"$f":"'LV 3'!D343","v":3.5386443657287505}]
[{"$f":"'LV 3'!A344","v":334},{"$f":"'LV 3'!C344","v":11.631459559792178},null,null,{"$f":"'LV 3'!D344","v":3.531514976961863}]
[{"$f":"'LV 3'!A345","v":335},{"$f":"'LV 3'!C345","v":11.582696095008615},null,null,{"$f":"'LV 3'!D345","v":3.5241051745359595}]
[{"$f":"'LV 3'!A346","v":336},{"$f":"'LV 3'!C346","v":11.536016755496401},null,null,{"$f":"'LV 3'!D346","v":3.5164289680902585}]
[{"$f":"'LV 3'!A347","v":337},{"$f":"'LV 3'!C347","v":11.491462323302574},null,null,{"$f":"'LV 3'!D347","v":3.5085005737244161}]
[{"$f":"'LV 3'!A348","v":338},{"$f":"'LV 3'!C348","v":11.449070189416542},null,null,{"$f":"'LV 3'!D348","v":3.5003343811140719}]
[{"$f":"'LV 3'!A349","v":339},{"$f":"'LV 3'!C349","v":11.408874476414727},null,null,{"$f":"'LV 3'!D349","v":3.4919449219193384}]
[{"$f":"'LV 3'!A350","v":340},{"$f":"'LV 3'!C350","v":11.370906161238167},null,null,{"$f":"'LV 3'!D350","v":3.4833468395385103}]
[{"$f":"'LV 3'!A351","v":341},{"$f":"'LV 3'!C351","v":11.33519319718577},null,null,{"$f":"'LV 3'!D351","v":3.474554860246966}]
[{"$f":"'LV 3'!A352","v":342},{"$f":"'LV 3'!C352","v":11.301760634282005},null,null,{"$f":"'LV 3'!D352","v":3.4655837657496646}]
[{"$f":"'LV 3'!A353","v":343},{"$f":"'LV 3'!C353","v":11.270630737252704},null,null,{"$f":"'LV 3'!D353","v":3.4564483671648105}]
[{"$f":"'LV 3'!A354","v":344},{"$f":"'LV 3'!C354","v":11.24182310041582},null,null,{"$f":"'LV 3'!D354","v":3.447163480446219}]
[{"$f":"'LV 3'!A355","v":345},{"$f":"'LV 3'!C355","v":11.215354758864873},null,null,{"$f":"'LV 3'!D355","v":3.4377439032426569}]
[{"$f":"'LV 3'!A356","v":346},{"$f":"'LV 3'!C356","v":11.191240295391058},null,null,{"$f":"'LV 3'!D356","v":3.4282043931839645}]
[{"$f":"'LV 3'!A357","v":347},{"$f":"'LV 3'!C357","v":11.169491942655231},null,null,{"$f":"'LV 3'!D357","v":3.4185596475760711}]
[{"$f":"'LV 3'!A358","v":348},{"$f":"'LV 3'!C358","v":11.150119680183046},null,null,{"$f":"'LV 3'!D358","v":3.4088242844800978}]
[{"$f":"'LV 3'!A359","v":349},{"$f":"'LV 3'!C359","v":11.133131325815206},null,null,{"$f":"'LV 3'!D359","v":3.3990128251445517}]
[{"$f":"'LV 3'!A360","v":350},{"$f":"'LV 3'!C360","v":11.118532621300036},null,null,{"$f":"'LV 3'!D360","v":3.3891396777541454}]
[{"$f":"'LV 3'!A361","v":351},{"$f":"'LV 3'!C361","v":11.106327311767371},null,null,{"$f":"'LV 3'!D361","v":3.3792191224539843}]
[{"$f":"'LV 3'!A362","v":352},{"$f":"'LV 3'!C362","v":11.096517218871119},null,null,{"$f":"'LV 3'!D362","v":3.3692652976037145}]
[{"$f":"'LV 3'!A363","v":353},{"$f":"'LV 3'!C363","v":11.089102307432828},null,null,{"$f":"'LV 3'!D363","v":3.3592921872126813}]
[{"$f":"'LV 3'!A364","v":354},{"$f":"'LV 3'!C364","v":11.084080745460387},null,null,{"$f":"'LV 3'!D364","v":3.3493136095041685}]
[{"$f":"'LV 3'!A365","v":355},{"$f":"'LV 3'!C365","v":11.081448957454663},null,null,{"$f":"'LV 3'!D365","v":3.339343206554338}]
[{"$f":"'LV 3'!A366","v":356},{"$f":"'LV 3'!C366","v":11.081201670952655},null,null,{"$f":"'LV 3'!D366","v":3.3293944349495117}]
[{"$f":"'LV 3'!A367","v":357},{"$f":"'LV 3'!C367","v":11.083331956288831},null,null,{"$f":"'LV 3'!D367","v":3.3194805574039044}]
[{"$f":"'LV 3'!A368","v":358},{"$f":"'LV 3'!C368","v":11.087831259586924},null,null,{"$f":"'LV 3'!D368","v":3.3096146352787885}]
[{"$f":"'LV 3'!A369","v":359},{"$f":"'LV 3'!C369","v":11.094689429022816},null,null,{"$f":"'LV 3'!D369","v":3.2998095219432955}]
[{"$f":"'LV 3'!A370","v":360},{"$f":"'LV 3'!C370","v":11.103894734425465},null,null,{"$f":"'LV 3'!D370","v":3.2900778569166076}]
[{"$f":"'LV 3'!A371","v":361},{"$f":"'LV 3'!C371","v":11.115433880307423},null,null,{"$f":"'LV 3'!D371","v":3.2804320607311381}]
[{"$f":"'LV 3'!A372","v":362},{"$f":"'LV 3'!C372","v":11.129292012439551},null,null,{"$f":"'LV 3'!D372","v":3.2708843304563748}]
[{"$f":"'LV 3'!A373","v":363},{"$f":"'LV 3'!C373","v":11.145452718106297},null,null,{"$f":"'LV 3'!D373","v":3.2614466358233809}]
[{"$f":"'LV 3'!A374","v":364},{"$f":"'LV 3'!C374","v":11.16389802019866},null,null,{"$f":"'LV 3'!D374","v":3.2521307158904462}]
[{"$f":"'LV 3'!A375","v":365},{"$f":"'LV 3'!C375","v":11.184608365321907},null,null,{"$f":"'LV 3'!D375","v":3.2429480761910368}]
[{"$f":"'LV 3'!A376","v":366},{"$f":"'LV 3'!C376","v":11.207562606114461},null,null,{"$f":"'LV 3'!D376","v":3.2339099863060072}]
[{"$f":"'LV 3'!A377","v":367},{"$f":"'LV 3'!C377","v":11.232737977993391},null,null,{"$f":"'LV 3'!D377","v":3.2250274778029455}]
[{"$f":"'LV 3'!A378","v":368},{"$f":"'LV 3'!C378","v":11.260110070560769},null,null,{"$f":"'LV 3'!D378","v":3.2163113424865486}]
[{"$f":"'LV 3'!A379","v":369},{"$f":"'LV 3'!C379","v":11.28965279392404},null,null,{"$f":"'LV 3'!D379","v":3.2077721309050125}]
[{"$f":"'LV 3'!A380","v":370},{"$f":"'LV 3'!C380","v":11.321338340202651},null,null,{"$f":"'LV 3'!D380","v":3.1994201510585949}]
[{"$f":"'LV 3'!A381","v":371},{"$f":"'LV 3'!C381","v":11.355137140512607},null,null,{"$f":"'LV 3'!D381","v":3.1912654672577143}]
[{"$f":"'LV 3'!A382","v":372},{"$f":"'LV 3'!C382","v":11.391017817740615},null,null,{"$f":"'LV 3'!D382","v":3.1833178990792121}]
[{"$f":"'LV 3'!A383","v":373},{"$f":"'LV 3'!C383","v":11.428947135440081},null,null,{"$f":"'LV 3'!D383","v":3.1755870203707026}]
[{"$f":"'LV 3'!A384","v":374},{"$f":"'LV 3'!C384","v":11.468889943202548},null,null,{"$f":"'LV 3'!D384","v":3.1680821582542604}]
[{"$f":"'LV 3'!A385","v":375},{"$f":"'LV 3'!C385","v":11.510809118880356},null,null,{"$f":"'LV 3'!D385","v":3.1608123920820517}]
[{"$f":"'LV 3'!A386","v":376},{"$f":"'LV 3'!C386","v":11.554665508059353},null,null,{"$f":"'LV 3'!D386","v":3.153786552297897}]
[{"$f":"'LV 3'!A387","v":377},{"$f":"'LV 3'!C387","v":11.600417861204454},null,null,{"$f":"'LV 3'!D387","v":3.1470132191601725}]
[{"$f":"'LV 3'!A388","v":378},{"$f":"'LV 3'!C388","v":11.648022768925815},null,null,{"$f":"'LV 3'!D388","v":3.1405007212828968}]
[{"$f":"'LV 3'!A389","v":379},{"$f":"'LV 3'!C389","v":11.697434595839164},null,null,{"$f":"'LV 3'!D389","v":3.1342571339533389}]
[{"$f":"'LV 3'!A390","v":380},{"$f":"'LV 3'!C390","v":11.748605413520623},null,null,{"$f":"'LV 3'!D390","v":3.1282902771860162}]
[{"$f":"'LV 3'!A391","v":381},{"$f":"'LV 3'!C391","v":11.801484933083852},null,null,{"$f":"'LV 3'!D391","v":3.1226077134745291}]
[{"$f":"'LV 3'!A392","v":382},{"$f":"'LV 3'!C392","v":11.856020437935612},null,null,{"$f":"'LV 3'!D392","v":3.1172167452043449}]
[{"$f":"'LV 3'!A393","v":383},{"$f":"'LV 3'!C393","v":11.912156717294643},null,null,{"$f":"'LV 3'!D393","v":3.1121244116913624}]
[{"$f":"'LV 3'!A394","v":384},{"$f":"'LV 3'!C394","v":11.969836001087987},null,null,{"$f":"'LV 3'!D394","v":3.1073374858129235}]
[{"$f":"'LV 3'!A395","v":385},{"$f":"'LV 3'!C395","v":12.028997896868269},null,null,{"$f":"'LV 3'!D395","v":3.1028624701998657}]
[{"$f":"'LV 3'!A396","v":386},{"$f":"'LV 3'!C396","v":12.089579329424797},null,null,{"$f":"'LV 3'!D396","v":3.0987055929602714}]
[{"$f":"'LV 3'!A397","v":387},{"$f":"'LV 3'!C397","v":12.15151448379039},null,null,{"$f":"'LV 3'!D397","v":3.0948728029077732}]
[{"$f":"'LV 3'!A398","v":388},{"$f":"'LV 3'!C398","v":12.214734752374124},null,null,{"$f":"'LV 3'!D398","v":3.0913697642696434}]
[{"$f":"'LV 3'!A399","v":389},{"$f":"'LV 3'!C399","v":12.279168686977572},null,null,{"$f":"'LV 3'!D399","v":3.0882018508524371}]
[{"$f":"'LV 3'!A400","v":390},{"$f":"'LV 3'!C400","v":12.344741956477929},null,null,{"$f":"'LV 3'!D400","v":3.0853741396457264}]
[{"$f":"'LV 3'!A401","v":391},{"$f":"'LV 3'!C401","v":12.41137731098547},null,null,{"$f":"'LV 3'!D401","v":3.0828914038474231}]
[{"$f":"'LV 3'!A402","v":392},{"$f":"'LV 3'!C402","v":12.478994553304361},null,null,{"$f":"'LV 3'!D402","v":3.0807581052974267}]
[{"$f":"'LV 3'!A403","v":393},{"$f":"'LV 3'!C403","v":12.547510518544605},null,null,{"$f":"'LV 3'!D403","v":3.0789783863098141}]
[{"$f":"'LV 3'!A404","v":394},{"$f":"'LV 3'!C404","v":12.616839062748138},null,null,{"$f":"'LV 3'!D404","v":3.0775560608975678}]
[{"$f":"'LV 3'!A405","v":395},{"$f":"'LV 3'!C405","v":12.686891061403292},null,null,{"$f":"'LV 3'!D405","v":3.0764946053879179}]
[{"$f":"'LV 3'!A406","v":396},{"$f":"'LV 3'!C406","v":12.757574418728355},null,null,{"$f":"'LV 3'!D406","v":3.0757971484307864}]
[{"$f":"'LV 3'!A407","v":397},{"$f":"'LV 3'!C407","v":12.828794088606065},null,null,{"$f":"'LV 3'!D407","v":3.0754664604075566}]
[{"$f":"'LV 3'!A408","v":398},{"$f":"'LV 3'!C408","v":12.900452108046027},null,null,{"$f":"'LV 3'!D408","v":3.0755049422524929}]
[{"$f":"'LV 3'!A409","v":399},{"$f":"'LV 3'!C409","v":12.97244764404042},null,null,{"$f":"'LV 3'!D409","v":3.0759146137046001}]
[{"$f":"'LV 3'!A410","v":400},{"$f":"'LV 3'!C410","v":13.044677054659317},null,null,{"$f":"'LV 3'!D410","v":3.0766971010135311}]
[{"$f":"'LV 3'!A411","v":401},{"$f":"'LV 3'!C411","v":13.117033965204858},null,null,{"$f":"'LV 3'!D411","v":3.0778536241293644}]
[{"$f":"'LV 3'!A412","v":402},{"$f":"'LV 3'!C412","v":13.189409360207533},null,null,{"$f":"'LV 3'!D412","v":3.0793849834126337}]
[{"$f":"'LV 3'!A413","v":403},{"$f":"'LV 3'!C413","v":13.261691692002561},null,null,{"$f":"'LV 3'!D413","v":3.0812915459079289}]
[{"$f":"'LV 3'!A414","v":404},{"$f":"'LV 3'!C414","v":13.333767006568888},null,null,{"$f":"'LV 3'!D414","v":3.0835732312316635}]
[{"$f":"'LV 3'!A415","v":405},{"$f":"'LV 3'!C415","v":13.405519087247407},null,null,{"$f":"'LV 3'!D415","v":3.0862294971321984}]
[{"$f":"'LV 3'!A416","v":406},{"$f":"'LV 3'!C416","v":13.476829616877959},null,null,{"$f":"'LV 3'!D416","v":3.0892593247884101}]
[{"$f":"'LV 3'!A417","v":407},{"$f":"'LV 3'!C417","v":13.547578358806142},null,null,{"$f":"'LV 3'!D417","v":3.0926612039209367}]
[{"$f":"'LV 3'!A418","v":408},{"$f":"'LV 3'!C418","v":13.617643357110802},null,null,{"$f":"'LV 3'!D418","v":3.0964331177986835}]
[{"$f":"'LV 3'!A419","v":409},{"$f":"'LV 3'!C419","v":13.686901156290935},null,null,{"$f":"'LV 3'!D419","v":3.1005725282316763}]
[{"$f":"'LV 3'!A420","v":410},{"$f":"'LV 3'!C420","v":13.755227040526719},null,null,{"$f":"'LV 3'!D420","v":3.1050763606499245}]
[{"$f":"'LV 3'!A421","v":411},{"$f":"'LV 3'!C421","v":13.822495292493764},null,null,{"$f":"'LV 3'!D421","v":3.1099409893765348}]
[{"$f":"'LV 3'!A422","v":412},{"$f":"'LV 3'!C422","v":13.888579471562418},null,null,{"$f":"'LV 3'!D422","v":3.1151622232118097}]
[{"$f":"'LV 3'!A423","v":413},{"$f":"'LV 3'!C423","v":13.953352711056128},null,null,{"$f":"'LV 3'!D423","v":3.1207352914533546}]
[{"$f":"'LV 3'!A424","v":414},{"$f":"'LV 3'!C424","v":14.016688034074704},null,null,{"$f":"'LV 3'!D424","v":3.1266548304852151}]
[{"$f":"'LV 3'!A425","v":415},{"$f":"'LV 3'!C425","v":14.078458687211151},null,null,{"$f":"'LV 3'!D425","v":3.1329148710766295}]
[{"$f":"'LV 3'!A426","v":416},{"$f":"'LV 3'!C426","v":14.138538491305697},null,null,{"$f":"'LV 3'!D426","v":3.1395088265379898}]
[{"$f":"'LV 3'!A427","v":417},{"$f":"'LV 3'!C427","v":14.196802208189025},null,null,{"$f":"'LV 3'!D427","v":3.1464294818879179}]
[{"$f":"'LV 3'!A428","v":418},{"$f":"'LV 3'!C428","v":14.253125922170534},null,null,{"$f":"'LV 3'!D428","v":3.1536689841908223}]
[{"$f":"'LV 3'!A429","v":419},{"$f":"'LV 3'!C429","v":14.307387434828371},null,null,{"$f":"'LV 3'!D429","v":3.161218834228769}]
[{"$f":"'LV 3'!A430","v":420},{"$f":"'LV 3'!C430","v":14.359466671458364},null,null,{"$f":"'LV 3'!D430","v":3.1690698796748045}]
[{"$f":"'LV 3'!A431","v":421},{"$f":"'LV 3'!C431","v":14.4092460973412},null,null,{"$f":"'LV 3'!D431","v":3.1772123099368677}]
[{"$f":"'LV 3'!A432","v":422},{"$f":"'LV 3'!C432","v":14.456611141793841},null,null,{"$f":"'LV 3'!D432","v":3.1856356528419467}]
[{"$f":"'LV 3'!A433","v":423},{"$f":"'LV 3'!C433","v":14.501450627785058},null,null,{"$f":"'LV 3'!D433","v":3.1943287733290462}]
[{"$f":"'LV 3'!A434","v":424},{"$f":"'LV 3'!C434","v":14.543657204719025},null,null,{"$f":"'LV 3'!D434","v":3.2032798743166642}]
[{"$f":"'LV 3'!A435","v":425},{"$f":"'LV 3'!C435","v":14.583127781828203},null,null,{"$f":"'LV 3'!D435","v":3.2124764999057285}]
[{"$f":"'LV 3'!A436","v":426},{"$f":"'LV 3'!C436","v":14.619763959470264},null,null,{"$f":"'LV 3'!D436","v":3.2219055410721746}]
[{"$f":"'LV 3'!A437","v":427},{"$f":"'LV 3'!C437","v":14.653472455496811},null,null,{"$f":"'LV 3'!D437","v":3.2315532439944752}]
[{"$f":"'LV 3'!A438","v":428},{"$f":"'LV 3'!C438","v":14.684165523756937},null,null,{"$f":"'LV 3'!D438","v":3.2414052211503868}]
[{"$f":"'LV 3'!A439","v":429},{"$f":"'LV 3'!C439","v":14.711761361719404},null,null,{"$f":"'LV 3'!D439","v":3.2514464653038977}]
[{"$f":"'LV 3'!A440","v":430},{"$f":"'LV 3'!C440","v":14.736184504145871},null,null,{"$f":"'LV 3'!D440","v":3.2616613664878646}]
[{"$f":"'LV 3'!A441","v":431},{"$f":"'LV 3'!C441","v":14.757366199726842},null,null,{"$f":"'LV 3'!D441","v":3.2720337320700921}]
[{"$f":"'LV 3'!A442","v":432},{"$f":"'LV 3'!C442","v":14.775244767603779},null,null,{"$f":"'LV 3'!D442","v":3.2825468099707296}]
[{"$f":"'LV 3'!A443","v":433},{"$f":"'LV 3'!C443","v":14.789765930747029},null,null,{"$f":"'LV 3'!D443","v":3.2931833150769299}]
[{"$f":"'LV 3'!A444","v":434},{"$f":"'LV 3'!C444","v":14.800883123240981},null,null,{"$f":"'LV 3'!D444","v":3.3039254588768396}]
[{"$f":"'LV 3'!A445","v":435},{"$f":"'LV 3'!C445","v":14.808557768646056},null,null,{"$f":"'LV 3'!D445","v":3.3147549823094162}]
[{"$f":"'LV 3'!A446","v":436},{"$f":"'LV 3'!C446","v":14.812759526761914},null,null,{"$f":"'LV 3'!D446","v":3.3256531917994465}]
[{"$f":"'LV 3'!A447","v":437},{"$f":"'LV 3'!C447","v":14.813466506307163},null,null,{"$f":"'LV 3'!D447","v":3.336600998418803}]
[{"$f":"'LV 3'!A448","v":438},{"$f":"'LV 3'!C448","v":14.810665441256909},null,null,{"$f":"'LV 3'!D448","v":3.3475789600856753}]
[{"$f":"'LV 3'!A449","v":439},{"$f":"'LV 3'!C449","v":14.804351828838902},null,null,{"$f":"'LV 3'!D449","v":3.3585673266836364}]
[{"$f":"'LV 3'!A450","v":440},{"$f":"'LV 3'!C450","v":14.794530027479601},null,null,{"$f":"'LV 3'!D450","v":3.3695460879522807}]
[{"$f":"'LV 3'!A451","v":441},{"$f":"'LV 3'!C451","v":14.781213313309951},null,null,{"$f":"'LV 3'!D451","v":3.3804950239712341}]
[{"$f":"'LV 3'!A452","v":442},{"$f":"'LV 3'!C452","v":14.764423894183793},null,null,{"$f":"'LV 3'!D452","v":3.3913937580299915}]
[{"$f":"'LV 3'!A453","v":443},{"$f":"'LV 3'!C453","v":14.744192880525151},null,null,{"$f":"'LV 3'!D453","v":3.4022218116477063}]
[{"$f":"'LV 3'!A454","v":444},{"$f":"'LV 3'!C454","v":14.720560212699706},null,null,{"$f":"'LV 3'!D454","v":3.4129586614801899}]
[{"$f":"'LV 3'!A455","v":445},{"$f":"'LV 3'!C455","v":14.693574544995421},null,null,{"$f":"'LV 3'!D455","v":3.4235837978264052}]
[{"$f":"'LV 3'!A456","v":446},{"$f":"'LV 3'!C456","v":14.663293086692274},null,null,{"$f":"'LV 3'!D456","v":3.4340767844240605}]
[{"$f":"'LV 3'!A457","v":447},{"$f":"'LV 3'!C457","v":14.629781401095606},null,null,{"$f":"'LV 3'!D457","v":3.4444173192039358}]
[{"$f":"'LV 3'!A458","v":448},{"$f":"'LV 3'!C458","v":14.593113163796192},null,null,{"$f":"'LV 3'!D458","v":3.4545852956556753}]
[{"$f":"'LV 3'!A459","v":449},{"$f":"'LV 3'!C459","v":14.553369881797005},null,null,{"$f":"'LV 3'!D459","v":3.4645608644442443}]
[{"$f":"'LV 3'!A460","v":450},{"$f":"'LV 3'!C460","v":14.510640575506208},null,null,{"$f":"'LV 3'!D460","v":3.4743244949063987}]
[{"$f":"'LV 3'!A461","v":451},{"$f":"'LV 3'!C461","v":14.465021425932939},null,null,{"$f":"'LV 3'!D461","v":3.4838570360505257}]
[{"$f":"'LV 3'!A462","v":452},{"$f":"'LV 3'!C462","v":14.416615389731923},null,null,{"$f":"'LV 3'!D462","v":3.4931397766812782}]
[{"$f":"'LV 3'!A463","v":453},{"$f":"'LV 3'!C463","v":14.365531785020496},null,null,{"$f":"'LV 3'!D463","v":3.502154504272609}]
[{"$f":"'LV 3'!A464","v":454},{"$f":"'LV 3'!C464","v":14.311885851133177},null,null,{"$f":"'LV 3'!D464","v":3.510883562219155}]
[{"$f":"'LV 3'!A465","v":455},{"$f":"'LV 3'!C465","v":14.255798285681449},null,null,{"$f":"'LV 3'!D465","v":3.5193099051063723}]
[{"$f":"'LV 3'!A466","v":456},{"$f":"'LV 3'!C466","v":14.197394762447157},null,null,{"$f":"'LV 3'!D466","v":3.5274171516542689}]
[{"$f":"'LV 3'!A467","v":457},{"$f":"'LV 3'!C467","v":14.136805433755216},null,null,{"$f":"'LV 3'!D467","v":3.5351896350078253}]
[{"$f":"'LV 3'!A468","v":458},{"$f":"'LV 3'!C468","v":14.074164421044152},null,null,{"$f":"'LV 3'!D468","v":3.5426124500690075}]
[{"$f":"'LV 3'!A469","v":459},{"$f":"'LV 3'!C469","v":14.009609297381148},null,null,{"$f":"'LV 3'!D469","v":3.549671497590337}]
[{"$f":"'LV 3'!A470","v":460},{"$f":"'LV 3'!C470","v":13.943280565652264},null,null,{"$f":"'LV 3'!D470","v":3.5563535247779301}]
[{"$f":"'LV 3'!A471","v":461},{"$f":"'LV 3'!C471","v":13.875321136099815},null,null,{"$f":"'LV 3'!D471","v":3.5626461621823524}]
[{"$f":"'LV 3'!A472","v":462},{"$f":"'LV 3'!C472","v":13.805875806779429},null,null,{"$f":"'LV 3'!D472","v":3.5685379566881168}]
[{"$f":"'LV 3'!A473","v":463},{"$f":"'LV 3'!C473","v":13.735090750371825},null,null,{"$f":"'LV 3'!D473","v":3.574018400446703}]
[{"$f":"'LV 3'!A474","v":464},{"$f":"'LV 3'!C474","v":13.663113010612058},null,null,{"$f":"'LV 3'!D474","v":3.5790779556331178}]
[{"$f":"'LV 3'!A475","v":465},{"$f":"'LV 3'!C475","v":13.590090011395651},null,null,{"$f":"'LV 3'!D475","v":3.5837080749417534}]
[{"$f":"'LV 3'!A476","v":466},{"$f":"'LV 3'!C476","v":13.516169081390677},null,null,{"$f":"'LV 3'!D476","v":3.5879012177731493}]
[{"$f":"'LV 3'!A477","v":467},{"$f":"'LV 3'!C477","v":13.441496996731964},null,null,{"$f":"'LV 3'!D477","v":3.5916508620987342}]
[{"$f":"'LV 3'!A478","v":468},{"$f":"'LV 3'!C478","v":13.366219544102616},null,null,{"$f":"'LV 3'!D478","v":3.5949515120252871}]
[{"$f":"'LV 3'!A479","v":469},{"$f":"'LV 3'!C479","v":13.290481106223714},null,null,{"$f":"'LV 3'!D479","v":3.5977987011142458}]
[{"$f":"'LV 3'!A480","v":470},{"$f":"'LV 3'!C480","v":13.21442427147986},null,null,{"$f":"'LV 3'!D480","v":3.6001889915427654}]
[{"$f":"'LV 3'!A481","v":471},{"$f":"'LV 3'!C481","v":13.138189469110808},null,null,{"$f":"'LV 3'!D481","v":3.6021199692231995}]
[{"$f":"'LV 3'!A482","v":472},{"$f":"'LV 3'!C482","v":13.061914631101942},null,null,{"$f":"'LV 3'!D482","v":3.6035902350251683}]
[{"$f":"'LV 3'!A483","v":473},{"$f":"'LV 3'!C483","v":12.985734881612926},null,null,{"$f":"'LV 3'!D483","v":3.6045993922693316}]
[{"$f":"'LV 3'!A484","v":474},{"$f":"'LV 3'!C484","v":12.909782254498152},null,null,{"$f":"'LV 3'!D484","v":3.6051480306842061}]
[{"$f":"'LV 3'!A485","v":475},{"$f":"'LV 3'!C485","v":12.834185439197972},null,null,{"$f":"'LV 3'!D485","v":3.6052377070366997}]
[{"$f":"'LV 3'!A486","v":476},{"$f":"'LV 3'!C486","v":12.759069555019},null,null,{"$f":"'LV 3'!D486","v":3.6048709226634132}]
[{"$f":"'LV 3'!A487","v":477},{"$f":"'LV 3'!C487","v":12.684555953577526},null,null,{"$f":"'LV 3'!D487","v":3.6040510981431031}]
[{"$f":"'LV 3'!A488","v":478},{"$f":"'LV 3'!C488","v":12.6107620489543},null,null,{"$f":"'LV 3'!D488","v":3.6027825453610536}]
[{"$f":"'LV 3'!A489","v":479},{"$f":"'LV 3'!C489","v":12.537801174903143},null,null,{"$f":"'LV 3'!D489","v":3.6010704372234885}]
[{"$f":"'LV 3'!A490","v":480},{"$f":"'LV 3'!C490","v":12.465782468271238},null,null,{"$f":"'LV 3'!D490","v":3.5989207752846784}]
[{"$f":"'LV 3'!A491","v":481},{"$f":"'LV 3'!C491","v":12.394810777626157},null,null,{"$f":"'LV 3'!D491","v":3.5963403555511748}]
[{"$f":"'LV 3'!A492","v":482},{"$f":"'LV 3'!C492","v":12.324986595944015},null,null,{"$f":"'LV 3'!D492","v":3.593336732726812}]
[{"$f":"'LV 3'!A493","v":483},{"$f":"'LV 3'!C493","v":12.25640601609463},null,null,{"$f":"'LV 3'!D493","v":3.5899181831589058}]
[{"$f":"'LV 3'!A494","v":484},{"$f":"'LV 3'!C494","v":12.189160707762612},null,null,{"$f":"'LV 3'!D494","v":3.5860936667406942}]
[{"$f":"'LV 3'!A495","v":485},{"$f":"'LV 3'!C495","v":12.123337914367447},null,null,{"$f":"'LV 3'!D495","v":3.5818727880176824}]
[{"$f":"'LV 3'!A496","v":486},{"$f":"'LV 3'!C496","v":12.059020468489775},null,null,{"$f":"'LV 3'!D496","v":3.577265756736439}]
[{"$f":"'LV 3'!A497","v":487},{"$f":"'LV 3'!C497","v":11.996286824274089},null,null,{"$f":"'LV 3'!D497","v":3.572283348063749}]
[{"$f":"'LV 3'!A498","v":488},{"$f":"'LV 3'!C498","v":11.935211105258741},null,null,{"$f":"'LV 3'!D498","v":3.5669368626921152}]
[{"$f":"'LV 3'!A499","v":489},{"$f":"'LV 3'!C499","v":11.875863166080933},null,null,{"$f":"'LV 3'!D499","v":3.5612380870346212}]
[{"$f":"'LV 3'!A500","v":490},{"$f":"'LV 3'!C500","v":11.818308666515762},null,null,{"$f":"'LV 3'!D500","v":3.5551992536983881}]
[{"$f":"'LV 3'!A501","v":491},{"$f":"'LV 3'!C501","v":11.762609156332926},null,null,{"$f":"'LV 3'!D501","v":3.5488330024114414}]
[{"$f":"'LV 3'!A502","v":492},{"$f":"'LV 3'!C502","v":11.708822169490642},null,null,{"$f":"'LV 3'!D502","v":3.5421523415630061}]
[{"$f":"'LV 3'!A503","v":493},{"$f":"'LV 3'!C503","v":11.657001326232187},null,null,{"$f":"'LV 3'!D503","v":3.5351706105022047}]
[{"$f":"'LV 3'!A504","v":494},{"$f":"'LV 3'!C504","v":11.60719644170476},null,null,{"$f":"'LV 3'!D504","v":3.5279014427250757}]
[{"$f":"'LV 3'!A505","v":495},{"$f":"'LV 3'!C505","v":11.559453639781406},null,null,{"$f":"'LV 3'!D505","v":3.5203587300648604}]
[{"$f":"'LV 3'!A506","v":496},{"$f":"'LV 3'!C506","v":11.513815470833435},null,null,{"$f":"'LV 3'!D506","v":3.5125565879858027}]
[{"$f":"'LV 3'!A507","v":497},{"$f":"'LV 3'!C507","v":11.470321032271467},null,null,{"$f":"'LV 3'!D507","v":3.504509322066371}]
[{"$f":"'LV 3'!A508","v":498},{"$f":"'LV 3'!C508","v":11.429006090746993},null,null,{"$f":"'LV 3'!D508","v":3.4962313957439655}]
[{"$f":"'LV 3'!A509","v":499},{"$f":"'LV 3'!C509","v":11.389903204981911},null,null,{"$f":"'LV 3'!D509","v":3.487737399379883}]
[{"$f":"'LV 3'!A510","v":500},{"$f":"'LV 3'!C510","v":11.353041848269891},null,null,{"$f":"'LV 3'!D510","v":3.4790420206906734}]
[{"$f":"'LV 3'!A511","v":501},{"$f":"'LV 3'!C511","v":11.318448529769832},null,null,{"$f":"'LV 3'!D511","v":3.4701600165800701}]
[{"$f":"'LV 4'!A11","v":1},{"$f":"'LV 4'!C11","v":12.86},null,null,null,{"$f":"'LV 4'!D11","v":3.32}]
[{"$f":"'LV 4'!A12","v":2},{"$f":"'LV 4'!C12","v":12.863701042992323},null,null,null,{"$f":"'LV 4'!D12","v":3.3200262604686275}]
[{"$f":"'LV 4'!A13","v":3},{"$f":"'LV 4'!C13","v":12.867392985609587},null,null,null,{"$f":"'LV 4'!D13","v":3.3200731417601848}]
[{"$f":"'LV 4'!A14","v":4},{"$f":"'LV 4'!C14","v":12.871070094929976},null,null,null,{"$f":"'LV 4'!D14","v":3.3201405779936848}]
[{"$f":"'LV 4'!A15","v":5},{"$f":"'LV 4'!C15","v":12.87472665424184},null,null,null,{"$f":"'LV 4'!D15","v":3.320228471728262}]
[{"$f":"'LV 4'!A16","v":6},{"$f":"'LV 4'!C16","v":12.87835697192002},null,null,null,{"$f":"'LV 4'!D16","v":3.3203366940690513}]
[{"$f":"'LV 4'!A17","v":7},{"$f":"'LV 4'!C17","v":12.881955390305675},null,null,null,{"$f":"'LV 4'!D17","v":3.3204650848197268}]
[{"$f":"'LV 4'!A18","v":8},{"$f":"'LV 4'!C18","v":12.885516294575735},null,null,null,{"$f":"'LV 4'!D18","v":3.3206134526817541}]
[{"$f":"'LV 4'!A19","v":9},{"$f":"'LV 4'!C19","v":12.889034121587807},null,null,null,{"$f":"'LV 4'!D19","v":3.320781575500348}]
[{"$f":"'LV 4'!A20","v":10},{"$f":"'LV 4'!C20","v":12.892503368686162},null,null,null,{"$f":"'LV 4'!D20","v":3.3209692005570721}]
[{"$f":"'LV 4'!A21","v":11},{"$f":"'LV 4'!C21","v":12.895918602454245},null,null,null,{"$f":"'LV 4'!D21","v":3.3211760449089449}]
[{"$f":"'LV 4'!A22","v":12},{"$f":"'LV 4'!C22","v":12.899274467398943},null,null,null,{"$f":"'LV 4'!D22","v":3.3214017957738582}]
[{"$f":"'LV 4'!A23","v":13},{"$f":"'LV 4'!C23","v":12.902565694551734},null,null,null,{"$f":"'LV 4'!D23","v":3.3216461109620425}]
[{"$f":"'LV 4'!A24","v":14},{"$f":"'LV 4'!C24","v":12.905787109971717},null,null,null,{"$f":"'LV 4'!D24","v":3.3219086193532514}]
[{"$f":"'LV 4'!A25","v":15},{"$f":"'LV 4'!C25","v":12.908933643135445},null,null,null,{"$f":"'LV 4'!D25","v":3.3221889214192561}]
[{"$f":"'LV 4'!A26","v":16},{"$f":"'LV 4'!C26","v":12.912000335198432},null,null,null,{"$f":"'LV 4'!D26","v":3.3224865897911839}]
[{"$f":"'LV 4'!A27","v":17},{"$f":"'LV 4'!C27","v":12.914982347113211},null,null,null,{"$f":"'LV 4'!D27","v":3.3228011698711479}]
[{"$f":"'LV 4'!A28","v":18},{"$f":"'LV 4'!C28","v":12.917874967588823},null,null,null,{"$f":"'LV 4'!D28","v":3.3231321804875509}]
[{"$f":"'LV 4'!A29","v":19},{"$f":"'LV 4'!C29","v":12.920673620876704},null,null,null,{"$f":"'LV 4'!D29","v":3.3234791145933635}]
[{"$f":"'LV 4'!A30","v":20},{"$f":"'LV 4'!C30","v":12.923373874368036},null,null,null,{"$f":"'LV 4'!D30","v":3.323841440006611}]
[{"$f":"'LV 4'!A31","v":21},{"$f":"'LV 4'!C31","v":12.925971445987756},null,null,null,{"$f":"'LV 4'!D31","v":3.3242186001922089}]
[{"$f":"'LV 4'!A32","v":22},{"$f":"'LV 4'!C32","v":12.92846221137064},null,null,null,{"$f":"'LV 4'!D32","v":3.3246100150842315}]
[{"$f":"'LV 4'!A33","v":23},{"$f":"'LV 4'!C33","v":12.930842210805059},null,null,null,{"$f":"'LV 4'!D33","v":3.3250150819475999}]
[{"$f":"'LV 4'!A34","v":24},{"$f":"'LV 4'!C34","v":12.933107655930321},null,null,null,{"$f":"'LV 4'!D34","v":3.3254331762781097}]
[{"$f":"'LV 4'!A35","v":25},{"$f":"'LV 4'!C35","v":12.935254936173793},null,null,null,{"$f":"'LV 4'!D35","v":3.3258636527396384}]
[{"$f":"'LV 4'!A36","v":26},{"$f":"'LV 4'!C36","v":12.937280624914374},null,null,null,{"$f":"'LV 4'!D36","v":3.3263058461372865}]
[{"$f":"'LV 4'!A37","v":27},{"$f":"'LV 4'!C37","v":12.939181485359271},null,null,null,{"$f":"'LV 4'!D37","v":3.3267590724251441}]
[{"$f":"'LV 4'!A38","v":28},{"$f":"'LV 4'!C38","v":12.940954476121485},null,null,null,{"$f":"'LV 4'!D38","v":3.3272226297472809}]
[{"$f":"'LV 4'!A39","v":29},{"$f":"'LV 4'!C39","v":12.942596756485898},null,null,null,{"$f":"'LV 4'!D39","v":3.3276957995104941}]
[{"$f":"'LV 4'!A40","v":30},{"$f":"'LV 4'!C40","v":12.94410569135235},null,null,null,{"$f":"'LV 4'!D40","v":3.3281778474872694}]
[{"$f":"'LV 4'!A41","v":31},{"$f":"'LV 4'!C41","v":12.945478855844694},null,null,null,{"$f":"'LV 4'!D41","v":3.3286680249473366}]
[{"$f":"'LV 4'!A42","v":32},{"$f":"'LV 4'!C42","v":12.946714039575406},null,null,null,{"$f":"'LV 4'!D42","v":3.3291655698161313}]
[{"$f":"'LV 4'!A43","v":33},{"$f":"'LV 4'!C43","v":12.947809250555947},null,null,null,{"$f":"'LV 4'!D43","v":3.3296697078584057}]
[{"$f":"'LV 4'!A44","v":34},{"$f":"'LV 4'!C44","v":12.948762718743785},null,null,null,{"$f":"'LV 4'!D44","v":3.3301796538851618}]
[{"$f":"'LV 4'!A45","v":35},{"$f":"'LV 4'!C45","v":12.949572899217678},null,null,null,{"$f":"'LV 4'!D45","v":3.3306946129820227}]
[{"$f":"'LV 4'!A46","v":36},{"$f":"'LV 4'!C46","v":12.950238474973547},null,null,null,{"$f":"'LV 4'!D46","v":3.3312137817570844}]
[{"$f":"'LV 4'!A47","v":37},{"$f":"'LV 4'!C47","v":12.950758359334076},null,null,null,{"$f":"'LV 4'!D47","v":3.3317363496062469}]
[{"$f":"'LV 4'!A48","v":38},{"$f":"'LV 4'!C48","v":12.951131697965941},null,null,null,{"$f":"'LV 4'!D48","v":3.3322614999939577}]
[{"$f":"'LV 4'!A49","v":39},{"$f":"'LV 4'!C49","v":12.951357870499425},null,null,null,{"$f":"'LV 4'!D49","v":3.3327884117472562}]
[{"$f":"'LV 4'!A50","v":40},{"$f":"'LV 4'!C50","v":12.951436491746001},null,null,null,{"$f":"'LV 4'!D50","v":3.3333162603609559}]
[{"$f":"'LV 4'!A51","v":41},{"$f":"'LV 4'!C51","v":12.951367412510344},null,null,null,{"$f":"'LV 4'!D51","v":3.3338442193117652}]
[{"$f":"'LV 4'!A52","v":42},{"$f":"'LV 4'!C52","v":12.951150719994114},null,null,null,{"$f":"'LV 4'!D52","v":3.3343714613790998}]
[{"$f":"'LV 4'!A53","v":43},{"$f":"'LV 4'!C53","v":12.950786737789777},null,null,null,{"$f":"'LV 4'!D53","v":3.3348971599703177}]
[{"$f":"'LV 4'!A54","v":44},{"$f":"'LV 4'!C54","v":12.950276025463568},null,null,null,{"$f":"'LV 4'!D54","v":3.3354204904480689}]
[{"$f":"'LV 4'!A55","v":45},{"$f":"'LV 4'!C55","v":12.949619377727718},null,null,null,{"$f":"'LV 4'!D55","v":3.3359406314574356}]
[{"$f":"'LV 4'!A56","v":46},{"$f":"'LV 4'!C56","v":12.9488178232029},null,null,null,{"$f":"'LV 4'!D56","v":3.3364567662505169}]
[{"$f":"'LV 4'!A57","v":47},{"$f":"'LV 4'!C57","v":12.947872622772813},null,null,null,{"$f":"'LV 4'!D57","v":3.3369680840061009}]
[{"$f":"'LV 4'!A58","v":48},{"$f":"'LV 4'!C58","v":12.946785267533745},null,null,null,{"$f":"'LV 4'!D58","v":3.3374737811420561}]
[{"$f":"'LV 4'!A59","v":49},{"$f":"'LV 4'!C59","v":12.94555747634284},null,null,null,{"$f":"'LV 4'!D59","v":3.3379730626180812}]
[{"$f":"'LV 4'!A60","v":50},{"$f":"'LV 4'!C60","v":12.944191192969738},null,null,null,{"$f":"'LV 4'!D60","v":3.3384651432264469}]
[{"$f":"'LV 4'!A61","v":51},{"$f":"'LV 4'!C61","v":12.942688582857105},null,null,null,{"$f":"'LV 4'!D61","v":3.338949248868377}]
[{"$f":"'LV 4'!A62","v":52},{"$f":"'LV 4'!C62","v":12.941052029496483},null,null,null,{"$f":"'LV 4'!D62","v":3.3394246178137368}]
[{"$f":"'LV 4'!A63","v":53},{"$f":"'LV 4'!C63","v":12.939284130426717},null,null,null,{"$f":"'LV 4'!D63","v":3.3398905019417122}]
[{"$f":"'LV 4'!A64","v":54},{"$f":"'LV 4'!C64","v":12.937387692863087},null,null,null,{"$f":"'LV 4'!D64","v":3.3403461679601918}]
[{"$f":"'LV 4'!A65","v":55},{"$f":"'LV 4'!C65","v":12.935365728966028},null,null,null,{"$f":"'LV 4'!D65","v":3.3407908986016008}]
[{"$f":"'LV 4'!A66","v":56},{"$f":"'LV 4'!C66","v":12.93322145075917},null,null,null,{"$f":"'LV 4'!D66","v":3.3412239937929762}]
[{"$f":"'LV 4'!A67","v":57},{"$f":"'LV 4'!C67","v":12.930958264707117},null,null,null,{"$f":"'LV 4'!D67","v":3.3416447717981108}]
[{"$f":"'LV 4'!A68","v":58},{"$f":"'LV 4'!C68","v":12.928579765964148},null,null,null,{"$f":"'LV 4'!D68","v":3.3420525703296531}]
[{"$f":"'LV 4'!A69","v":59},{"$f":"'LV 4'!C69","v":12.926089732305687},null,null,null,{"$f":"'LV 4'!D69","v":3.3424467476290998}]
[{"$f":"'LV 4'!A70","v":60},{"$f":"'LV 4'!C70","v":12.923492117755037},null,null,null,{"$f":"'LV 4'!D70","v":3.3428266835126865}]
[{"$f":"'LV 4'!A71","v":61},{"$f":"'LV 4'!C71","v":12.920791045918467},null,null,null,{"$f":"'LV 4'!D71","v":3.3431917803812401}]
[{"$f":"'LV 4'!A72","v":62},{"$f":"'LV 4'!C72","v":12.917990803042334},null,null,null,{"$f":"'LV 4'!D72","v":3.3435414641921382}]
[{"$f":"'LV 4'!A73","v":63},{"$f":"'LV 4'!C73","v":12.915095830806415},null,null,null,{"$f":"'LV 4'!D73","v":3.3438751853915898}]
[{"$f":"'LV 4'!A74","v":64},{"$f":"'LV 4'!C74","v":12.912110718868103},null,null,null,{"$f":"'LV 4'!D74","v":3.3441924198055384}]
[{"$f":"'LV 4'!A75","v":65},{"$f":"'LV 4'!C75","v":12.909040197172583},null,null,null,{"$f":"'LV 4'!D75","v":3.3444926694875701}]
[{"$f":"'LV 4'!A76","v":66},{"$f":"'LV 4'!C76","v":12.905889128044437},null,null,null,{"$f":"'LV 4'!D76","v":3.3447754635223022}]
[{"$f":"'LV 4'!A77","v":67},{"$f":"'LV 4'!C77","v":12.902662498076507},null,null,null,{"$f":"'LV 4'!D77","v":3.3450403587828181}]
[{"$f":"'LV 4'!A78","v":68},{"$f":"'LV 4'!C78","v":12.89936540983213},null,null,null,{"$f":"'LV 4'!D78","v":3.3452869406408157}]
[{"$f":"'LV 4'!A79","v":69},{"$f":"'LV 4'!C79","v":12.89600307337707},null,null,null,{"$f":"'LV 4'!D79","v":3.3455148236282302}]
[{"$f":"'LV 4'!A80","v":70},{"$f":"'LV 4'!C80","v":12.892580797657702},null,null,null,{"$f":"'LV 4'!D80","v":3.3457236520491991}]
[{"$f":"'LV 4'!A81","v":71},{"$f":"'LV 4'!C81","v":12.889103981742139},null,null,null,{"$f":"'LV 4'!D81","v":3.3459131005413409}]
[{"$f":"'LV 4'!A82","v":72},{"$f":"'LV 4'!C82","v":12.885578105941077},null,null,null,{"$f":"'LV 4'!D82","v":3.3460828745854281}]
[{"$f":"'LV 4'!A83","v":73},{"$f":"'LV 4'!C83","v":12.882008722825217},null,null,null,{"$f":"'LV 4'!D83","v":3.3462327109626369}]
[{"$f":"'LV 4'!A84","v":74},{"$f":"'LV 4'!C84","v":12.878401448156097},null,null,null,{"$f":"'LV 4'!D84","v":3.3463623781586778}]
[{"$f":"'LV 4'!A85","v":75},{"$f":"'LV 4'!C85","v":12.874761951747161},null,null,null,{"$f":"'LV 4'!D85","v":3.3464716767142084}]
[{"$f":"'LV 4'!A86","v":76},{"$f":"'LV 4'!C86","v":12.87109594827179},null,null,null,{"$f":"'LV 4'!D86","v":3.3465604395210553}]
[{"$f":"'LV 4'!A87","v":77},{"$f":"'LV 4'!C87","v":12.867409188034925},null,null,null,{"$f":"'LV 4'!D87","v":3.3466285320638733}]
[{"$f":"'LV 4'!A88","v":78},{"$f":"'LV 4'!C88","v":12.86370744772471},null,null,null,{"$f":"'LV 4'!D88","v":3.3466758526069857}]
[{"$f":"'LV 4'!A89","v":79},{"$f":"'LV 4'!C89","v":12.859996521160431},null,null,null,{"$f":"'LV 4'!D89","v":3.3467023323262635}]
[{"$f":"'LV 4'!A90","v":80},{"$f":"'LV 4'!C90","v":12.856282210052759},null,null,null,{"$f":"'LV 4'!D90","v":3.3467079353860081}]
[{"$f":"'LV 4'!A91","v":81},{"$f":"'LV 4'!C91","v":12.85257031479205},null,null,null,{"$f":"'LV 4'!D91","v":3.3466926589609138}]
[{"$f":"'LV 4'!A92","v":82},{"$f":"'LV 4'!C92","v":12.848866625280136},null,null,null,{"$f":"'LV 4'!D92","v":3.3466565332032925}]
[{"$f":"'LV 4'!A93","v":83},{"$f":"'LV 4'!C93","v":12.845176911820742},null,null,null,{"$f":"'LV 4'!D93","v":3.3465996211558515}]
[{"$f":"'LV 4'!A94","v":84},{"$f":"'LV 4'!C94","v":12.841506916083256},null,null,null,{"$f":"'LV 4'!D94","v":3.3465220186104192}]
[{"$f":"'LV 4'!A95","v":85},{"$f":"'LV 4'!C95","v":12.837862342154244},null,null,null,{"$f":"'LV 4'!D95","v":3.3464238539131137}]
[{"$f":"'LV 4'!A96","v":86},{"$f":"'LV 4'!C96","v":12.834248847690644},null,null,null,{"$f":"'LV 4'!D96","v":3.3463052877165507}]
[{"$f":"'LV 4'!A97","v":87},{"$f":"'LV 4'!C97","v":12.830672035188188},null,null,null,{"$f":"'LV 4'!D97","v":3.3461665126797815}]
[{"$f":"'LV 4'!A98","v":88},{"$f":"'LV 4'!C98","v":12.82713744337812},null,null,null,{"$f":"'LV 4'!D98","v":3.3460077531167496}]
[{"$f":"'LV 4'!A99","v":89},{"$f":"'LV 4'!C99","v":12.823650538764824},null,null,null,{"$f":"'LV 4'!D99","v":3.345829264594137}]
[{"$f":"'LV 4'!A100","v":90},{"$f":"'LV 4'!C100","v":12.820216707316506},null,null,null,{"$f":"'LV 4'!D100","v":3.3456313334795653}]
[{"$f":"'LV 4'!A101","v":91},{"$f":"'LV 4'!C101","v":12.81684124632058},null,null,null,{"$f":"'LV 4'!D101","v":3.3454142764411974}]
[{"$f":"'LV 4'!A102","v":92},{"$f":"'LV 4'!C102","v":12.813529356414897},null,null,null,{"$f":"'LV 4'!D102","v":3.3451784398998612}]
[{"$f":"'LV 4'!A103","v":93},{"$f":"'LV 4'!C103","v":12.810286133805468},null,null,null,{"$f":"'LV 4'!D103","v":3.3449241994348982}]
[{"$f":"'LV 4'!A104","v":94},{"$f":"'LV 4'!C104","v":12.807116562680825},null,null,null,{"$f":"'LV 4'!D104","v":3.3446519591450041}]
[{"$f":"'LV 4'!A105","v":95},{"$f":"'LV 4'!C105","v":12.804025507832625},null,null,null,{"$f":"'LV 4'!D105","v":3.3443621509654036}]
[{"$f":"'LV 4'!A106","v":96},{"$f":"'LV 4'!C106","v":12.801017707491622},null,null,null,{"$f":"'LV 4'!D106","v":3.3440552339427536}]
[{"$f":"'LV 4'!A107","v":97},{"$f":"'LV 4'!C107","v":12.798097766387599},null,null,null,{"$f":"'LV 4'!D107","v":3.3437316934692416}]
[{"$f":"'LV 4'!A108","v":98},{"$f":"'LV 4'!C108","v":12.795270149041352},null,null,null,{"$f":"'LV 4'!D108","v":3.3433920404773829}]
[{"$f":"'LV 4'!A109","v":99},{"$f":"'LV 4'!C109","v":12.792539173296317},null,null,null,{"$f":"'LV 4'!D109","v":3.3430368105970896}]
[{"$f":"'LV 4'!A110","v":100},{"$f":"'LV 4'!C110","v":12.789909004096916},null,null,null,{"$f":"'LV 4'!D110","v":3.3426665632766119}]
[{"$f":"'LV 4'!A111","v":101},{"$f":"'LV 4'!C111","v":12.787383647520246},null,null,null,{"$f":"'LV 4'!D111","v":3.3422818808690047}]
[{"$f":"'LV 4'!A112","v":102},{"$f":"'LV 4'!C112","v":12.784966945067197},null,null,null,{"$f":"'LV 4'!D112","v":3.3418833676858046}]
[{"$f":"'LV 4'!A113","v":103},{"$f":"'LV 4'!C113","v":12.782662568218694},null,null,null,{"$f":"'LV 4'!D113","v":3.3414716490196406}]
[{"$f":"'LV 4'!A114","v":104},{"$f":"'LV 4'!C114","v":12.780474013262198},null,null,null,{"$f":"'LV 4'!D114","v":3.3410473701375194}]
[{"$f":"'LV 4'!A115","v":105},{"$f":"'LV 4'!C115","v":12.778404596393258},null,null,null,{"$f":"'LV 4'!D115","v":3.3406111952465638}]
[{"$f":"'LV 4'!A116","v":106},{"$f":"'LV 4'!C116","v":12.776457449096396},null,null,null,{"$f":"'LV 4'!D116","v":3.3401638064339956}]
[{"$f":"'LV 4'!A117","v":107},{"$f":"'LV 4'!C117","v":12.774635513809208},null,null,null,{"$f":"'LV 4'!D117","v":3.3397059025831708}]
[{"$f":"'LV 4'!A118","v":108},{"$f":"'LV 4'!C118","v":12.772941539873189},null,null,null,{"$f":"'LV 4'!D118","v":3.3392381982674917}]
[{"$f":"'LV 4'!A119","v":109},{"$f":"'LV 4'!C119","v":12.771378079774331},null,null,null,{"$f":"'LV 4'!D119","v":3.3387614226240303}]
[{"$f":"'LV 4'!A120","v":110},{"$f":"'LV 4'!C120","v":12.769947485676234},null,null,null,{"$f":"'LV 4'!D120","v":3.3382763182086963}]
[{"$f":"'LV 4'!A121","v":111},{"$f":"'LV 4'!C121","v":12.768651906248051},null,null,null,{"$f":"'LV 4'!D121","v":3.3377836398347966}]
[{"$f":"'LV 4'!A122","v":112},{"$f":"'LV 4'!C122","v":12.767493283789273},null,null,null,{"$f":"'LV 4'!D122","v":3.3372841533968227}]
[{"$f":"'LV 4'!A123","v":113},{"$f":"'LV 4'!C123","v":12.766473351653},null,null,null,{"$f":"'LV 4'!D123","v":3.3367786346813064}]
[{"$f":"'LV 4'!A124","v":114},{"$f":"'LV 4'!C124","v":12.76559363196904},null,null,null,{"$f":"'LV 4'!D124","v":3.3362678681665723}]
[{"$f":"'LV 4'!A125","v":115},{"$f":"'LV 4'!C125","v":12.764855433667854},null,null,null,{"$f":"'LV 4'!D125","v":3.3357526458132121}]
[{"$f":"'LV 4'!A126","v":116},{"$f":"'LV 4'!C126","v":12.764259850806084},null,null,null,{"$f":"'LV 4'!D126","v":3.3352337658470916}]
[{"$f":"'LV 4'!A127","v":117},{"$f":"'LV 4'!C127","v":12.763807761194091},null,null,null,{"$f":"'LV 4'!D127","v":3.3347120315366854}]
[{"$f":"'LV 4'!A128","v":118},{"$f":"'LV 4'!C128","v":12.763499825325701},null,null,null,{"$f":"'LV 4'!D128","v":3.3341882499665232}]
[{"$f":"'LV 4'!A129","v":119},{"$f":"'LV 4'!C129","v":12.763336485610042},null,null,null,{"$f":"'LV 4'!D129","v":3.3336632308085128}]
[{"$f":"'LV 4'!A130","v":120},{"$f":"'LV 4'!C130","v":12.763317965905152},null,null,null,{"$f":"'LV 4'!D130","v":3.3331377850928812}]
[{"$f":"'LV 4'!A131","v":121},{"$f":"'LV 4'!C131","v":12.763444271352757},null,null,null,{"$f":"'LV 4'!D131","v":3.3326127239804593}]
[{"$f":"'LV 4'!A132","v":122},{"$f":"'LV 4'!C132","v":12.763715188513418},null,null,null,{"$f":"'LV 4'!D132","v":3.3320888575380105}]
[{"$f":"'LV 4'!A133","v":123},{"$f":"'LV 4'!C133","v":12.764130285800981},null,null,null,{"$f":"'LV 4'!D133","v":3.3315669935182797}]
[{"$f":"'LV 4'!A134","v":124},{"$f":"'LV 4'!C134","v":12.764688914215089},null,null,null,{"$f":"'LV 4'!D134","v":3.3310479361464131}]
[{"$f":"'LV 4'!A135","v":125},{"$f":"'LV 4'!C135","v":12.765390208370238},null,null,null,{"$f":"'LV 4'!D135","v":3.3305324849143769}]
[{"$f":"'LV 4'!A136","v":126},{"$f":"'LV 4'!C136","v":12.766233087819723},null,null,null,{"$f":"'LV 4'!D136","v":3.3300214333849696}]
[{"$f":"'LV 4'!A137","v":127},{"$f":"'LV 4'!C137","v":12.767216258672525},null,null,null,{"$f":"'LV 4'!D137","v":3.3295155680069977}]
[{"$f":"'LV 4'!A138","v":128},{"$f":"'LV 4'!C138","v":12.768338215501068},null,null,null,{"$f":"'LV 4'!D138","v":3.3290156669431612}]
[{"$f":"'LV 4'!A139","v":129},{"$f":"'LV 4'!C139","v":12.769597243537492},null,null,null,{"$f":"'LV 4'!D139","v":3.3285224989121529}]
[{"$f":"'LV 4'!A140","v":130},{"$f":"'LV 4'!C140","v":12.770991421155939},null,null,null,{"$f":"'LV 4'!D140","v":3.3280368220464611}]
[{"$f":"'LV 4'!A141","v":131},{"$f":"'LV 4'!C141","v":12.772518622638104},null,null,null,{"$f":"'LV 4'!D141","v":3.3275593827673222}]
[{"$f":"'LV 4'!A142","v":132},{"$f":"'LV 4'!C142","v":12.774176521219102},null,null,null,{"$f":"'LV 4'!D142","v":3.3270909146782492}]
[{"$f":"'LV 4'!A143","v":133},{"$f":"'LV 4'!C143","v":12.775962592410501},null,null,null,{"$f":"'LV 4'!D143","v":3.3266321374785215}]
[{"$f":"'LV 4'!A144","v":134},{"$f":"'LV 4'!C144","v":12.777874117597122},null,null,null,{"$f":"'LV 4'!D144","v":3.3261837558980027}]
[{"$f":"'LV 4'!A145","v":135},{"$f":"'LV 4'!C145","v":12.779908187904027},null,null,null,{"$f":"'LV 4'!D145","v":3.3257464586546068}]
[{"$f":"'LV 4'!A146","v":136},{"$f":"'LV 4'!C146","v":12.782061708329831},null,null,null,{"$f":"'LV 4'!D146","v":3.3253209174357177}]
[{"$f":"'LV 4'!A147","v":137},{"$f":"'LV 4'!C147","v":12.784331402142278},null,null,null,{"$f":"'LV 4'!D147","v":3.3249077859048222}]
[{"$f":"'LV 4'!A148","v":138},{"$f":"'LV 4'!C148","v":12.78671381553178},null,null,null,{"$f":"'LV 4'!D148","v":3.3245076987345947}]
[{"$f":"'LV 4'!A149","v":139},{"$f":"'LV 4'!C149","v":12.789205322518315},null,null,null,{"$f":"'LV 4'!D149","v":3.3241212706676349}]
[{"$f":"'LV 4'!A150","v":140},{"$f":"'LV 4'!C150","v":12.7918021301069},null,null,null,{"$f":"'LV 4'!D150","v":3.3237490956060274}]
[{"$f":"'LV 4'!A151","v":141},{"$f":"'LV 4'!C151","v":12.794500283686492},null,null,null,{"$f":"'LV 4'!D151","v":3.3233917457308673}]
[{"$f":"'LV 4'!A152","v":142},{"$f":"'LV 4'!C152","v":12.797295672666982},null,null,null,{"$f":"'LV 4'!D152","v":3.323049770652855}]
[{"$f":"'LV 4'!A153","v":143},{"$f":"'LV 4'!C153","v":12.800184036348588},null,null,null,{"$f":"'LV 4'!D153","v":3.3227236965950384}]
[{"$f":"'LV 4'!A154","v":144},{"$f":"'LV 4'!C154","v":12.803160970017705},null,null,null,{"$f":"'LV 4'!D154","v":3.3224140256087429}]
[{"$f":"'LV 4'!A155","v":145},{"$f":"'LV 4'!C155","v":12.806221931262934},null,null,null,{"$f":"'LV 4'!D155","v":3.322121234823701}]
[{"$f":"'LV 4'!A156","v":146},{"$f":"'LV 4'!C156","v":12.809362246504707},null,null,null,{"$f":"'LV 4'!D156","v":3.3218457757333595}]
[{"$f":"'LV 4'!A157","v":147},{"$f":"'LV 4'!C157","v":12.812577117731601},null,null,null,{"$f":"'LV 4'!D157","v":3.3215880735163066}]
[{"$f":"'LV 4'!A158","v":148},{"$f":"'LV 4'!C158","v":12.815861629436117},null,null,null,{"$f":"'LV 4'!D158","v":3.3213485263947304}]
[{"$f":"'LV 4'!A159","v":149},{"$f":"'LV 4'!C159","v":12.819210755742311},null,null,null,{"$f":"'LV 4'!D159","v":3.3211275050307862}]
[{"$f":"'LV 4'!A160","v":150},{"$f":"'LV 4'!C160","v":12.822619367717381},null,null,null,{"$f":"'LV 4'!D160","v":3.3209253519617095}]
[{"$f":"'LV 4'!A161","v":151},{"$f":"'LV 4'!C161","v":12.826082240858911},null,null,null,{"$f":"'LV 4'!D161","v":3.3207423810744858}]
[{"$f":"'LV 4'!A162","v":152},{"$f":"'LV 4'!C162","v":12.829594062749131},null,null,null,{"$f":"'LV 4'!D162","v":3.3205788771208411}]
[{"$f":"'LV 4'!A163","v":153},{"$f":"'LV 4'!C163","v":12.833149440867189},null,null,null,{"$f":"'LV 4'!D163","v":3.3204350952732891}]
[{"$f":"'LV 4'!A164","v":154},{"$f":"'LV 4'!C164","v":12.836742910550058},null,null,null,{"$f":"'LV 4'!D164","v":3.3203112607229257}]
[{"$f":"'LV 4'!A165","v":155},{"$f":"'LV 4'!C165","v":12.840368943092329},null,null,null,{"$f":"'LV 4'!D165","v":3.3202075683196277}]
[{"$f":"'LV 4'!A166","v":156},{"$f":"'LV 4'!C166","v":12.844021953974783},null,null,null,{"$f":"'LV 4'!D166","v":3.3201241822552672}]
[{"$f":"'LV 4'!A167","v":157},{"$f":"'LV 4'!C167","v":12.847696311211221},null,null,null,{"$f":"'LV 4'!D167","v":3.3200612357905168}]
[{"$f":"'LV 4'!A168","v":158},{"$f":"'LV 4'!C168","v":12.851386343802739},null,null,null,{"$f":"'LV 4'!D168","v":3.3200188310257728}]
[{"$f":"'LV 4'!A169","v":159},{"$f":"'LV 4'!C169","v":12.855086350288177},null,null,null,{"$f":"'LV 4'!D169","v":3.3199970387166822}]
[{"$f":"'LV 4'!A170","v":160},{"$f":"'LV 4'!C170","v":12.858790607379179},null,null,null,{"$f":"'LV 4'!D170","v":3.3199958981347146}]
[{"$f":"'LV 4'!A171","v":161},{"$f":"'LV 4'!C171","v":12.862493378667919},null,null,null,{"$f":"'LV 4'!D171","v":3.3200154169731673}]
[{"$f":"'LV 4'!A172","v":162},{"$f":"'LV 4'!C172","v":12.866188923395196},null,null,null,{"$f":"'LV 4'!D172","v":3.3200555712989517}]
[{"$f":"'LV 4'!A173","v":163},{"$f":"'LV 4'!C173","v":12.869871505266282},null,null,null,{"$f":"'LV 4'!D173","v":3.320116305550449}]
[{"$f":"'LV 4'!A174","v":164},{"$f":"'LV 4'!C174","v":12.873535401301574},null,null,null,{"$f":"'LV 4'!D174","v":3.320197532581679}]
[{"$f":"'LV 4'!A175","v":165},{"$f":"'LV 4'!C175","v":12.877174910708792},null,null,null,{"$f":"'LV 4'!D175","v":3.3202991337529668}]
[{"$f":"'LV 4'!A176","v":166},{"$f":"'LV 4'!C176","v":12.880784363763185},null,null,null,{"$f":"'LV 4'!D176","v":3.320420959068239}]
[{"$f":"'LV 4'!A177","v":167},{"$f":"'LV 4'!C177","v":12.884358130681912},null,null,null,{"$f":"'LV 4'!D177","v":3.3205628273590206}]
[{"$f":"'LV 4'!A178","v":168},{"$f":"'LV 4'!C178","v":12.887890630478532},null,null,null,{"$f":"'LV 4'!D178","v":3.3207245265151486}]
[{"$f":"'LV 4'!A179","v":169},{"$f":"'LV 4'!C179","v":12.891376339783298},null,null,null,{"$f":"'LV 4'!D179","v":3.3209058137621548}]
[{"$f":"'LV 4'!A180","v":170},{"$f":"'LV 4'!C180","v":12.894809801614731},null,null,null,{"$f":"'LV 4'!D180","v":3.3211064159852053}]
[{"$f":"'LV 4'!A181","v":171},{"$f":"'LV 4'!C181","v":12.898185634087804},null,null,null,{"$f":"'LV 4'!D181","v":3.3213260300994234}]
[{"$f":"'LV 4'!A182","v":172},{"$f":"'LV 4'!C182","v":12.901498539043875},null,null,null,{"$f":"'LV 4'!D182","v":3.3215643234663554}]
[{"$f":"'LV 4'!A183","v":173},{"$f":"'LV 4'!C183","v":12.904743310587405},null,null,null,{"$f":"'LV 4'!D183","v":3.3218209343562664}]
[{"$f":"'LV 4'!A184","v":174},{"$f":"'LV 4'!C184","v":12.907914843514412},null,null,null,{"$f":"'LV 4'!D184","v":3.3220954724558909}]
[{"$f":"'LV 4'!A185","v":175},{"$f":"'LV 4'!C185","v":12.911008141617542},null,null,null,{"$f":"'LV 4'!D185","v":3.3223875194211874}]
[{"$f":"'LV 4'!A186","v":176},{"$f":"'LV 4'!C186","v":12.914018325852618},null,null,null,{"$f":"'LV 4'!D186","v":3.322696629474569}]
[{"$f":"'LV 4'!A187","v":177},{"$f":"'LV 4'!C187","v":12.916940642351571},null,null,null,{"$f":"'LV 4'!D187","v":3.3230223300460229}]
[{"$f":"'LV 4'!A188","v":178},{"$f":"'LV 4'!C188","v":12.91977047026665},null,null,null,{"$f":"'LV 4'!D188","v":3.3233641224574382}]
[{"$f":"'LV 4'!A189","v":179},{"$f":"'LV 4'!C189","v":12.922503329430963},null,null,null,{"$f":"'LV 4'!D189","v":3.3237214826494004}]
[{"$f":"'LV 4'!A190","v":180},{"$f":"'LV 4'!C190","v":12.925134887820494},null,null,null,{"$f":"'LV 4'!D190","v":3.3240938619496254}]
[{"$f":"'LV 4'!A191","v":181},{"$f":"'LV 4'!C191","v":12.927660968802932},null,null,null,{"$f":"'LV 4'!D191","v":3.3244806878821334}]
[{"$f":"'LV 4'!A192","v":182},{"$f":"'LV 4'!C192","v":12.930077558158848},null,null,null,{"$f":"'LV 4'!D192","v":3.3248813650161821}]
[{"$f":"'LV 4'!A193","v":183},{"$f":"'LV 4'!C193","v":12.932380810861018},null,null,null,{"$f":"'LV 4'!D193","v":3.3252952758539007}]
[{"$f":"'LV 4'!A194","v":184},{"$f":"'LV 4'!C194","v":12.934567057598009},null,null,null,{"$f":"'LV 4'!D194","v":3.3257217817554889}]
[{"$f":"'LV 4'!A195","v":185},{"$f":"'LV 4'!C195","v":12.936632811028451},null,null,null,{"$f":"'LV 4'!D195","v":3.3261602239007693}]
[{"$f":"'LV 4'!A196","v":186},{"$f":"'LV 4'!C196","v":12.938574771752821},null,null,null,{"$f":"'LV 4'!D196","v":3.3266099242857963}]
[{"$f":"'LV 4'!A197","v":187},{"$f":"'LV 4'!C197","v":12.940389833990011},null,null,null,{"$f":"'LV 4'!D197","v":3.3270701867531574}]
[{"$f":"'LV 4'!A198","v":188},{"$f":"'LV 4'!C198","v":12.942075090946382},null,null,null,{"$f":"'LV 4'!D198","v":3.3275402980545192}]
[{"$f":"'LV 4'!A199","v":189},{"$f":"'LV 4'!C199","v":12.943627839865544},null,null,null,{"$f":"'LV 4'!D199","v":3.3280195289438965}]
[{"$f":"'LV 4'!A200","v":190},{"$f":"'LV 4'!C200","v":12.945045586747645},null,null,null,{"$f":"'LV 4'!D200","v":3.3285071353000557}]
[{"$f":"'LV 4'!A201","v":191},{"$f":"'LV 4'!C201","v":12.946326050727555},null,null,null,{"$f":"'LV 4'!D201","v":3.3290023592763802}]
[{"$f":"'LV 4'!A202","v":192},{"$f":"'LV 4'!C202","v":12.947467168101916},null,null,null,{"$f":"'LV 4'!D202","v":3.3295044304764683}]
[{"$f":"'LV 4'!A203","v":193},{"$f":"'LV 4'!C203","v":12.948467095995762},null,null,null,{"$f":"'LV 4'!D203","v":3.3300125671536569}]
[{"$f":"'LV 4'!A204","v":194},{"$f":"'LV 4'!C204","v":12.949324215660043},null,null,null,{"$f":"'LV 4'!D204","v":3.3305259774326035}]
[{"$f":"'LV 4'!A205","v":195},{"$f":"'LV 4'!C205","v":12.950037135392177},null,null,null,{"$f":"'LV 4'!D205","v":3.331043860550996}]
[{"$f":"'LV 4'!A206","v":196},{"$f":"'LV 4'!C206","v":12.950604693072474},null,null,null,{"$f":"'LV 4'!D206","v":3.3315654081194013}]
[{"$f":"'LV 4'!A207","v":197},{"$f":"'LV 4'!C207","v":12.95102595831009},null,null,null,{"$f":"'LV 4'!D207","v":3.3320898053972066}]
[{"$f":"'LV 4'!A208","v":198},{"$f":"'LV 4'!C208","v":12.951300234192994},null,null,null,{"$f":"'LV 4'!D208","v":3.3326162325825566}]
[{"$f":"'LV 4'!A209","v":199},{"$f":"'LV 4'!C209","v":12.951427058637238},null,null,null,{"$f":"'LV 4'!D209","v":3.3331438661141402}]
[{"$f":"'LV 4'!A210","v":200},{"$f":"'LV 4'!C210","v":12.951406205331725},null,null,null,{"$f":"'LV 4'!D210","v":3.333671879982635}]
[{"$f":"'LV 4'!A211","v":201},{"$f":"'LV 4'!C211","v":12.951237684275526},null,null,null,{"$f":"'LV 4'!D211","v":3.3341994470495862}]
[{"$f":"'LV 4'!A212","v":202},{"$f":"'LV 4'!C212","v":12.950921741905674},null,null,null,{"$f":"'LV 4'!D212","v":3.3347257403714479}]
[{"$f":"'LV 4'!A213","v":203},{"$f":"'LV 4'!C213","v":12.950458860814319},null,null,null,{"$f":"'LV 4'!D213","v":3.3352499345264985}]
[{"$f":"'LV 4'!A214","v":204},{"$f":"'LV 4'!C214","v":12.949849759054993},null,null,null,{"$f":"'LV 4'!D214","v":3.3357712069423053}]
[{"$f":"'LV 4'!A215","v":205},{"$f":"'LV 4'!C215","v":12.949095389038687},null,null,null,{"$f":"'LV 4'!D215","v":3.3362887392214029}]
[{"$f":"'LV 4'!A216","v":206},{"$f":"'LV 4'!C216","v":12.948196936021329},null,null,null,{"$f":"'LV 4'!D216","v":3.3368017184628282}]
[{"$f":"'LV 4'!A217","v":207},{"$f":"'LV 4'!C217","v":12.947155816185221},null,null,null,{"$f":"'LV 4'!D217","v":3.3373093385771502}]
[{"$f":"'LV 4'!A218","v":208},{"$f":"'LV 4'!C218","v":12.945973674317864},null,null,null,{"$f":"'LV 4'!D218","v":3.3378108015926271}]
[{"$f":"'LV 4'!A219","v":209},{"$f":"'LV 4'!C219","v":12.944652381092526},null,null,null,{"$f":"'LV 4'!D219","v":3.3383053189501277}]
[{"$f":"'LV 4'!A220","v":210},{"$f":"'LV 4'!C220","v":12.94319402995581},null,null,null,{"$f":"'LV 4'!D220","v":3.3387921127844606}]
[{"$f":"'LV 4'!A221","v":211},{"$f":"'LV 4'!C221","v":12.941600933628338},null,null,null,{"$f":"'LV 4'!D221","v":3.3392704171897667}]
[{"$f":"'LV 4'!A222","v":212},{"$f":"'LV 4'!C222","v":12.939875620225564},null,null,null,{"$f":"'LV 4'!D222","v":3.3397394794666577}]
[{"$f":"'LV 4'!A223","v":213},{"$f":"'LV 4'!C223","v":12.938020829006529},null,null,null,{"$f":"'LV 4'!D223","v":3.3401985613488021}]
[{"$f":"'LV 4'!A224","v":214},{"$f":"'LV 4'!C224","v":12.936039505759233},null,null,null,{"$f":"'LV 4'!D224","v":3.3406469402066921}]
[{"$f":"'LV 4'!A225","v":215},{"$f":"'LV 4'!C225","v":12.933934797832054},null,null,null,{"$f":"'LV 4'!D225","v":3.3410839102263701}]
[{"$f":"'LV 4'!A226","v":216},{"$f":"'LV 4'!C226","v":12.931710048821433},null,null,null,{"$f":"'LV 4'!D226","v":3.341508783560927}]
[{"$f":"'LV 4'!A227","v":217},{"$f":"'LV 4'!C227","v":12.929368792926745},null,null,null,{"$f":"'LV 4'!D227","v":3.3419208914526415}]
[{"$f":"'LV 4'!A228","v":218},{"$f":"'LV 4'!C228","v":12.926914748984004},null,null,null,{"$f":"'LV 4'!D228","v":3.3423195853236778}]
[{"$f":"'LV 4'!A229","v":219},{"$f":"'LV 4'!C229","v":12.924351814190675},null,null,null,{"$f":"'LV 4'!D229","v":3.3427042378333267}]
[{"$f":"'LV 4'!A230","v":220},{"$f":"'LV 4'!C230","v":12.921684057534518},null,null,null,{"$f":"'LV 4'!D230","v":3.343074243899832}]
[{"$f":"'LV 4'!A231","v":221},{"$f":"'LV 4'!C231","v":12.918915712939921},null,null,null,{"$f":"'LV 4'!D231","v":3.3434290216849223}]
[{"$f":"'LV 4'!A232","v":222},{"$f":"'LV 4'!C232","v":12.916051172145771},null,null,null,{"$f":"'LV 4'!D232","v":3.3437680135392371}]
[{"$f":"'LV 4'!A233","v":223},{"$f":"'LV 4'!C233","v":12.913094977329358},null,null,null,{"$f":"'LV 4'!D233","v":3.3440906869069229}]
[{"$f":"'LV 4'!A234","v":224},{"$f":"'LV 4'!C234","v":12.91005181349127},null,null,null,{"$f":"'LV 4'!D234","v":3.3443965351877498}]
[{"$f":"'LV 4'!A235","v":225},{"$f":"'LV 4'!C235","v":12.906926500616638},null,null,null,{"$f":"'LV 4'!D235","v":3.344685078555198}]
[{"$f":"'LV 4'!A236","v":226},{"$f":"'LV 4'!C236","v":12.90372398562844},null,null,null,{"$f":"'LV 4'!D236","v":3.3449558647290489}]
[{"$f":"'LV 4'!A237","v":227},{"$f":"'LV 4'!C237","v":12.900449334148878},null,null,null,{"$f":"'LV 4'!D237","v":3.3452084697011126}]
[{"$f":"'LV 4'!A238","v":228},{"$f":"'LV 4'!C238","v":12.897107722085106},null,null,null,{"$f":"'LV 4'!D238","v":3.345442498412825}]
[{"$f":"'LV 4'!A239","v":229},{"$f":"'LV 4'!C239","v":12.893704427055788},null,null,null,{"$f":"'LV 4'!D239","v":3.3456575853835422}]
[{"$f":"'LV 4'!A240","v":230},{"$f":"'LV 4'!C240","v":12.890244819675123},null,null,null,{"$f":"'LV 4'!D240","v":3.3458533952884766}]
[{"$f":"'LV 4'!A241","v":231},{"$f":"'LV 4'!C241","v":12.886734354711123},null,null,null,{"$f":"'LV 4'!D241","v":3.3460296234853133}]
[{"$f":"'LV 4'!A242","v":232},{"$f":"'LV 4'!C242","v":12.88317856213494},null,null,null,{"$f":"'LV 4'!D242","v":3.346185996488658}]
[{"$f":"'LV 4'!A243","v":233},{"$f":"'LV 4'!C243","v":12.879583038078122},null,null,null,{"$f":"'LV 4'!D243","v":3.346322272391582}]
[{"$f":"'LV 4'!A244","v":234},{"$f":"'LV 4'!C244","v":12.875953435714615},null,null,null,{"$f":"'LV 4'!D244","v":3.3464382412336313}]
[{"$f":"'LV 4'!A245","v":235},{"$f":"'LV 4'!C245","v":12.872295456084279},null,null,null,{"$f":"'LV 4'!D245","v":3.3465337253147887}]
[{"$f":"'LV 4'!A246","v":236},{"$f":"'LV 4'!C246","v":12.868614838874576},null,null,null,{"$f":"'LV 4'!D246","v":3.3466085794549802}]
[{"$f":"'LV 4'!A247","v":237},{"$f":"'LV 4'!C247","v":12.864917353176942},null,null,null,{"$f":"'LV 4'!D247","v":3.3466626911988353}]
[{"$f":"'LV 4'!A248","v":238},{"$f":"'LV 4'!C248","v":12.861208788234164},null,null,null,{"$f":"'LV 4'!D248","v":3.3466959809655203}]
[{"$f":"'LV 4'!A249","v":239},{"$f":"'LV 4'!C249","v":12.857494944194857},null,null,null,{"$f":"'LV 4'!D249","v":3.346708402143574}]
[{"$f":"'LV 4'!A250","v":240},{"$f":"'LV 4'!C250","v":12.853781622890889},null,null,null,{"$f":"'LV 4'!D250","v":3.3466999411307863}]
[{"$f":"'LV 4'!A251","v":241},{"$f":"'LV 4'!C251","v":12.850074618653299},null,null,null,{"$f":"'LV 4'!D251","v":3.3466706173192682}]
[{"$f":"'LV 4'!A252","v":242},{"$f":"'LV 4'!C252","v":12.846379709181928},null,null,null,{"$f":"'LV 4'!D252","v":3.3466204830259683}]
[{"$f":"'LV 4'!A253","v":243},{"$f":"'LV 4'!C253","v":12.842702646483644},null,null,null,{"$f":"'LV 4'!D253","v":3.3465496233689969}]
[{"$f":"'LV 4'!A254","v":244},{"$f":"'LV 4'!C254","v":12.839049147893649},null,null,null,{"$f":"'LV 4'!D254","v":3.3464581560902196}]
[{"$f":"'LV 4'!A255","v":245},{"$f":"'LV 4'!C255","v":12.83542488719397},null,null,null,{"$f":"'LV 4'!D255","v":3.3463462313246861}]
[{"$f":"'LV 4'!A256","v":246},{"$f":"'LV 4'!C256","v":12.831835485842799},null,null,null,{"$f":"'LV 4'!D256","v":3.3462140313175524}]
[{"$f":"'LV 4'!A257","v":247},{"$f":"'LV 4'!C257","v":12.828286504327908},null,null,null,{"$f":"'LV 4'!D257","v":3.3460617700892525}]
[{"$f":"'LV 4'!A258","v":248},{"$f":"'LV 4'!C258","v":12.824783433656918},null,null,null,{"$f":"'LV 4'!D258","v":3.3458896930497697}]
[{"$f":"'LV 4'!A259","v":249},{"$f":"'LV 4'!C259","v":12.821331686996704},null,null,null,{"$f":"'LV 4'!D259","v":3.3456980765629338}]
[{"$f":"'LV 4'!A260","v":250},{"$f":"'LV 4'!C260","v":12.817936591473748},null,null,null,{"$f":"'LV 4'!D260","v":3.3454872274617715}]
[{"$f":"'LV 4'!A261","v":251},{"$f":"'LV 4'!C261","v":12.814603380146769},null,null,null,{"$f":"'LV 4'!D261","v":3.3452574825160033}]
[{"$f":"'LV 4'!A262","v":252},{"$f":"'LV 4'!C262","v":12.811337184162413},null,null,null,{"$f":"'LV 4'!D262","v":3.3450092078528644}]
[{"$f":"'LV 4'!A263","v":253},{"$f":"'LV 4'!C263","v":12.808143025104329},null,null,null,{"$f":"'LV 4'!D263","v":3.3447427983324962}]
[{"$f":"'LV 4'!A264","v":254},{"$f":"'LV 4'!C264","v":12.805025807545407},null,null,null,{"$f":"'LV 4'!D264","v":3.3444586768792277}]
[{"$f":"'LV 4'!A265","v":255},{"$f":"'LV 4'!C265","v":12.801990311812467},null,null,null,{"$f":"'LV 4'!D265","v":3.3441572937701221}]
[{"$f":"'LV 4'!A266","v":256},{"$f":"'LV 4'!C266","v":12.799041186972149},null,null,null,{"$f":"'LV 4'!D266","v":3.3438391258822331}]
[{"$f":"'LV 4'!A267","v":257},{"$f":"'LV 4'!C267","v":12.796182944046276},null,null,null,{"$f":"'LV 4'!D267","v":3.3435046759000664}]
[{"$f":"'LV 4'!A268","v":258},{"$f":"'LV 4'!C268","v":12.793419949464436},null,null,null,{"$f":"'LV 4'!D268","v":3.3431544714847918}]
[{"$f":"'LV 4'!A269","v":259},{"$f":"'LV 4'!C269","v":12.790756418761022},null,null,null,{"$f":"'LV 4'!D269","v":3.3427890644067988}]
[{"$f":"'LV 4'!A270","v":260},{"$f":"'LV 4'!C270","v":12.788196410523513},null,null,null,{"$f":"'LV 4'!D270","v":3.3424090296432376}]
[{"$f":"'LV 4'!A271","v":261},{"$f":"'LV 4'!C271","v":12.78574382059824},null,null,null,{"$f":"'LV 4'!D271","v":3.3420149644422135}]
[{"$f":"'LV 4'!A272","v":262},{"$f":"'LV 4'!C272","v":12.783402376559476},null,null,null,{"$f":"'LV 4'!D272","v":3.3416074873553496}]
[{"$f":"'LV 4'!A273","v":263},{"$f":"'LV 4'!C273","v":12.781175632447153},null,null,null,{"$f":"'LV 4'!D273","v":3.3411872372404536}]
[{"$f":"'LV 4'!A274","v":264},{"$f":"'LV 4'!C274","v":12.779066963778121},null,null,null,{"$f":"'LV 4'!D274","v":3.3407548722360536}]
[{"$f":"'LV 4'!A275","v":265},{"$f":"'LV 4'!C275","v":12.777079562835372},null,null,null,{"$f":"'LV 4'!D275","v":3.340311068709592}]
[{"$f":"'LV 4'!A276","v":266},{"$f":"'LV 4'!C276","v":12.775216434239281},null,null,null,{"$f":"'LV 4'!D276","v":3.3398565201810793}]
[{"$f":"'LV 4'!A277","v":267},{"$f":"'LV 4'!C277","v":12.773480390804455},null,null,null,{"$f":"'LV 4'!D277","v":3.3393919362240294}]
[{"$f":"'LV 4'!A278","v":268},{"$f":"'LV 4'!C278","v":12.771874049685399},null,null,null,{"$f":"'LV 4'!D278","v":3.3389180413455044}]
[{"$f":"'LV 4'!A279","v":269},{"$f":"'LV 4'!C279","v":12.770399828813854},null,null,null,{"$f":"'LV 4'!D279","v":3.3384355738471063}]
[{"$f":"'LV 4'!A280","v":270},{"$f":"'LV 4'!C280","v":12.769059943630239},null,null,null,{"$f":"'LV 4'!D280","v":3.3379452846687561}]
[{"$f":"'LV 4'!A281","v":271},{"$f":"'LV 4'!C281","v":12.767856404111321},null,null,null,{"$f":"'LV 4'!D281","v":3.337447936217103}]
[{"$f":"'LV 4'!A282","v":272},{"$f":"'LV 4'!C282","v":12.766791012095865},null,null,null,{"$f":"'LV 4'!D282","v":3.3369443011803996}]
[{"$f":"'LV 4'!A283","v":273},{"$f":"'LV 4'!C283","v":12.765865358909723},null,null,null,{"$f":"'LV 4'!D283","v":3.3364351613316798}]
[{"$f":"'LV 4'!A284","v":274},{"$f":"'LV 4'!C284","v":12.765080823291449},null,null,null,{"$f":"'LV 4'!D284","v":3.3359213063220614}]
[{"$f":"'LV 4'!A285","v":275},{"$f":"'LV 4'!C285","v":12.764438569619298},null,null,null,{"$f":"'LV 4'!D285","v":3.3354035324659939}]
[{"$f":"'LV 4'!A286","v":276},{"$f":"'LV 4'!C286","v":12.763939546440131},null,null,null,{"$f":"'LV 4'!D286","v":3.3348826415202479}]
[{"$f":"'LV 4'!A287","v":277},{"$f":"'LV 4'!C287","v":12.763584485300489},null,null,null,{"$f":"'LV 4'!D287","v":3.3343594394584368}]
[{"$f":"'LV 4'!A288","v":278},{"$f":"'LV 4'!C288","v":12.763373899879817},null,null,null,{"$f":"'LV 4'!D288","v":3.3338347352428395}]
[{"$f":"'LV 4'!A289","v":279},{"$f":"'LV 4'!C289","v":12.763308085425599},null,null,null,{"$f":"'LV 4'!D289","v":3.3333093395952758}]
[{"$f":"'LV 4'!A290","v":280},{"$f":"'LV 4'!C290","v":12.763387118489888},null,null,null,{"$f":"'LV 4'!D290","v":3.3327840637687642}]
[{"$f":"'LV 4'!A291","v":281},{"$f":"'LV 4'!C291","v":12.763610856966478},null,null,null,{"$f":"'LV 4'!D291","v":3.332259718321672}]
[{"$f":"'LV 4'!A292","v":282},{"$f":"'LV 4'!C292","v":12.763978940427769},null,null,null,{"$f":"'LV 4'!D292","v":3.3317371118960395}]
[{"$f":"'LV 4'!A293","v":283},{"$f":"'LV 4'!C293","v":12.764490790760112},null,null,null,{"$f":"'LV 4'!D293","v":3.3312170500017397}]
[{"$f":"'LV 4'!A294","v":284},{"$f":"'LV 4'!C294","v":12.765145613096216},null,null,null,{"$f":"'LV 4'!D294","v":3.3307003338081089}]
[{"$f":"'LV 4'!A295","v":285},{"$f":"'LV 4'!C295","v":12.765942397043018},null,null,null,{"$f":"'LV 4'!D295","v":3.3301877589446516}]
[{"$f":"'LV 4'!A296","v":286},{"$f":"'LV 4'!C296","v":12.766879918203143},null,null,null,{"$f":"'LV 4'!D296","v":3.3296801143124024}]
[{"$f":"'LV 4'!A297","v":287},{"$f":"'LV 4'!C297","v":12.767956739987941},null,null,null,{"$f":"'LV 4'!D297","v":3.3291781809074923}]
[{"$f":"'LV 4'!A298","v":288},{"$f":"'LV 4'!C298","v":12.769171215719826},null,null,null,{"$f":"'LV 4'!D298","v":3.3286827306584441}]
[{"$f":"'LV 4'!A299","v":289},{"$f":"'LV 4'!C299","v":12.770521491021467},null,null,null,{"$f":"'LV 4'!D299","v":3.3281945252786853}]
[{"$f":"'LV 4'!A300","v":290},{"$f":"'LV 4'!C300","v":12.772005506489171},null,null,null,{"$f":"'LV 4'!D300","v":3.3277143151357453}]
[{"$f":"'LV 4'!A301","v":291},{"$f":"'LV 4'!C301","v":12.773621000647561},null,null,null,{"$f":"'LV 4'!D301","v":3.327242838138563}]
[{"$f":"'LV 4'!A302","v":292},{"$f":"'LV 4'!C302","v":12.775365513182479},null,null,null,{"$f":"'LV 4'!D302","v":3.3267808186443095}]
[{"$f":"'LV 4'!A303","v":293},{"$f":"'LV 4'!C303","v":12.777236388448786},null,null,null,{"$f":"'LV 4'!D303","v":3.3263289663860935}]
[{"$f":"'LV 4'!A304","v":294},{"$f":"'LV 4'!C304","v":12.779230779249543},null,null,null,{"$f":"'LV 4'!D304","v":3.3258879754228898}]
[{"$f":"'LV 4'!A305","v":295},{"$f":"'LV 4'!C305","v":12.781345650882802},null,null,null,{"$f":"'LV 4'!D305","v":3.3254585231129967}]
[{"$f":"'LV 4'!A306","v":296},{"$f":"'LV 4'!C306","v":12.783577785452021},null,null,null,{"$f":"'LV 4'!D306","v":3.3250412691122997}]
[{"$f":"'LV 4'!A307","v":297},{"$f":"'LV 4'!C307","v":12.785923786435866},null,null,null,{"$f":"'LV 4'!D307","v":3.3246368543985865}]
[{"$f":"'LV 4'!A308","v":298},{"$f":"'LV 4'!C308","v":12.788380083512909},null,null,null,{"$f":"'LV 4'!D308","v":3.3242459003231244}]
[{"$f":"'LV 4'!A309","v":299},{"$f":"'LV 4'!C309","v":12.790942937636478},null,null,null,{"$f":"'LV 4'!D309","v":3.3238690076906843}]
[{"$f":"'LV 4'!A310","v":300},{"$f":"'LV 4'!C310","v":12.793608446354671},null,null,null,{"$f":"'LV 4'!D310","v":3.323506755869158}]
[{"$f":"'LV 4'!A311","v":301},{"$f":"'LV 4'!C311","v":12.796372549370211},null,null,null,{"$f":"'LV 4'!D311","v":3.3231597019298902}]
[{"$f":"'LV 4'!A312","v":302},{"$f":"'LV 4'!C312","v":12.799231034334607},null,null,null,{"$f":"'LV 4'!D312","v":3.3228283798198075}]
[{"$f":"'LV 4'!A313","v":303},{"$f":"'LV 4'!C313","v":12.802179542870739},null,null,null,{"$f":"'LV 4'!D313","v":3.3225132995664}]
[{"$f":"'LV 4'!A314","v":304},{"$f":"'LV 4'!C314","v":12.805213576817705},null,null,null,{"$f":"'LV 4'!D314","v":3.322214946516576}]
[{"$f":"'LV 4'!A315","v":305},{"$f":"'LV 4'!C315","v":12.808328504691451},null,null,null,{"$f":"'LV 4'!D315","v":3.3219337806103781}]
[{"$f":"'LV 4'!A316","v":306},{"$f":"'LV 4'!C316","v":12.811519568354386},null,null,null,{"$f":"'LV 4'!D316","v":3.3216702356905166}]
[{"$f":"'LV 4'!A317","v":307},{"$f":"'LV 4'!C317","v":12.814781889886849},null,null,null,{"$f":"'LV 4'!D317","v":3.3214247188486374}]
[{"$f":"'LV 4'!A318","v":308},{"$f":"'LV 4'!C318","v":12.818110478652949},null,null,null,{"$f":"'LV 4'!D318","v":3.3211976098092193}]
[{"$f":"'LV 4'!A319","v":309},{"$f":"'LV 4'!C319","v":12.821500238552998},null,null,null,{"$f":"'LV 4'!D319","v":3.3209892603519453}]
[{"$f":"'LV 4'!A320","v":310},{"$f":"'LV 4'!C320","v":12.824945975454321},null,null,null,{"$f":"'LV 4'!D320","v":3.3207999937733721}]
[{"$f":"'LV 4'!A321","v":311},{"$f":"'LV 4'!C321","v":12.82844240479197},null,null,null,{"$f":"'LV 4'!D321","v":3.3206301043886723}]
[{"$f":"'LV 4'!A322","v":312},{"$f":"'LV 4'!C322","v":12.831984159330409},null,null,null,{"$f":"'LV 4'!D322","v":3.3204798570741993}]
[{"$f":"'LV 4'!A323","v":313},{"$f":"'LV 4'!C323","v":12.835565797076951},null,null,null,{"$f":"'LV 4'!D323","v":3.320349486851577}]
[{"$f":"'LV 4'!A324","v":314},{"$f":"'LV 4'!C324","v":12.839181809337301},null,null,null,{"$f":"'LV 4'!D324","v":3.3202391985139847}]
[{"$f":"'LV 4'!A325","v":315},{"$f":"'LV 4'!C325","v":12.842826628903206},null,null,null,{"$f":"'LV 4'!D325","v":3.3201491662952618}]
[{"$f":"'LV 4'!A326","v":316},{"$f":"'LV 4'!C326","v":12.846494638361863},null,null,null,{"$f":"'LV 4'!D326","v":3.3200795335824194}]
[{"$f":"'LV 4'!A327","v":317},{"$f":"'LV 4'!C327","v":12.850180178516323},null,null,null,{"$f":"'LV 4'!D327","v":3.3200304126721045}]
[{"$f":"'LV 4'!A328","v":318},{"$f":"'LV 4'!C328","v":12.8538775569058},null,null,null,{"$f":"'LV 4'!D328","v":3.3200018845715138}]
[{"$f":"'LV 4'!A329","v":319},{"$f":"'LV 4'!C329","v":12.857581056414395},null,null,null,{"$f":"'LV 4'!D329","v":3.3199939988442115}]
[{"$f":"'LV 4'!A330","v":320},{"$f":"'LV 4'!C330","v":12.861284943956438},null,null,null,{"$f":"'LV 4'!D330","v":3.3200067735012615}]
[{"$f":"'LV 4'!A331","v":321},{"$f":"'LV 4'!C331","v":12.86498347922624},null,null,null,{"$f":"'LV 4'!D331","v":3.3200401949380307}]
[{"$f":"'LV 4'!A332","v":322},{"$f":"'LV 4'!C332","v":12.86867092349976},null,null,null,{"$f":"'LV 4'!D332","v":3.3200942179169757}]
[{"$f":"'LV 4'!A333","v":323},{"$f":"'LV 4'!C333","v":12.872341548475335},null,null,null,{"$f":"'LV 4'!D333","v":3.3201687655966658}]
[{"$f":"'LV 4'!A334","v":324},{"$f":"'LV 4'!C334","v":12.875989645140322},null,null,null,{"$f":"'LV 4'!D334","v":3.3202637296072517}]
[{"$f":"'LV 4'!A335","v":325},{"$f":"'LV 4'!C335","v":12.879609532650189},null,null,null,{"$f":"'LV 4'!D335","v":3.3203789701725261}]
[{"$f":"'LV 4'!A336","v":326},{"$f":"'LV 4'!C336","v":12.883195567206343},null,null,null,{"$f":"'LV 4'!D336","v":3.3205143162786683}]
[{"$f":"'LV 4'!A337","v":327},{"$f":"'LV 4'!C337","v":12.886742150918666},null,null,null,{"$f":"'LV 4'!D337","v":3.3206695658897081}]
[{"$f":"'LV 4'!A338","v":328},{"$f":"'LV 4'!C338","v":12.890243740638565},null,null,null,{"$f":"'LV 4'!D338","v":3.3208444862096789}]
[{"$f":"'LV 4'!A339","v":329},{"$f":"'LV 4'!C339","v":12.893694856748066},null,null,null,{"$f":"'LV 4'!D339","v":3.3210388139913731}]
[{"$f":"'LV 4'!A340","v":330},{"$f":"'LV 4'!C340","v":12.897090091890311},null,null,null,{"$f":"'LV 4'!D340","v":3.3212522558915443}]
[{"$f":"'LV 4'!A341","v":331},{"$f":"'LV 4'!C341","v":12.900424119626681},null,null,null,{"$f":"'LV 4'!D341","v":3.3214844888723376}]
[{"$f":"'LV 4'!A342","v":332},{"$f":"'LV 4'!C342","v":12.903691703005608},null,null,null,{"$f":"'LV 4'!D342","v":3.3217351606486614}]
[{"$f":"'LV 4'!A343","v":333},{"$f":"'LV 4'!C343","v":12.906887703028024},null,null,null,{"$f":"'LV 4'!D343","v":3.3220038901811417}]
[{"$f":"'LV 4'!A344","v":334},{"$f":"'LV 4'!C344","v":12.910007086994392},null,null,null,{"$f":"'LV 4'!D344","v":3.3222902682142377}]
[{"$f":"'LV 4'!A345","v":335},{"$f":"'LV 4'!C345","v":12.913044936718142},null,null,null,{"$f":"'LV 4'!D345","v":3.3225938578590131}]
[{"$f":"'LV 4'!A346","v":336},{"$f":"'LV 4'!C346","v":12.915996456590413},null,null,null,{"$f":"'LV 4'!D346","v":3.3229141952199956}]
[{"$f":"'LV 4'!A347","v":337},{"$f":"'LV 4'!C347","v":12.91885698148101},null,null,null,{"$f":"'LV 4'!D347","v":3.3232507900654755}]
[{"$f":"'LV 4'!A348","v":338},{"$f":"'LV 4'!C348","v":12.921621984460545},null,null,null,{"$f":"'LV 4'!D348","v":3.3236031265405224}]
[{"$f":"'LV 4'!A349","v":339},{"$f":"'LV 4'!C349","v":12.924287084328901},null,null,null,{"$f":"'LV 4'!D349","v":3.3239706639219193}]
[{"$f":"'LV 4'!A350","v":340},{"$f":"'LV 4'!C350","v":12.926848052935259},null,null,null,{"$f":"'LV 4'!D350","v":3.3243528374141387}]
[{"$f":"'LV 4'!A351","v":341},{"$f":"'LV 4'!C351","v":12.929300822275186},null,null,null,{"$f":"'LV 4'!D351","v":3.3247490589854065}]
[{"$f":"'LV 4'!A352","v":342},{"$f":"'LV 4'!C352","v":12.931641491350462},null,null,null,{"$f":"'LV 4'!D352","v":3.3251587182428222}]
[{"$f":"'LV 4'!A353","v":343},{"$f":"'LV 4'!C353","v":12.93386633277767},null,null,null,{"$f":"'LV 4'!D353","v":3.3255811833454216}]
[{"$f":"'LV 4'!A354","v":344},{"$f":"'LV 4'!C354","v":12.935971799131876},null,null,null,{"$f":"'LV 4'!D354","v":3.3260158019539992}]
[{"$f":"'LV 4'!A355","v":345},{"$f":"'LV 4'!C355","v":12.937954529012053},null,null,null,{"$f":"'LV 4'!D355","v":3.3264619022164168}]
[{"$f":"'LV 4'!A356","v":346},{"$f":"'LV 4'!C356","v":12.939811352815429},null,null,null,{"$f":"'LV 4'!D356","v":3.3269187937870615}]
[{"$f":"'LV 4'!A357","v":347},{"$f":"'LV 4'!C357","v":12.941539298208244},null,null,null,{"$f":"'LV 4'!D357","v":3.3273857688790249}]
[{"$f":"'LV 4'!A358","v":348},{"$f":"'LV 4'!C358","v":12.943135595281046},null,null,null,{"$f":"'LV 4'!D358","v":3.3278621033475151}]
[{"$f":"'LV 4'!A359","v":349},{"$f":"'LV 4'!C359","v":12.944597681377081},null,null,null,{"$f":"'LV 4'!D359","v":3.3283470578029251}]
[{"$f":"'LV 4'!A360","v":350},{"$f":"'LV 4'!C360","v":12.945923205582975},null,null,null,{"$f":"'LV 4'!D360","v":3.3288398787519213}]
[{"$f":"'LV 4'!A361","v":351},{"$f":"'LV 4'!C361","v":12.947110032871491},null,null,null,{"$f":"'LV 4'!D361","v":3.3293397997648344}]
[{"$f":"'LV 4'!A362","v":352},{"$f":"'LV 4'!C362","v":12.948156247886807},null,null,null,{"$f":"'LV 4'!D362","v":3.3298460426675724}]
[{"$f":"'LV 4'!A363","v":353},{"$f":"'LV 4'!C363","v":12.949060158363464},null,null,null,{"$f":"'LV 4'!D363","v":3.3303578187562115}]
[{"$f":"'LV 4'!A364","v":354},{"$f":"'LV 4'!C364","v":12.949820298170811},null,null,null,{"$f":"'LV 4'!D364","v":3.3308743300323496}]
[{"$f":"'LV 4'!A365","v":355},{"$f":"'LV 4'!C365","v":12.950435429975592},null,null,null,{"$f":"'LV 4'!D365","v":3.3313947704572544}]
[{"$f":"'LV 4'!A366","v":356},{"$f":"'LV 4'!C366","v":12.950904547516027},null,null,null,{"$f":"'LV 4'!D366","v":3.331918327222779}]
[{"$f":"'LV 4'!A367","v":357},{"$f":"'LV 4'!C367","v":12.951226877481634},null,null,null,{"$f":"'LV 4'!D367","v":3.3324441820369635}]
[{"$f":"'LV 4'!A368","v":358},{"$f":"'LV 4'!C368","v":12.951401880993787},null,null,null,{"$f":"'LV 4'!D368","v":3.3329715124221901}]
[{"$f":"'LV 4'!A369","v":359},{"$f":"'LV 4'!C369","v":12.951429254682914},null,null,null,{"$f":"'LV 4'!D369","v":3.3334994930237198}]
[{"$f":"'LV 4'!A370","v":360},{"$f":"'LV 4'!C370","v":12.951308931359122},null,null,null,{"$f":"'LV 4'!D370","v":3.3340272969263895}]
[{"$f":"'LV 4'!A371","v":361},{"$f":"'LV 4'!C371","v":12.951041080273869},null,null,null,{"$f":"'LV 4'!D371","v":3.3345540969772194}]
[{"$f":"'LV 4'!A372","v":362},{"$f":"'LV 4'!C372","v":12.95062610697126},null,null,null,{"$f":"'LV 4'!D372","v":3.3350790671116437}]
[{"$f":"'LV 4'!A373","v":363},{"$f":"'LV 4'!C373","v":12.950064652728438},null,null,null,{"$f":"'LV 4'!D373","v":3.3356013836810532}]
[{"$f":"'LV 4'!A374","v":364},{"$f":"'LV 4'!C374","v":12.94935759358545},null,null,null,{"$f":"'LV 4'!D374","v":3.3361202267793137}]
[{"$f":"'LV 4'!A375","v":365},{"$f":"'LV 4'!C375","v":12.948506038965908},null,null,null,{"$f":"'LV 4'!D375","v":3.3366347815659143}]
[{"$f":"'LV 4'!A376","v":366},{"$f":"'LV 4'!C376","v":12.947511329890654},null,null,null,{"$f":"'LV 4'!D376","v":3.3371442395833806}]
[{"$f":"'LV 4'!A377","v":367},{"$f":"'LV 4'!C377","v":12.946375036787607},null,null,null,{"$f":"'LV 4'!D377","v":3.3376478000665903}]
[{"$f":"'LV 4'!A378","v":368},{"$f":"'LV 4'!C378","v":12.945098956901829},null,null,null,{"$f":"'LV 4'!D378","v":3.3381446712416212}]
[{"$f":"'LV 4'!A379","v":369},{"$f":"'LV 4'!C379","v":12.943685111310771},null,null,null,{"$f":"'LV 4'!D379","v":3.3386340716117764}]
[{"$f":"'LV 4'!A380","v":370},{"$f":"'LV 4'!C380","v":12.942135741550549},null,null,null,{"$f":"'LV 4'!D380","v":3.3391152312284378}]
[{"$f":"'LV 4'!A381","v":371},{"$f":"'LV 4'!C381","v":12.940453305859965},null,null,null,{"$f":"'LV 4'!D381","v":3.3395873929444173}]
[{"$f":"'LV 4'!A382","v":372},{"$f":"'LV 4'!C382","v":12.938640475049823},null,null,null,{"$f":"'LV 4'!D382","v":3.3400498136475041}]
[{"$f":"'LV 4'!A383","v":373},{"$f":"'LV 4'!C383","v":12.936700128005947},null,null,null,{"$f":"'LV 4'!D383","v":3.3405017654719282}]
[{"$f":"'LV 4'!A384","v":374},{"$f":"'LV 4'!C384","v":12.934635346835082},null,null,null,{"$f":"'LV 4'!D384","v":3.3409425369855064}]
[{"$f":"'LV 4'!A385","v":375},{"$f":"'LV 4'!C385","v":12.932449411663631},null,null,null,{"$f":"'LV 4'!D385","v":3.3413714343502656}]
[{"$f":"'LV 4'!A386","v":376},{"$f":"'LV 4'!C386","v":12.930145795099955},null,null,null,{"$f":"'LV 4'!D386","v":3.3417877824544004}]
[{"$f":"'LV 4'!A387","v":377},{"$f":"'LV 4'!C387","v":12.927728156371609},null,null,null,{"$f":"'LV 4'!D387","v":3.3421909260134615}]
[{"$f":"'LV 4'!A388","v":378},{"$f":"'LV 4'!C388","v":12.925200335149624},null,null,null,{"$f":"'LV 4'!D388","v":3.3425802306387382}]
[{"$f":"'LV 4'!A389","v":379},{"$f":"'LV 4'!C389","v":12.922566345072523},null,null,null,{"$f":"'LV 4'!D389","v":3.3429550838708586}]
[{"$f":"'LV 4'!A390","v":380},{"$f":"'LV 4'!C390","v":12.919830366983383},null,null,null,{"$f":"'LV 4'!D390","v":3.3433148961766994}]
[{"$f":"'LV 4'!A391","v":381},{"$f":"'LV 4'!C391","v":12.916996741893783},null,null,null,{"$f":"'LV 4'!D391","v":3.3436591019077757}]
[{"$f":"'LV 4'!A392","v":382},{"$f":"'LV 4'!C392","v":12.914069963689006},null,null,null,{"$f":"'LV 4'!D392","v":3.3439871602183513}]
[{"$f":"'LV 4'!A393","v":383},{"$f":"'LV 4'!C393","v":12.911054671589294},null,null,null,{"$f":"'LV 4'!D393","v":3.3442985559416014}]
[{"$f":"'LV 4'!A394","v":384},{"$f":"'LV 4'!C394","v":12.907955642382415},null,null,null,{"$f":"'LV 4'!D394","v":3.3445928004222396}]
[{"$f":"'LV 4'!A395","v":385},{"$f":"'LV 4'!C395","v":12.9047777824431},null,null,null,{"$f":"'LV 4'!D395","v":3.3448694323041188}]
[{"$f":"'LV 4'!A396","v":386},{"$f":"'LV 4'!C396","v":12.901526119555315},null,null,null,{"$f":"'LV 4'!D396","v":3.3451280182714038}]
[{"$f":"'LV 4'!A397","v":387},{"$f":"'LV 4'!C397","v":12.898205794553533},null,null,null,{"$f":"'LV 4'!D397","v":3.3453681537420161}]
[{"$f":"'LV 4'!A398","v":388},{"$f":"'LV 4'!C398","v":12.894822052799435},null,null,null,{"$f":"'LV 4'!D398","v":3.3455894635121477}]
[{"$f":"'LV 4'!A399","v":389},{"$f":"'LV 4'!C399","v":12.891380235510638},null,null,null,{"$f":"'LV 4'!D399","v":3.3457916023507495}]
[{"$f":"'LV 4'!A400","v":390},{"$f":"'LV 4'!C400","v":12.887885770958176},null,null,null,{"$f":"'LV 4'!D400","v":3.3459742555430019}]
[{"$f":"'LV 4'!A401","v":391},{"$f":"'LV 4'!C401","v":12.884344165549551},null,null,null,{"$f":"'LV 4'!D401","v":3.3461371393818822}]
[{"$f":"'LV 4'!A402","v":392},{"$f":"'LV 4'!C402","v":12.880760994814198},null,null,null,{"$f":"'LV 4'!D402","v":3.3462800016070573}]
[{"$f":"'LV 4'!A403","v":393},{"$f":"'LV 4'!C403","v":12.877141894308206},null,null,null,{"$f":"'LV 4'!D403","v":3.3464026217904341}]
[{"$f":"'LV 4'!A404","v":394},{"$f":"'LV 4'!C404","v":12.873492550455095},null,null,null,{"$f":"'LV 4'!D404","v":3.3465048116678173}]
[{"$f":"'LV 4'!A405","v":395},{"$f":"'LV 4'!C405","v":12.869818691339338},null,null,null,{"$f":"'LV 4'!D405","v":3.3465864154162337}]
[{"$f":"'LV 4'!A406","v":396},{"$f":"'LV 4'!C406","v":12.866126077469191},null,null,null,{"$f":"'LV 4'!D406","v":3.3466473098765919}]
[{"$f":"'LV 4'!A407","v":397},{"$f":"'LV 4'!C407","v":12.86242049252523},null,null,null,{"$f":"'LV 4'!D407","v":3.3466874047214628}]
[{"$f":"'LV 4'!A408","v":398},{"$f":"'LV 4'!C408","v":12.858707734110748},null,null,null,{"$f":"'LV 4'!D408","v":3.346706642567872}]
[{"$f":"'LV 4'!A409","v":399},{"$f":"'LV 4'!C409","v":12.854993604519974},null,null,null,{"$f":"'LV 4'!D409","v":3.3467049990351123}]
[{"$f":"'LV 4'!A410","v":400},{"$f":"'LV 4'!C410","v":12.851283901539722},null,null,null,{"$f":"'LV 4'!D410","v":3.346682482747684}]
[{"$f":"'LV 4'!A411","v":401},{"$f":"'LV 4'!C411","v":12.847584409299836},null,null,null,{"$f":"'LV 4'!D411","v":3.3466391352835889}]
[{"$f":"'LV 4'!A412","v":402},{"$f":"'LV 4'!C412","v":12.84390088918741},null,null,null,{"$f":"'LV 4'!D412","v":3.3465750310683036}]
[{"$f":"'LV 4'!A413","v":403},{"$f":"'LV 4'!C413","v":12.840239070839393},null,null,null,{"$f":"'LV 4'!D413","v":3.3464902772148566}]
[{"$f":"'LV 4'!A414","v":404},{"$f":"'LV 4'!C414","v":12.836604643227831},null,null,null,{"$f":"'LV 4'!D414","v":3.3463850133105493}]
[{"$f":"'LV 4'!A415","v":405},{"$f":"'LV 4'!C415","v":12.833003245851534},null,null,null,{"$f":"'LV 4'!D415","v":3.3462594111509416}]
[{"$f":"'LV 4'!A416","v":406},{"$f":"'LV 4'!C416","v":12.829440460047559},null,null,null,{"$f":"'LV 4'!D416","v":3.3461136744218334}]
[{"$f":"'LV 4'!A417","v":407},{"$f":"'LV 4'!C417","v":12.825921800435417},null,null,null,{"$f":"'LV 4'!D417","v":3.3459480383300528}]
[{"$f":"'LV 4'!A418","v":408},{"$f":"'LV 4'!C418","v":12.822452706506464},null,null,null,{"$f":"'LV 4'!D418","v":3.3457627691839655}]
[{"$f":"'LV 4'!A419","v":409},{"$f":"'LV 4'!C419","v":12.81903853437044},null,null,null,{"$f":"'LV 4'!D419","v":3.3455581639246876}]
[{"$f":"'LV 4'!A420","v":410},{"$f":"'LV 4'!C420","v":12.815684548670633},null,null,null,{"$f":"'LV 4'!D420","v":3.3453345496090807}]
[{"$f":"'LV 4'!A421","v":411},{"$f":"'LV 4'!C421","v":12.812395914678648},null,null,null,{"$f":"'LV 4'!D421","v":3.3450922828456795}]
[{"$f":"'LV 4'!A422","v":412},{"$f":"'LV 4'!C422","v":12.809177690579233},null,null,null,{"$f":"'LV 4'!D422","v":3.3448317491847739}]
[{"$f":"'LV 4'!A423","v":413},{"$f":"'LV 4'!C423","v":12.806034819955148},null,null,null,{"$f":"'LV 4'!D423","v":3.3445533624639436}]
[{"$f":"'LV 4'!A424","v":414},{"$f":"'LV 4'!C424","v":12.802972124481498},null,null,null,{"$f":"'LV 4'!D424","v":3.3442575641104018}]
[{"$f":"'LV 4'!A425","v":415},{"$f":"'LV 4'!C425","v":12.799994296838465},null,null,null,{"$f":"'LV 4'!D425","v":3.3439448224015722}]
[{"$f":"'LV 4'!A426","v":416},{"$f":"'LV 4'!C426","v":12.79710589385088},null,null,null,{"$f":"'LV 4'!D426","v":3.3436156316853745}]
[{"$f":"'LV 4'!A427","v":417},{"$f":"'LV 4'!C427","v":12.794311329862524},null,null,null,{"$f":"'LV 4'!D427","v":3.3432705115617516}]
[{"$f":"'LV 4'!A428","v":418},{"$f":"'LV 4'!C428","v":12.791614870352587},null,null,null,{"$f":"'LV 4'!D428","v":3.3429100060270169}]
[{"$f":"'LV 4'!A429","v":419},{"$f":"'LV 4'!C429","v":12.789020625801209},null,null,null,{"$f":"'LV 4'!D429","v":3.3425346825826439}]
[{"$f":"'LV 4'!A430","v":420},{"$f":"'LV 4'!C430","v":12.786532545810516},null,null,null,{"$f":"'LV 4'!D430","v":3.3421451313101618}]
[{"$f":"'LV 4'!A431","v":421},{"$f":"'LV 4'!C431","v":12.784154413487126},null,null,null,{"$f":"'LV 4'!D431","v":3.3417419639138579}]
[{"$f":"'LV 4'!A432","v":422},{"$f":"'LV 4'!C432","v":12.781889840091599},null,null,null,{"$f":"'LV 4'!D432","v":3.3413258127330101}]
[{"$f":"'LV 4'!A433","v":423},{"$f":"'LV 4'!C433","v":12.779742259959875},null,null,null,{"$f":"'LV 4'!D433","v":3.3408973297254132}]
[{"$f":"'LV 4'!A434","v":424},{"$f":"'LV 4'!C434","v":12.777714925701279},null,null,null,{"$f":"'LV 4'!D434","v":3.340457185423976}]
[{"$f":"'LV 4'!A435","v":425},{"$f":"'LV 4'!C435","v":12.775810903677272},null,null,null,{"$f":"'LV 4'!D435","v":3.3400060678681878}]
[{"$f":"'LV 4'!A436","v":426},{"$f":"'LV 4'!C436","v":12.77403306976467},null,null,null,{"$f":"'LV 4'!D436","v":3.3395446815122702}]
[{"$f":"'LV 4'!A437","v":427},{"$f":"'LV 4'!C437","v":12.77238410540669},null,null,null,{"$f":"'LV 4'!D437","v":3.3390737461118407}]
[{"$f":"'LV 4'!A438","v":428},{"$f":"'LV 4'!C438","v":12.770866493954761},null,null,null,{"$f":"'LV 4'!D438","v":3.3385939955909243}]
[{"$f":"'LV 4'!A439","v":429},{"$f":"'LV 4'!C439","v":12.769482517303699},null,null,null,{"$f":"'LV 4'!D439","v":3.3381061768911486}]
[{"$f":"'LV 4'!A440","v":430},{"$f":"'LV 4'!C440","v":12.768234252822444},null,null,null,{"$f":"'LV 4'!D440","v":3.3376110488049697}]
[{"$f":"'LV 4'!A441","v":431},{"$f":"'LV 4'!C441","v":12.767123570582253},null,null,null,{"$f":"'LV 4'!D441","v":3.337109380794764}]
[{"$f":"'LV 4'!A442","v":432},{"$f":"'LV 4'!C442","v":12.76615213088388},null,null,null,{"$f":"'LV 4'!D442","v":3.3366019517996239}]
[{"$f":"'LV 4'!A443","v":433},{"$f":"'LV 4'!C443","v":12.765321382084958},null,null,null,{"$f":"'LV 4'!D443","v":3.3360895490316853}]
[{"$f":"'LV 4'!A444","v":434},{"$f":"'LV 4'!C444","v":12.764632558728538},null,null,null,{"$f":"'LV 4'!D444","v":3.3355729667638059}]
[{"$f":"'LV 4'!A445","v":435},{"$f":"'LV 4'!C445","v":12.764086679973371},null,null,null,{"$f":"'LV 4'!D445","v":3.3350530051104004}]
[{"$f":"'LV 4'!A446","v":436},{"$f":"'LV 4'!C446","v":12.76368454832631},null,null,null,{"$f":"'LV 4'!D446","v":3.334530468803226}]
[{"$f":"'LV 4'!A447","v":437},{"$f":"'LV 4'!C447","v":12.763426748676908},null,null,null,{"$f":"'LV 4'!D447","v":3.3340061659638929}]
[{"$f":"'LV 4'!A448","v":438},{"$f":"'LV 4'!C448","v":12.763313647634016},null,null,null,{"$f":"'LV 4'!D448","v":3.3334809068748572}]
[{"$f":"'LV 4'!A449","v":439},{"$f":"'LV 4'!C449","v":12.763345393163979},null,null,null,{"$f":"'LV 4'!D449","v":3.3329555027506346}]
[{"$f":"'LV 4'!A450","v":440},{"$f":"'LV 4'!C450","v":12.763521914529747},null,null,null,{"$f":"'LV 4'!D450","v":3.3324307645109501}]
[{"$f":"'LV 4'!A451","v":441},{"$f":"'LV 4'!C451","v":12.763842922530012},null,null,null,{"$f":"'LV 4'!D451","v":3.3319075015575161}]
[{"$f":"'LV 4'!A452","v":442},{"$f":"'LV 4'!C452","v":12.764307910037241},null,null,null,{"$f":"'LV 4'!D452","v":3.331386520556106}]
[{"$f":"'LV 4'!A453","v":443},{"$f":"'LV 4'!C453","v":12.764916152833264},null,null,null,{"$f":"'LV 4'!D453","v":3.330868624225567}]
[{"$f":"'LV 4'!A454","v":444},{"$f":"'LV 4'!C454","v":12.765666710740865},null,null,null,{"$f":"'LV 4'!D454","v":3.3303546101353874}]
[{"$f":"'LV 4'!A455","v":445},{"$f":"'LV 4'!C455","v":12.766558429049603},null,null,null,{"$f":"'LV 4'!D455","v":3.3298452695134073}]
[{"$f":"'LV 4'!A456","v":446},{"$f":"'LV 4'!C456","v":12.767589940233885},null,null,null,{"$f":"'LV 4'!D456","v":3.3293413860652317}]
[{"$f":"'LV 4'!A457","v":447},{"$f":"'LV 4'!C457","v":12.768759665961108},null,null,null,{"$f":"'LV 4'!D457","v":3.3288437348068771}]
[{"$f":"'LV 4'!A458","v":448},{"$f":"'LV 4'!C458","v":12.770065819387479},null,null,null,{"$f":"'LV 4'!D458","v":3.3283530809121542}]
[{"$f":"'LV 4'!A459","v":449},{"$f":"'LV 4'!C459","v":12.771506407738915},null,null,null,{"$f":"'LV 4'!D459","v":3.3278701785762594}]
[{"$f":"'LV 4'!A460","v":450},{"$f":"'LV 4'!C460","v":12.773079235174205},null,null,null,{"$f":"'LV 4'!D460","v":3.3273957698970129}]
[{"$f":"'LV 4'!A461","v":451},{"$f":"'LV 4'!C461","v":12.774781905927426},null,null,null,{"$f":"'LV 4'!D461","v":3.3269305837751579}]
[{"$f":"'LV 4'!A462","v":452},{"$f":"'LV 4'!C462","v":12.776611827726375},null,null,null,{"$f":"'LV 4'!D462","v":3.3264753348350995}]
[{"$f":"'LV 4'!A463","v":453},{"$f":"'LV 4'!C463","v":12.778566215483538},null,null,null,{"$f":"'LV 4'!D463","v":3.3260307223674319}]
[{"$f":"'LV 4'!A464","v":454},{"$f":"'LV 4'!C464","v":12.780642095255935},null,null,null,{"$f":"'LV 4'!D464","v":3.3255974292945711}]
[{"$f":"'LV 4'!A465","v":455},{"$f":"'LV 4'!C465","v":12.782836308469919},null,null,null,{"$f":"'LV 4'!D465","v":3.3251761211607822}]
[{"$f":"'LV 4'!A466","v":456},{"$f":"'LV 4'!C466","v":12.78514551640677},null,null,null,{"$f":"'LV 4'!D466","v":3.3247674451478533}]
[{"$f":"'LV 4'!A467","v":457},{"$f":"'LV 4'!C467","v":12.787566204944671},null,null,null,{"$f":"'LV 4'!D467","v":3.3243720291176402}]
[{"$f":"'LV 4'!A468","v":458},{"$f":"'LV 4'!C468","v":12.790094689552433},null,null,null,{"$f":"'LV 4'!D468","v":3.3239904806826743}]
[{"$f":"'LV 4'!A469","v":459},{"$f":"'LV 4'!C469","v":12.792727120530023},null,null,null,{"$f":"'LV 4'!D469","v":3.3236233863059943}]
[{"$f":"'LV 4'!A470","v":460},{"$f":"'LV 4'!C470","v":12.795459488490708},null,null,null,{"$f":"'LV 4'!D470","v":3.3232713104313278}]
[{"$f":"'LV 4'!A471","v":461},{"$f":"'LV 4'!C471","v":12.798287630079354},null,null,null,{"$f":"'LV 4'!D471","v":3.3229347946447221}]
[{"$f":"'LV 4'!A472","v":462},{"$f":"'LV 4'!C472","v":12.801207233921083},null,null,null,{"$f":"'LV 4'!D472","v":3.322614356868685}]
[{"$f":"'LV 4'!A473","v":463},{"$f":"'LV 4'!C473","v":12.804213846794259},null,null,null,{"$f":"'LV 4'!D473","v":3.3223104905898704}]
[{"$f":"'LV 4'!A474","v":464},{"$f":"'LV 4'!C474","v":12.807302880021389},null,null,null,{"$f":"'LV 4'!D474","v":3.3220236641213048}]
[{"$f":"'LV 4'!A475","v":465},{"$f":"'LV 4'!C475","v":12.810469616071281},null,null,null,{"$f":"'LV 4'!D475","v":3.321754319900124}]
[{"$f":"'LV 4'!A476","v":466},{"$f":"'LV 4'!C476","v":12.8137092153654},null,null,null,{"$f":"'LV 4'!D476","v":3.3215028738217476}]
[{"$f":"'LV 4'!A477","v":467},{"$f":"'LV 4'!C477","v":12.817016723281096},null,null,null,{"$f":"'LV 4'!D477","v":3.321269714611395}]
[{"$f":"'LV 4'!A478","v":468},{"$f":"'LV 4'!C478","v":12.820387077343995},null,null,null,{"$f":"'LV 4'!D478","v":3.3210552032338043}]
[{"$f":"'LV 4'!A479","v":469},{"$f":"'LV 4'!C479","v":12.823815114601482},null,null,null,{"$f":"'LV 4'!D479","v":3.3208596723419821}]
[{"$f":"'LV 4'!A480","v":470},{"$f":"'LV 4'!C480","v":12.827295579168908},null,null,null,{"$f":"'LV 4'!D480","v":3.3206834257657789}]
[{"$f":"'LV 4'!A481","v":471},{"$f":"'LV 4'!C481","v":12.830823129939715},null,null,null,{"$f":"'LV 4'!D481","v":3.3205267380410453}]
[{"$f":"'LV 4'!A482","v":472},{"$f":"'LV 4'!C482","v":12.834392348450368},null,null,null,{"$f":"'LV 4'!D482","v":3.3203898539800902}]
[{"$f":"'LV 4'!A483","v":473},{"$f":"'LV 4'!C483","v":12.837997746890577},null,null,null,{"$f":"'LV 4'!D483","v":3.3202729882841164}]
[{"$f":"'LV 4'!A484","v":474},{"$f":"'LV 4'!C484","v":12.841633776248944},null,null,null,{"$f":"'LV 4'!D484","v":3.3201763251982794}]
[{"$f":"'LV 4'!A485","v":475},{"$f":"'LV 4'!C485","v":12.845294834583772},null,null,null,{"$f":"'LV 4'!D485","v":3.3201000182099638}]
[{"$f":"'LV 4'!A486","v":476},{"$f":"'LV 4'!C486","v":12.848975275408437},null,null,null,{"$f":"'LV 4'!D486","v":3.320044189790841}]
[{"$f":"'LV 4'!A487","v":477},{"$f":"'LV 4'!C487","v":12.852669416180319},null,null,null,{"$f":"'LV 4'!D487","v":3.3200089311832173}]
[{"$f":"'LV 4'!A488","v":478},{"$f":"'LV 4'!C488","v":12.856371546881947},null,null,null,{"$f":"'LV 4'!D488","v":3.3199943022311431}]
[{"$f":"'LV 4'!A489","v":479},{"$f":"'LV 4'!C489","v":12.860075938682641},null,null,null,{"$f":"'LV 4'!D489","v":3.3200003312567095}]
[{"$f":"'LV 4'!A490","v":480},{"$f":"'LV 4'!C490","v":12.863776852668597},null,null,null,{"$f":"'LV 4'!D490","v":3.3200270149819029}]
[{"$f":"'LV 4'!A491","v":481},{"$f":"'LV 4'!C491","v":12.867468548628999},null,null,null,{"$f":"'LV 4'!D491","v":3.3200743184963466}]
[{"$f":"'LV 4'!A492","v":482},{"$f":"'LV 4'!C492","v":12.871145293885428},null,null,null,{"$f":"'LV 4'!D492","v":3.320142175271203}]
[{"$f":"'LV 4'!A493","v":483},{"$f":"'LV 4'!C493","v":12.874801372151509},null,null,null,{"$f":"'LV 4'!D493","v":3.3202304872194599}]
[{"$f":"'LV 4'!A494","v":484},{"$f":"'LV 4'!C494","v":12.878431092409432},null,null,null,{"$f":"'LV 4'!D494","v":3.3203391248027638}]
[{"$f":"'LV 4'!A495","v":485},{"$f":"'LV 4'!C495","v":12.882028797789719},null,null,null,{"$f":"'LV 4'!D495","v":3.320467927184918}]
[{"$f":"'LV 4'!A496","v":486},{"$f":"'LV 4'!C496","v":12.885588874440309},null,null,null,{"$f":"'LV 4'!D496","v":3.3206167024320905}]
[{"$f":"'LV 4'!A497","v":487},{"$f":"'LV 4'!C497","v":12.889105760370814},null,null,null,{"$f":"'LV 4'!D497","v":3.3207852277597318}]
[{"$f":"'LV 4'!A498","v":488},{"$f":"'LV 4'!C498","v":12.892573954257559},null,null,null,{"$f":"'LV 4'!D498","v":3.3209732498261273}]
[{"$f":"'LV 4'!A499","v":489},{"$f":"'LV 4'!C499","v":12.895988024194835},null,null,null,{"$f":"'LV 4'!D499","v":3.3211804850724556}]
[{"$f":"'LV 4'!A500","v":490},{"$f":"'LV 4'!C500","v":12.89934261637762},null,null,null,{"$f":"'LV 4'!D500","v":3.3214066201091548}]
[{"$f":"'LV 4'!A501","v":491},{"$f":"'LV 4'!C501","v":12.902632463700858},null,null,null,{"$f":"'LV 4'!D501","v":3.3216513121483286}]
[{"$f":"'LV 4'!A502","v":492},{"$f":"'LV 4'!C502","v":12.905852394260327},null,null,null,{"$f":"'LV 4'!D502","v":3.3219141894818627}]
[{"$f":"'LV 4'!A503","v":493},{"$f":"'LV 4'!C503","v":12.90899733973999},null,null,null,{"$f":"'LV 4'!D503","v":3.3221948520048463}]
[{"$f":"'LV 4'!A504","v":494},{"$f":"'LV 4'!C504","v":12.912062343670714},null,null,null,{"$f":"'LV 4'!D504","v":3.3224928717838216}]
[{"$f":"'LV 4'!A505","v":495},{"$f":"'LV 4'!C505","v":12.915042569545223},null,null,null,{"$f":"'LV 4'!D505","v":3.3228077936693179}]
[{"$f":"'LV 4'!A506","v":496},{"$f":"'LV 4'!C506","v":12.917933308774185},null,null,null,{"$f":"'LV 4'!D506","v":3.3231391359520415}]
[{"$f":"'LV 4'!A507","v":497},{"$f":"'LV 4'!C507","v":12.920729988468381},null,null,null,{"$f":"'LV 4'!D507","v":3.3234863910620303}]
[{"$f":"'LV 4'!A508","v":498},{"$f":"'LV 4'!C508","v":12.92342817903203},null,null,null,{"$f":"'LV 4'!D508","v":3.3238490263099942}]
[{"$f":"'LV 4'!A509","v":499},{"$f":"'LV 4'!C509","v":12.926023601552483},null,null,null,{"$f":"'LV 4'!D509","v":3.3242264846699912}]
[{"$f":"'LV 4'!A510","v":500},{"$f":"'LV 4'!C510","v":12.92851213497168},null,null,null,{"$f":"'LV 4'!D510","v":3.3246181856025134}]
[{"$f":"'LV 4'!A511","v":501},{"$f":"'LV 4'!C511","v":12.930889823024996},null,null,null,{"$f":"'LV 4'!D511","v":3.3250235259169738}]
[{"$f":"'LV 4'!A512","v":" "},{"$f":"'LV 4'!C512","v":" "},null,null,null,{"$f":"'LV 4'!D512","v":" "}]
[{"$f":"'LV 4'!A513","v":" "},{"$f":"'LV 4'!C513","v":" "},null,null,null,{"$f":"'LV 4'!D513","v":" "}]
[{"$f":"'LV 4'!A514","v":" "},{"$f":"'LV 4'!C514","v":" "},null,null,null,{"$f":"'LV 4'!D514","v":" "}]
[{"$f":"'LV 4'!A515","v":" "},{"$f":"'LV 4'!C515","v":" "},null,null,null,{"$f":"'LV 4'!D515","v":" "}]
[{"$f":"'LV 4'!A516","v":" "},{"$f":"'LV 4'!C516","v":" "},null,null,null,{"$f":"'LV 4'!D516","v":" "}]
[{"$f":"'LV 4'!A517","v":" "},{"$f":"'LV 4'!C517","v":" "},null,null,null,{"$f":"'LV 4'!D517","v":" "}]
[{"$f":"'LV 4'!A518","v":" "},{"$f":"'LV 4'!C518","v":" "},null,null,null,{"$f":"'LV 4'!D518","v":" "}]
[{"$f":"'LV 4'!A519","v":" "},{"$f":"'LV 4'!C519","v":" "},null,null,null,{"$f":"'LV 4'!D519","v":" "}]
[{"$f":"'LV 4'!A520","v":" "},{"$f":"'LV 4'!C520","v":" "},null,null,null,{"$f":"'LV 4'!D520","v":" "}]
[{"$f":"'LV 4'!A521","v":" "},{"$f":"'LV 4'!C521","v":" "},null,null,null,{"$f":"'LV 4'!D521","v":" "}]
[{"$f":"'LV 4'!A522","v":" "},{"$f":"'LV 4'!C522","v":" "},null,null,null,{"$f":"'LV 4'!D522","v":" "}]
[{"$f":"'LV 4'!A523","v":" "},{"$f":"'LV 4'!C523","v":" "},null,null,null,{"$f":"'LV 4'!D523","v":" "}]
[{"$f":"'LV 4'!A524","v":" "},{"$f":"'LV 4'!C524","v":" "},null,null,null,{"$f":"'LV 4'!D524","v":" "}]
[{"$f":"'LV 4'!A525","v":" "},{"$f":"'LV 4'!C525","v":" "},null,null,null,{"$f":"'LV 4'!D525","v":" "}]
[{"$f":"'LV 4'!A526","v":" "},{"$f":"'LV 4'!C526","v":" "},null,null,null,{"$f":"'LV 4'!D526","v":" "}]
[{"$f":"'LV 4'!A527","v":" "},{"$f":"'LV 4'!C527","v":" "},null,null,null,{"$f":"'LV 4'!D527","v":" "}]
[{"$f":"'LV 4'!A528","v":" "},{"$f":"'LV 4'!C528","v":" "},null,null,null,{"$f":"'LV 4'!D528","v":" "}]
[{"$f":"'LV 4'!A529","v":" "},{"$f":"'LV 4'!C529","v":" "},null,null,null,{"$f":"'LV 4'!D529","v":" "}]
[{"$f":"'LV 4'!A530","v":" "},{"$f":"'LV 4'!C530","v":" "},null,null,null,{"$f":"'LV 4'!D530","v":" "}]
[{"$f":"'LV 4'!A531","v":" "},{"$f":"'LV 4'!C531","v":" "},null,null,null,{"$f":"'LV 4'!D531","v":" "}]
[{"$f":"'LV 4'!A532","v":" "},{"$f":"'LV 4'!C532","v":" "},null,null,null,{"$f":"'LV 4'!D532","v":" "}]
[{"$f":"'LV 4'!A533","v":" "},{"$f":"'LV 4'!C533","v":" "},null,null,null,{"$f":"'LV 4'!D533","v":" "}]
[{"$f":"'LV 4'!A534","v":" "},{"$f":"'LV 4'!C534","v":" "},null,null,null,{"$f":"'LV 4'!D534","v":" "}]
[{"$f":"'LV 4'!A535","v":" "},{"$f":"'LV 4'!C535","v":" "},null,null,null,{"$f":"'LV 4'!D535","v":" "}]
[{"$f":"'LV 4'!A536","v":" "},{"$f":"'LV 4'!C536","v":" "},null,null,null,{"$f":"'LV 4'!D536","v":" "}]
[{"$f":"'LV 4'!A537","v":" "},{"$f":"'LV 4'!C537","v":" "},null,null,null,{"$f":"'LV 4'!D537","v":" "}]
[{"$f":"'LV 4'!A538","v":" "},{"$f":"'LV 4'!C538","v":" "},null,null,null,{"$f":"'LV 4'!D538","v":" "}]
[{"$f":"'LV 4'!A539","v":" "},{"$f":"'LV 4'!C539","v":" "},null,null,null,{"$f":"'LV 4'!D539","v":" "}]
[{"$f":"'LV 4'!A540","v":" "},{"$f":"'LV 4'!C540","v":" "},null,null,null,{"$f":"'LV 4'!D540","v":" "}]
[{"$f":"'LV 4'!A541","v":" "},{"$f":"'LV 4'!C541","v":" "},null,null,null,{"$f":"'LV 4'!D541","v":" "}]
[{"$f":"'LV 4'!A542","v":" "},{"$f":"'LV 4'!C542","v":" "},null,null,null,{"$f":"'LV 4'!D542","v":" "}]
[{"$f":"'LV 4'!A543","v":" "},{"$f":"'LV 4'!C543","v":" "},null,null,null,{"$f":"'LV 4'!D543","v":" "}]
[{"$f":"'LV 4'!A544","v":" "},{"$f":"'LV 4'!C544","v":" "},null,null,null,{"$f":"'LV 4'!D544","v":" "}]
[{"$f":"'LV 4'!A545","v":" "},{"$f":"'LV 4'!C545","v":" "},null,null,null,{"$f":"'LV 4'!D545","v":" "}]
[{"$f":"'LV 4'!A546","v":" "},{"$f":"'LV 4'!C546","v":" "},null,null,null,{"$f":"'LV 4'!D546","v":" "}]
[{"$f":"'LV 4'!A547","v":" "},{"$f":"'LV 4'!C547","v":" "},null,null,null,{"$f":"'LV 4'!D547","v":" "}]
[{"$f":"'LV 4'!A548","v":" "},{"$f":"'LV 4'!C548","v":" "},null,null,null,{"$f":"'LV 4'!D548","v":" "}]
[{"$f":"'LV 4'!A549","v":" "},{"$f":"'LV 4'!C549","v":" "},null,null,null,{"$f":"'LV 4'!D549","v":" "}]
[{"$f":"'LV 4'!A550","v":" "},{"$f":"'LV 4'!C550","v":" "},null,null,null,{"$f":"'LV 4'!D550","v":" "}]
[{"$f":"'LV 4'!A551","v":" "},{"$f":"'LV 4'!C551","v":" "},null,null,null,{"$f":"'LV 4'!D551","v":" "}]
[{"$f":"'LV 4'!A552","v":" "},{"$f":"'LV 4'!C552","v":" "},null,null,null,{"$f":"'LV 4'!D552","v":" "}]
[{"$f":"'LV 4'!A553","v":" "},{"$f":"'LV 4'!C553","v":" "},null,null,null,{"$f":"'LV 4'!D553","v":" "}]
[{"$f":"'LV 4'!A554","v":" "},{"$f":"'LV 4'!C554","v":" "},null,null,null,{"$f":"'LV 4'!D554","v":" "}]
[{"$f":"'LV 4'!A555","v":" "},{"$f":"'LV 4'!C555","v":" "},null,null,null,{"$f":"'LV 4'!D555","v":" "}]
[{"$f":"'LV 4'!A556","v":" "},{"$f":"'LV 4'!C556","v":" "},null,null,null,{"$f":"'LV 4'!D556","v":" "}]
[{"$f":"'LV 4'!A557","v":" "},{"$f":"'LV 4'!C557","v":" "},null,null,null,{"$f":"'LV 4'!D557","v":" "}]
[{"$f":"'LV 4'!A558","v":" "},{"$f":"'LV 4'!C558","v":" "},null,null,null,{"$f":"'LV 4'!D558","v":" "}]
[{"$f":"'LV 4'!A559","v":" "},{"$f":"'LV 4'!C559","v":" "},null,null,null,{"$f":"'LV 4'!D559","v":" "}]
[{"$f":"'LV 4'!A560","v":" "},{"$f":"'LV 4'!C560","v":" "},null,null,null,{"$f":"'LV 4'!D560","v":" "}]
[{"$f":"'LV 4'!A561","v":" "},{"$f":"'LV 4'!C561","v":" "},null,null,null,{"$f":"'LV 4'!D561","v":" "}]
[{"$f":"'LV 4'!A562","v":" "},{"$f":"'LV 4'!C562","v":" "},null,null,null,{"$f":"'LV 4'!D562","v":" "}]
[{"$f":"'LV 4'!A563","v":" "},{"$f":"'LV 4'!C563","v":" "},null,null,null,{"$f":"'LV 4'!D563","v":" "}]
[{"$f":"'LV 4'!A564","v":" "},{"$f":"'LV 4'!C564","v":" "},null,null,null,{"$f":"'LV 4'!D564","v":" "}]
[{"$f":"'LV 4'!A565","v":" "},{"$f":"'LV 4'!C565","v":" "},null,null,null,{"$f":"'LV 4'!D565","v":" "}]
[{"$f":"'LV 4'!A566","v":" "},{"$f":"'LV 4'!C566","v":" "},null,null,null,{"$f":"'LV 4'!D566","v":" "}]
[{"$f":"'LV 4'!A567","v":" "},{"$f":"'LV 4'!C567","v":" "},null,null,null,{"$f":"'LV 4'!D567","v":" "}]
[{"$f":"'LV 4'!A568","v":" "},{"$f":"'LV 4'!C568","v":" "},null,null,null,{"$f":"'LV 4'!D568","v":" "}]
[{"$f":"'LV 4'!A569","v":" "},{"$f":"'LV 4'!C569","v":" "},null,null,null,{"$f":"'LV 4'!D569","v":" "}]
[{"$f":"'LV 4'!A570","v":" "},{"$f":"'LV 4'!C570","v":" "},null,null,null,{"$f":"'LV 4'!D570","v":" "}]
[{"$f":"'LV 4'!A571","v":" "},{"$f":"'LV 4'!C571","v":" "},null,null,null,{"$f":"'LV 4'!D571","v":" "}]
[{"$f":"'LV 4'!A572","v":" "},{"$f":"'LV 4'!C572","v":" "},null,null,null,{"$f":"'LV 4'!D572","v":" "}]
[{"$f":"'LV 4'!A573","v":" "},{"$f":"'LV 4'!C573","v":" "},null,null,null,{"$f":"'LV 4'!D573","v":" "}]
[{"$f":"'LV 4'!A574","v":" "},{"$f":"'LV 4'!C574","v":" "},null,null,null,{"$f":"'LV 4'!D574","v":" "}]
[{"$f":"'LV 4'!A575","v":" "},{"$f":"'LV 4'!C575","v":" "},null,null,null,{"$f":"'LV 4'!D575","v":" "}]
[{"$f":"'LV 4'!A576","v":" "},{"$f":"'LV 4'!C576","v":" "},null,null,null,{"$f":"'LV 4'!D576","v":" "}]
[{"$f":"'LV 4'!A577","v":" "},{"$f":"'LV 4'!C577","v":" "},null,null,null,{"$f":"'LV 4'!D577","v":" "}]
[{"$f":"'LV 4'!A578","v":" "},{"$f":"'LV 4'!C578","v":" "},null,null,null,{"$f":"'LV 4'!D578","v":" "}]
[{"$f":"'LV 4'!A579","v":" "},{"$f":"'LV 4'!C579","v":" "},null,null,null,{"$f":"'LV 4'!D579","v":" "}]
[{"$f":"'LV 4'!A580","v":" "},{"$f":"'LV 4'!C580","v":" "},null,null,null,{"$f":"'LV 4'!D580","v":" "}]
[{"$f":"'LV 4'!A581","v":" "},{"$f":"'LV 4'!C581","v":" "},null,null,null,{"$f":"'LV 4'!D581","v":" "}]
[{"$f":"'LV 4'!A582","v":" "},{"$f":"'LV 4'!C582","v":" "},null,null,null,{"$f":"'LV 4'!D582","v":" "}]
[{"$f":"'LV 4'!A583","v":" "},{"$f":"'LV 4'!C583","v":" "},null,null,null,{"$f":"'LV 4'!D583","v":" "}]
[{"$f":"'LV 4'!A584","v":" "},{"$f":"'LV 4'!C584","v":" "},null,null,null,{"$f":"'LV 4'!D584","v":" "}]
[{"$f":"'LV 4'!A585","v":" "},{"$f":"'LV 4'!C585","v":" "},null,null,null,{"$f":"'LV 4'!D585","v":" "}]
[{"$f":"'LV 4'!A586","v":" "},{"$f":"'LV 4'!C586","v":" "},null,null,null,{"$f":"'LV 4'!D586","v":" "}]
[{"$f":"'LV 4'!A587","v":" "},{"$f":"'LV 4'!C587","v":" "},null,null,null,{"$f":"'LV 4'!D587","v":" "}]
[{"$f":"'LV 4'!A588","v":" "},{"$f":"'LV 4'!C588","v":" "},null,null,null,{"$f":"'LV 4'!D588","v":" "}]
[{"$f":"'LV 4'!A589","v":" "},{"$f":"'LV 4'!C589","v":" "},null,null,null,{"$f":"'LV 4'!D589","v":" "}]
[{"$f":"'LV 4'!A590","v":" "},{"$f":"'LV 4'!C590","v":" "},null,null,null,{"$f":"'LV 4'!D590","v":" "}]
[{"$f":"'LV 4'!A591","v":" "},{"$f":"'LV 4'!C591","v":" "},null,null,null,{"$f":"'LV 4'!D591","v":" "}]
[{"$f":"'LV 4'!A592","v":" "},{"$f":"'LV 4'!C592","v":" "},null,null,null,{"$f":"'LV 4'!D592","v":" "}]
[{"$f":"'LV 4'!A593","v":" "},{"$f":"'LV 4'!C593","v":" "},null,null,null,{"$f":"'LV 4'!D593","v":" "}]
[{"$f":"'LV 4'!A594","v":" "},{"$f":"'LV 4'!C594","v":" "},null,null,null,{"$f":"'LV 4'!D594","v":" "}]
[{"$f":"'LV 4'!A595","v":" "},{"$f":"'LV 4'!C595","v":" "},null,null,null,{"$f":"'LV 4'!D595","v":" "}]
[{"$f":"'LV 4'!A596","v":" "},{"$f":"'LV 4'!C596","v":" "},null,null,null,{"$f":"'LV 4'!D596","v":" "}]
[{"$f":"'LV 4'!A597","v":" "},{"$f":"'LV 4'!C597","v":" "},null,null,null,{"$f":"'LV 4'!D597","v":" "}]
[{"$f":"'LV 4'!A598","v":" "},{"$f":"'LV 4'!C598","v":" "},null,null,null,{"$f":"'LV 4'!D598","v":" "}]
[{"$f":"'LV 4'!A599","v":" "},{"$f":"'LV 4'!C599","v":" "},null,null,null,{"$f":"'LV 4'!D599","v":" "}]
[{"$f":"'LV 4'!A600","v":" "},{"$f":"'LV 4'!C600","v":" "},null,null,null,{"$f":"'LV 4'!D600","v":" "}]
[{"$f":"'LV 4'!A601","v":" "},{"$f":"'LV 4'!C601","v":" "},null,null,null,{"$f":"'LV 4'!D601","v":" "}]
[{"$f":"'LV 4'!A602","v":" "},{"$f":"'LV 4'!C602","v":" "},null,null,null,{"$f":"'LV 4'!D602","v":" "}]
[{"$f":"'LV 4'!A603","v":" "},{"$f":"'LV 4'!C603","v":" "},null,null,null,{"$f":"'LV 4'!D603","v":" "}]
[{"$f":"'LV 4'!A604","v":" "},{"$f":"'LV 4'!C604","v":" "},null,null,null,{"$f":"'LV 4'!D604","v":" "}]
[{"$f":"'LV 4'!A605","v":" "},{"$f":"'LV 4'!C605","v":" "},null,null,null,{"$f":"'LV 4'!D605","v":" "}]
[{"$f":"'LV 4'!A606","v":" "},{"$f":"'LV 4'!C606","v":" "},null,null,null,{"$f":"'LV 4'!D606","v":" "}]
[{"$f":"'LV 4'!A607","v":" "},{"$f":"'LV 4'!C607","v":" "},null,null,null,{"$f":"'LV 4'!D607","v":" "}]
[{"$f":"'LV 4'!A608","v":" "},{"$f":"'LV 4'!C608","v":" "},null,null,null,{"$f":"'LV 4'!D608","v":" "}]
[{"$f":"'LV 4'!A609","v":" "},{"$f":"'LV 4'!C609","v":" "},null,null,null,{"$f":"'LV 4'!D609","v":" "}]
[{"$f":"'LV 4'!A610","v":" "},{"$f":"'LV 4'!C610","v":" "},null,null,null,{"$f":"'LV 4'!D610","v":" "}]
[{"$f":"'LV 4'!A611","v":" "},{"$f":"'LV 4'!C611","v":" "},null,null,null,{"$f":"'LV 4'!D611","v":" "}]
[{"$f":"'LV 4'!A612","v":" "},{"$f":"'LV 4'!C612","v":" "},null,null,null,{"$f":"'LV 4'!D612","v":" "}]
[{"$f":"'LV 4'!A613","v":" "},{"$f":"'LV 4'!C613","v":" "},null,null,null,{"$f":"'LV 4'!D613","v":" "}]
[{"$f":"'LV 4'!A614","v":" "},{"$f":"'LV 4'!C614","v":" "},null,null,null,{"$f":"'LV 4'!D614","v":" "}]
[{"$f":"'LV 4'!A615","v":" "},{"$f":"'LV 4'!C615","v":" "},null,null,null,{"$f":"'LV 4'!D615","v":" "}]
[{"$f":"'LV 4'!A616","v":" "},{"$f":"'LV 4'!C616","v":" "},null,null,null,{"$f":"'LV 4'!D616","v":" "}]
[{"$f":"'LV 4'!A617","v":" "},{"$f":"'LV 4'!C617","v":" "},null,null,null,{"$f":"'LV 4'!D617","v":" "}]
[{"$f":"'LV 4'!A618","v":" "},{"$f":"'LV 4'!C618","v":" "},null,null,null,{"$f":"'LV 4'!D618","v":" "}]
[{"$f":"'LV 4'!A619","v":" "},{"$f":"'LV 4'!C619","v":" "},null,null,null,{"$f":"'LV 4'!D619","v":" "}]
[{"$f":"'LV 4'!A620","v":" "},{"$f":"'LV 4'!C620","v":" "},null,null,null,{"$f":"'LV 4'!D620","v":" "}]
[{"$f":"'LV 4'!A621","v":" "},{"$f":"'LV 4'!C621","v":" "},null,null,null,{"$f":"'LV 4'!D621","v":" "}]
[{"$f":"'LV 4'!A622","v":" "},{"$f":"'LV 4'!C622","v":" "},null,null,null,{"$f":"'LV 4'!D622","v":" "}]
[{"$f":"'LV 4'!A623","v":" "},{"$f":"'LV 4'!C623","v":" "},null,null,null,{"$f":"'LV 4'!D623","v":" "}]
[{"$f":"'LV 4'!A624","v":" "},{"$f":"'LV 4'!C624","v":" "},null,null,null,{"$f":"'LV 4'!D624","v":" "}]
[{"$f":"'LV 4'!A625","v":" "},{"$f":"'LV 4'!C625","v":" "},null,null,null,{"$f":"'LV 4'!D625","v":" "}]
[{"$f":"'LV 4'!A626","v":" "},{"$f":"'LV 4'!C626","v":" "},null,null,null,{"$f":"'LV 4'!D626","v":" "}]
[{"$f":"'LV 4'!A627","v":" "},{"$f":"'LV 4'!C627","v":" "},null,null,null,{"$f":"'LV 4'!D627","v":" "}]
[{"$f":"'LV 4'!A628","v":" "},{"$f":"'LV 4'!C628","v":" "},null,null,null,{"$f":"'LV 4'!D628","v":" "}]
[{"$f":"'LV 4'!A629","v":" "},{"$f":"'LV 4'!C629","v":" "},null,null,null,{"$f":"'LV 4'!D629","v":" "}]
[{"$f":"'LV 4'!A630","v":" "},{"$f":"'LV 4'!C630","v":" "},null,null,null,{"$f":"'LV 4'!D630","v":" "}]
[{"$f":"'LV 4'!A631","v":" "},{"$f":"'LV 4'!C631","v":" "},null,null,null,{"$f":"'LV 4'!D631","v":" "}]
[{"$f":"'LV 4'!A632","v":" "},{"$f":"'LV 4'!C632","v":" "},null,null,null,{"$f":"'LV 4'!D632","v":" "}]
[{"$f":"'LV 4'!A633","v":" "},{"$f":"'LV 4'!C633","v":" "},null,null,null,{"$f":"'LV 4'!D633","v":" "}]
[{"$f":"'LV 4'!A634","v":" "},{"$f":"'LV 4'!C634","v":" "},null,null,null,{"$f":"'LV 4'!D634","v":" "}]
[{"$f":"'LV 4'!A635","v":" "},{"$f":"'LV 4'!C635","v":" "},null,null,null,{"$f":"'LV 4'!D635","v":" "}]
[{"$f":"'LV 4'!A636","v":" "},{"$f":"'LV 4'!C636","v":" "},null,null,null,{"$f":"'LV 4'!D636","v":" "}]
[{"$f":"'LV 4'!A637","v":" "},{"$f":"'LV 4'!C637","v":" "},null,null,null,{"$f":"'LV 4'!D637","v":" "}]
[{"$f":"'LV 4'!A638","v":" "},{"$f":"'LV 4'!C638","v":" "},null,null,null,{"$f":"'LV 4'!D638","v":" "}]
[{"$f":"'LV 4'!A639","v":" "},{"$f":"'LV 4'!C639","v":" "},null,null,null,{"$f":"'LV 4'!D639","v":" "}]
[{"$f":"'LV 4'!A640","v":" "},{"$f":"'LV 4'!C640","v":" "},null,null,null,{"$f":"'LV 4'!D640","v":" "}]
[{"$f":"'LV 4'!A641","v":" "},{"$f":"'LV 4'!C641","v":" "},null,null,null,{"$f":"'LV 4'!D641","v":" "}]
[{"$f":"'LV 4'!A642","v":" "},{"$f":"'LV 4'!C642","v":" "},null,null,null,{"$f":"'LV 4'!D642","v":" "}]
[{"$f":"'LV 4'!A643","v":" "},{"$f":"'LV 4'!C643","v":" "},null,null,null,{"$f":"'LV 4'!D643","v":" "}]
[{"$f":"'LV 4'!A644","v":" "},{"$f":"'LV 4'!C644","v":" "},null,null,null,{"$f":"'LV 4'!D644","v":" "}]
[{"$f":"'LV 4'!A645","v":" "},{"$f":"'LV 4'!C645","v":" "},null,null,null,{"$f":"'LV 4'!D645","v":" "}]
[{"$f":"'LV 4'!A646","v":" "},{"$f":"'LV 4'!C646","v":" "},null,null,null,{"$f":"'LV 4'!D646","v":" "}]
[{"$f":"'LV 4'!A647","v":" "},{"$f":"'LV 4'!C647","v":" "},null,null,null,{"$f":"'LV 4'!D647","v":" "}]
[{"$f":"'LV 4'!A648","v":" "},{"$f":"'LV 4'!C648","v":" "},null,null,null,{"$f":"'LV 4'!D648","v":" "}]
[{"$f":"'LV 4'!A649","v":" "},{"$f":"'LV 4'!C649","v":" "},null,null,null,{"$f":"'LV 4'!D649","v":" "}]
[{"$f":"'LV 4'!A650","v":" "},{"$f":"'LV 4'!C650","v":" "},null,null,null,{"$f":"'LV 4'!D650","v":" "}]
[{"$f":"'LV 4'!A651","v":" "},{"$f":"'LV 4'!C651","v":" "},null,null,null,{"$f":"'LV 4'!D651","v":" "}]
[{"$f":"'LV 4'!A652","v":" "},{"$f":"'LV 4'!C652","v":" "},null,null,null,{"$f":"'LV 4'!D652","v":" "}]
[{"$f":"'LV 4'!A653","v":" "},{"$f":"'LV 4'!C653","v":" "},null,null,null,{"$f":"'LV 4'!D653","v":" "}]
[{"$f":"'LV 4'!A654","v":" "},{"$f":"'LV 4'!C654","v":" "},null,null,null,{"$f":"'LV 4'!D654","v":" "}]
[{"$f":"'LV 4'!A655","v":" "},{"$f":"'LV 4'!C655","v":" "},null,null,null,{"$f":"'LV 4'!D655","v":" "}]
[{"$f":"'LV 4'!A656","v":" "},{"$f":"'LV 4'!C656","v":" "},null,null,null,{"$f":"'LV 4'!D656","v":" "}]
[{"$f":"'LV 4'!A657","v":" "},{"$f":"'LV 4'!C657","v":" "},null,null,null,{"$f":"'LV 4'!D657","v":" "}]
[{"$f":"'LV 4'!A658","v":" "},{"$f":"'LV 4'!C658","v":" "},null,null,null,{"$f":"'LV 4'!D658","v":" "}]
[{"$f":"'LV 4'!A659","v":" "},{"$f":"'LV 4'!C659","v":" "},null,null,null,{"$f":"'LV 4'!D659","v":" "}]
[{"$f":"'LV 4'!A660","v":" "},{"$f":"'LV 4'!C660","v":" "},null,null,null,{"$f":"'LV 4'!D660","v":" "}]
[{"$f":"'LV 4'!A661","v":" "},{"$f":"'LV 4'!C661","v":" "},null,null,null,{"$f":"'LV 4'!D661","v":" "}]
[{"$f":"'LV 4'!A662","v":" "},{"$f":"'LV 4'!C662","v":" "},null,null,null,{"$f":"'LV 4'!D662","v":" "}]
[{"$f":"'LV 4'!A663","v":" "},{"$f":"'LV 4'!C663","v":" "},null,null,null,{"$f":"'LV 4'!D663","v":" "}]
[{"$f":"'LV 4'!A664","v":" "},{"$f":"'LV 4'!C664","v":" "},null,null,null,{"$f":"'LV 4'!D664","v":" "}]
[{"$f":"'LV 4'!A665","v":" "},{"$f":"'LV 4'!C665","v":" "},null,null,null,{"$f":"'LV 4'!D665","v":" "}]
[{"$f":"'LV 4'!A666","v":" "},{"$f":"'LV 4'!C666","v":" "},null,null,null,{"$f":"'LV 4'!D666","v":" "}]
[{"$f":"'LV 4'!A667","v":" "},{"$f":"'LV 4'!C667","v":" "},null,null,null,{"$f":"'LV 4'!D667","v":" "}]
[{"$f":"'LV 4'!A668","v":" "},{"$f":"'LV 4'!C668","v":" "},null,null,null,{"$f":"'LV 4'!D668","v":" "}]
[{"$f":"'LV 4'!A669","v":" "},{"$f":"'LV 4'!C669","v":" "},null,null,null,{"$f":"'LV 4'!D669","v":" "}]
[{"$f":"'LV 4'!A670","v":" "},{"$f":"'LV 4'!C670","v":" "},null,null,null,{"$f":"'LV 4'!D670","v":" "}]
[{"$f":"'LV 4'!A671","v":" "},{"$f":"'LV 4'!C671","v":" "},null,null,null,{"$f":"'LV 4'!D671","v":" "}]
[{"$f":"'LV 4'!A672","v":" "},{"$f":"'LV 4'!C672","v":" "},null,null,null,{"$f":"'LV 4'!D672","v":" "}]
[{"$f":"'LV 4'!A673","v":" "},{"$f":"'LV 4'!C673","v":" "},null,null,null,{"$f":"'LV 4'!D673","v":" "}]
[{"$f":"'LV 4'!A674","v":" "},{"$f":"'LV 4'!C674","v":" "},null,null,null,{"$f":"'LV 4'!D674","v":" "}]
[{"$f":"'LV 4'!A675","v":" "},{"$f":"'LV 4'!C675","v":" "},null,null,null,{"$f":"'LV 4'!D675","v":" "}]
[{"$f":"'LV 4'!A676","v":" "},{"$f":"'LV 4'!C676","v":" "},null,null,null,{"$f":"'LV 4'!D676","v":" "}]
[{"$f":"'LV 4'!A677","v":" "},{"$f":"'LV 4'!C677","v":" "},null,null,null,{"$f":"'LV 4'!D677","v":" "}]
[{"$f":"'LV 4'!A678","v":" "},{"$f":"'LV 4'!C678","v":" "},null,null,null,{"$f":"'LV 4'!D678","v":" "}]
[{"$f":"'LV 4'!A679","v":" "},{"$f":"'LV 4'!C679","v":" "},null,null,null,{"$f":"'LV 4'!D679","v":" "}]
[{"$f":"'LV 4'!A680","v":" "},{"$f":"'LV 4'!C680","v":" "},null,null,null,{"$f":"'LV 4'!D680","v":" "}]
[{"$f":"'LV 4'!A681","v":" "},{"$f":"'LV 4'!C681","v":" "},null,null,null,{"$f":"'LV 4'!D681","v":" "}]
[{"$f":"'LV 4'!A682","v":" "},{"$f":"'LV 4'!C682","v":" "},null,null,null,{"$f":"'LV 4'!D682","v":" "}]
[{"$f":"'LV 4'!A683","v":" "},{"$f":"'LV 4'!C683","v":" "},null,null,null,{"$f":"'LV 4'!D683","v":" "}]
[{"$f":"'LV 4'!A684","v":" "},{"$f":"'LV 4'!C684","v":" "},null,null,null,{"$f":"'LV 4'!D684","v":" "}]
[{"$f":"'LV 4'!A685","v":" "},{"$f":"'LV 4'!C685","v":" "},null,null,null,{"$f":"'LV 4'!D685","v":" "}]
[{"$f":"'LV 4'!A686","v":" "},{"$f":"'LV 4'!C686","v":" "},null,null,null,{"$f":"'LV 4'!D686","v":" "}]
[{"$f":"'LV 4'!A687","v":" "},{"$f":"'LV 4'!C687","v":" "},null,null,null,{"$f":"'LV 4'!D687","v":" "}]
[{"$f":"'LV 4'!A688","v":" "},{"$f":"'LV 4'!C688","v":" "},null,null,null,{"$f":"'LV 4'!D688","v":" "}]
[{"$f":"'LV 4'!A689","v":" "},{"$f":"'LV 4'!C689","v":" "},null,null,null,{"$f":"'LV 4'!D689","v":" "}]
[{"$f":"'LV 4'!A690","v":" "},{"$f":"'LV 4'!C690","v":" "},null,null,null,{"$f":"'LV 4'!D690","v":" "}]
[{"$f":"'LV 4'!A691","v":" "},{"$f":"'LV 4'!C691","v":" "},null,null,null,{"$f":"'LV 4'!D691","v":" "}]
[{"$f":"'LV 4'!A692","v":" "},{"$f":"'LV 4'!C692","v":" "},null,null,null,{"$f":"'LV 4'!D692","v":" "}]
[{"$f":"'LV 4'!A693","v":" "},{"$f":"'LV 4'!C693","v":" "},null,null,null,{"$f":"'LV 4'!D693","v":" "}]
[{"$f":"'LV 4'!A694","v":" "},{"$f":"'LV 4'!C694","v":" "},null,null,null,{"$f":"'LV 4'!D694","v":" "}]
[{"$f":"'LV 4'!A695","v":" "},{"$f":"'LV 4'!C695","v":" "},null,null,null,{"$f":"'LV 4'!D695","v":" "}]
[{"$f":"'LV 4'!A696","v":" "},{"$f":"'LV 4'!C696","v":" "},null,null,null,{"$f":"'LV 4'!D696","v":" "}]
[{"$f":"'LV 4'!A697","v":" "},{"$f":"'LV 4'!C697","v":" "},null,null,null,{"$f":"'LV 4'!D697","v":" "}]
[{"$f":"'LV 4'!A698","v":" "},{"$f":"'LV 4'!C698","v":" "},null,null,null,{"$f":"'LV 4'!D698","v":" "}]
[{"$f":"'LV 4'!A699","v":" "},{"$f":"'LV 4'!C699","v":" "},null,null,null,{"$f":"'LV 4'!D699","v":" "}]
[{"$f":"'LV 4'!A700","v":" "},{"$f":"'LV 4'!C700","v":" "},null,null,null,{"$f":"'LV 4'!D700","v":" "}]
[{"$f":"'LV 4'!A701","v":" "},{"$f":"'LV 4'!C701","v":" "},null,null,null,{"$f":"'LV 4'!D701","v":" "}]
[{"$f":"'LV 4'!A702","v":" "},{"$f":"'LV 4'!C702","v":" "},null,null,null,{"$f":"'LV 4'!D702","v":" "}]
[{"$f":"'LV 4'!A703","v":" "},{"$f":"'LV 4'!C703","v":" "},null,null,null,{"$f":"'LV 4'!D703","v":" "}]
[{"$f":"'LV 4'!A704","v":" "},{"$f":"'LV 4'!C704","v":" "},null,null,null,{"$f":"'LV 4'!D704","v":" "}]
[{"$f":"'LV 4'!A705","v":" "},{"$f":"'LV 4'!C705","v":" "},null,null,null,{"$f":"'LV 4'!D705","v":" "}]
[{"$f":"'LV 4'!A706","v":" "},{"$f":"'LV 4'!C706","v":" "},null,null,null,{"$f":"'LV 4'!D706","v":" "}]
[{"$f":"'LV 4'!A707","v":" "},{"$f":"'LV 4'!C707","v":" "},null,null,null,{"$f":"'LV 4'!D707","v":" "}]
[{"$f":"'LV 4'!A708","v":" "},{"$f":"'LV 4'!C708","v":" "},null,null,null,{"$f":"'LV 4'!D708","v":" "}]
[{"$f":"'LV 4'!A709","v":" "},{"$f":"'LV 4'!C709","v":" "},null,null,null,{"$f":"'LV 4'!D709","v":" "}]
[{"$f":"'LV 4'!A710","v":" "},{"$f":"'LV 4'!C710","v":" "},null,null,null,{"$f":"'LV 4'!D710","v":" "}]
[{"$f":"'LV 4'!A711","v":" "},{"$f":"'LV 4'!C711","v":" "},null,null,null,{"$f":"'LV 4'!D711","v":" "}]
[{"$f":"'LV 4'!A712","v":" "},{"$f":"'LV 4'!C712","v":" "},null,null,null,{"$f":"'LV 4'!D712","v":" "}]
[{"$f":"'LV 4'!A713","v":" "},{"$f":"'LV 4'!C713","v":" "},null,null,null,{"$f":"'LV 4'!D713","v":" "}]
[{"$f":"'LV 4'!A714","v":" "},{"$f":"'LV 4'!C714","v":" "},null,null,null,{"$f":"'LV 4'!D714","v":" "}]
[{"$f":"'LV 4'!A715","v":" "},{"$f":"'LV 4'!C715","v":" "},null,null,null,{"$f":"'LV 4'!D715","v":" "}]
[{"$f":"'LV 4'!A716","v":" "},{"$f":"'LV 4'!C716","v":" "},null,null,null,{"$f":"'LV 4'!D716","v":" "}]
[{"$f":"'LV 4'!A717","v":" "},{"$f":"'LV 4'!C717","v":" "},null,null,null,{"$f":"'LV 4'!D717","v":" "}]
[{"$f":"'LV 4'!A718","v":" "},{"$f":"'LV 4'!C718","v":" "},null,null,null,{"$f":"'LV 4'!D718","v":" "}]
[{"$f":"'LV 4'!A719","v":" "},{"$f":"'LV 4'!C719","v":" "},null,null,null,{"$f":"'LV 4'!D719","v":" "}]
[{"$f":"'LV 4'!A720","v":" "},{"$f":"'LV 4'!C720","v":" "},null,null,null,{"$f":"'LV 4'!D720","v":" "}]
[{"$f":"'LV 4'!A721","v":" "},{"$f":"'LV 4'!C721","v":" "},null,null,null,{"$f":"'LV 4'!D721","v":" "}]
[{"$f":"'LV 4'!A722","v":" "},{"$f":"'LV 4'!C722","v":" "},null,null,null,{"$f":"'LV 4'!D722","v":" "}]
[{"$f":"'LV 4'!A723","v":" "},{"$f":"'LV 4'!C723","v":" "},null,null,null,{"$f":"'LV 4'!D723","v":" "}]
[{"$f":"'LV 4'!A724","v":" "},{"$f":"'LV 4'!C724","v":" "},null,null,null,{"$f":"'LV 4'!D724","v":" "}]
[{"$f":"'LV 4'!A725","v":" "},{"$f":"'LV 4'!C725","v":" "},null,null,null,{"$f":"'LV 4'!D725","v":" "}]
[{"$f":"'LV 4'!A726","v":" "},{"$f":"'LV 4'!C726","v":" "},null,null,null,{"$f":"'LV 4'!D726","v":" "}]
[{"$f":"'LV 4'!A727","v":" "},{"$f":"'LV 4'!C727","v":" "},null,null,null,{"$f":"'LV 4'!D727","v":" "}]
[{"$f":"'LV 4'!A728","v":" "},{"$f":"'LV 4'!C728","v":" "},null,null,null,{"$f":"'LV 4'!D728","v":" "}]
[{"$f":"'LV 4'!A729","v":" "},{"$f":"'LV 4'!C729","v":" "},null,null,null,{"$f":"'LV 4'!D729","v":" "}]
[{"$f":"'LV 4'!A730","v":" "},{"$f":"'LV 4'!C730","v":" "},null,null,null,{"$f":"'LV 4'!D730","v":" "}]
[{"$f":"'LV 4'!A731","v":" "},{"$f":"'LV 4'!C731","v":" "},null,null,null,{"$f":"'LV 4'!D731","v":" "}]
[{"$f":"'LV 4'!A732","v":" "},{"$f":"'LV 4'!C732","v":" "},null,null,null,{"$f":"'LV 4'!D732","v":" "}]
[{"$f":"'LV 4'!A733","v":" "},{"$f":"'LV 4'!C733","v":" "},null,null,null,{"$f":"'LV 4'!D733","v":" "}]
[{"$f":"'LV 4'!A734","v":" "},{"$f":"'LV 4'!C734","v":" "},null,null,null,{"$f":"'LV 4'!D734","v":" "}]
[{"$f":"'LV 4'!A735","v":" "},{"$f":"'LV 4'!C735","v":" "},null,null,null,{"$f":"'LV 4'!D735","v":" "}]
[{"$f":"'LV 4'!A736","v":" "},{"$f":"'LV 4'!C736","v":" "},null,null,null,{"$f":"'LV 4'!D736","v":" "}]
[{"$f":"'LV 4'!A737","v":" "},{"$f":"'LV 4'!C737","v":" "},null,null,null,{"$f":"'LV 4'!D737","v":" "}]
[{"$f":"'LV 4'!A738","v":" "},{"$f":"'LV 4'!C738","v":" "},null,null,null,{"$f":"'LV 4'!D738","v":" "}]
[{"$f":"'LV 4'!A739","v":" "},{"$f":"'LV 4'!C739","v":" "},null,null,null,{"$f":"'LV 4'!D739","v":" "}]
[{"$f":"'LV 4'!A740","v":" "},{"$f":"'LV 4'!C740","v":" "},null,null,null,{"$f":"'LV 4'!D740","v":" "}]
[{"$f":"'LV 4'!A741","v":" "},{"$f":"'LV 4'!C741","v":" "},null,null,null,{"$f":"'LV 4'!D741","v":" "}]
[{"$f":"'LV 4'!A742","v":" "},{"$f":"'LV 4'!C742","v":" "},null,null,null,{"$f":"'LV 4'!D742","v":" "}]
[{"$f":"'LV 4'!A743","v":" "},{"$f":"'LV 4'!C743","v":" "},null,null,null,{"$f":"'LV 4'!D743","v":" "}]
[{"$f":"'LV 4'!A744","v":" "},{"$f":"'LV 4'!C744","v":" "},null,null,null,{"$f":"'LV 4'!D744","v":" "}]
[{"$f":"'LV 4'!A745","v":" "},{"$f":"'LV 4'!C745","v":" "},null,null,null,{"$f":"'LV 4'!D745","v":" "}]
[{"$f":"'LV 4'!A746","v":" "},{"$f":"'LV 4'!C746","v":" "},null,null,null,{"$f":"'LV 4'!D746","v":" "}]
[{"$f":"'LV 4'!A747","v":" "},{"$f":"'LV 4'!C747","v":" "},null,null,null,{"$f":"'LV 4'!D747","v":" "}]
[{"$f":"'LV 4'!A748","v":" "},{"$f":"'LV 4'!C748","v":" "},null,null,null,{"$f":"'LV 4'!D748","v":" "}]
[{"$f":"'LV 4'!A749","v":" "},{"$f":"'LV 4'!C749","v":" "},null,null,null,{"$f":"'LV 4'!D749","v":" "}]